From mboxrd@z Thu Jan 1 00:00:00 1970 Return-Path: Received: from mails.dpdk.org (mails.dpdk.org [217.70.189.124]) by inbox.dpdk.org (Postfix) with ESMTP id B48B946B2A for ; Tue, 8 Jul 2025 17:55:07 +0200 (CEST) Received: from mails.dpdk.org (localhost [127.0.0.1]) by mails.dpdk.org (Postfix) with ESMTP id 8E31B4025E; Tue, 8 Jul 2025 17:55:07 +0200 (CEST) Received: from mail-yw1-f228.google.com (mail-yw1-f228.google.com [209.85.128.228]) by mails.dpdk.org (Postfix) with ESMTP id C57E54025E for ; Tue, 8 Jul 2025 17:55:06 +0200 (CEST) Received: by mail-yw1-f228.google.com with SMTP id 00721157ae682-71173646662so41424207b3.2 for ; Tue, 08 Jul 2025 08:55:06 -0700 (PDT) DKIM-Signature: v=1; a=rsa-sha256; c=relaxed/relaxed; d=iol.unh.edu; s=unh-iol; t=1751990106; x=1752594906; darn=dpdk.org; h=references:in-reply-to:cc:to:from:subject:message-id:date:from:to :cc:subject:date:message-id:reply-to; bh=oMrjsekpt7uC5T21MIbUOTpU1W+qUjjjiQ+neammJB4=; b=Zqec5jF3FwsWYsMJhrEAtLIB7SUaeXQmP3+PVoHt5Ob2jegDGIcrKXnXOHa9toQotc FVvLZSkYw0vNel5/3ssk+MWZf9p9nMXPePWOZ5gGViWgKlgl/Hk/64Cy5JNDdWsTrx8Q H6nMNo9RDWckzaV6P0F7TJ35IPNM4zUBY44hk= X-Google-DKIM-Signature: v=1; a=rsa-sha256; c=relaxed/relaxed; d=1e100.net; s=20230601; t=1751990106; x=1752594906; h=references:in-reply-to:cc:to:from:subject:message-id:date :x-gm-message-state:from:to:cc:subject:date:message-id:reply-to; bh=oMrjsekpt7uC5T21MIbUOTpU1W+qUjjjiQ+neammJB4=; b=F0PEpa6BN6FZp4jOgMH8DHF4Mo6lJ1sokVngWX5ZSerxXixe7iWUV0gpOP9i+KPQtI 86bXbMG2YWJhMc9TAfxnDXXIInn/fbtob/RnEMiOmcIWN9z9sq55XliDMsF6rAwjf+Mc ovJYx41vswqjLElih9XP4vV3J577CvJ7gjyEdW63QnGQkTsoANAbxT/PDTmOL7g1fsJw OBHU31BdvD4/Jx6Z/QQMg9Y4AwQ2CK8r+tvk1kgJ3Q/6LJxLtTJED1ncn04rZfUp2Y5A hMm4Ui1x5NDl5ryEy2o92Ydq9N+tR7yDZHn5iDVjYLEg81V2FLJnw4GM09kZ3EHaHN72 YNug== X-Gm-Message-State: AOJu0YwFni+melOyhADDERTO+1V0t+NHVjfKWLJnZAq0eBkeFnkBscH4 JljTFEqrYQkqElGJpCO6eNq/L19G4XySzs2oTfjaHmCeS4wtdrBNWVX6Ux1JELjEepViGYMmAx2 YvoKz9efo5JdCtjqlvYr00EHp5Rh2t7u3ncoeL0SNYoXAJ/8ekT0qcpDWZ8os X-Gm-Gg: ASbGnctxI/RNqOAtymM6rJMkz6PiHO/Djh/6eW3bHJbTuy2nfZgKNNAPlqlrbfMSdor mTxbNVs0zKGsMppUoRogosDz2te4lkVlhSFzM1yu3A+ar3Dh2eYCSzuN4t4H3rtCzLmHSA1l4TN 00fTJNc2x6+E1iwy6B37mk9Ps1+GomSB7FQj40rIUy2MdVosuebuuXRldQMZhoIKqMkvGjTDGy7 OLI0noLmrBh1R3gx1eWFDECQy+KPWkWMixHaT4BRYbWmC41Sm3zuPb405CVCHtuWclkdpkdgi3C KvCPBzIhcZiCCBvtcVJJF8TN35juyksKbLCS7ulqJobVwEM= X-Google-Smtp-Source: AGHT+IG4uR375IyCLIikV7LgBsXRyzhd/fIGmkrZOhYUtaHKEmSqGg1pJZMkK5ZVXZMpeulWx0zVlgDnK8vj X-Received: by 2002:a05:690c:1b:b0:70e:29af:844a with SMTP id 00721157ae682-71668dedb10mr224177037b3.18.1751990105837; Tue, 08 Jul 2025 08:55:05 -0700 (PDT) Received: from postal.iol.unh.edu (postal.iol.unh.edu. [2606:4100:3880:1234::84]) by smtp-relay.gmail.com with ESMTPS id 00721157ae682-716659cfc20sm2286497b3.17.2025.07.08.08.55.05 (version=TLS1_2 cipher=ECDHE-ECDSA-AES128-GCM-SHA256 bits=128/128); Tue, 08 Jul 2025 08:55:05 -0700 (PDT) X-Relaying-Domain: iol.unh.edu Date: Tue, 08 Jul 2025 08:55:05 -0700 (PDT) Message-ID: <686d3f59.050a0220.12eb5a.bba7SMTPIN_ADDED_MISSING@mx.google.com> Received: from [172.21.0.6] (unknown [172.18.0.240]) by postal.iol.unh.edu (Postfix) with ESMTP id 802646050A61; Tue, 8 Jul 2025 11:55:05 -0400 (EDT) Subject: |SUCCESS| pw155076 [PATCH] app/testpmd: fix set cores list string si From: dpdklab@iol.unh.edu To: Test Report Cc: dpdk-test-reports@iol.unh.edu In-Reply-To: <20250708125159.2457578-1-huangdengdui@huawei.com> References: <20250708125159.2457578-1-huangdengdui@huawei.com> Content-Type: text/plain X-BeenThere: test-report@dpdk.org X-Mailman-Version: 2.1.29 Precedence: list List-Id: automatic DPDK test reports List-Unsubscribe: , List-Archive: List-Post: List-Help: List-Subscribe: , Errors-To: test-report-bounces@dpdk.org Test-Label: iol-unit-amd64-testing Test-Status: SUCCESS http://dpdk.org/patch/155076 _Testing PASS_ Submitter: Dengdui Huang Date: Tuesday, July 08 2025 12:51:59 DPDK git baseline: Repo:dpdk Branch: master CommitID:ba982f9a1ca9b96ed0394b764f1523d482e963a2 155076 --> testing pass Upstream job id: Generic-Unit-Test-DPDK#353598 Test environment and result as below: +-------------------------------+----------------+ | Environment | dpdk_unit_test | +===============================+================+ | CentOS Stream 9 | PASS | +-------------------------------+----------------+ | CentOS Stream 10 | PASS | +-------------------------------+----------------+ | Fedora Linux 41 | PASS | +-------------------------------+----------------+ | Debian GNU/Linux 12 | PASS | +-------------------------------+----------------+ | Fedora Linux 40 | PASS | +-------------------------------+----------------+ | Red Hat Enterprise Linux 8.10 | PASS | +-------------------------------+----------------+ | Ubuntu 20.04 | PASS | +-------------------------------+----------------+ | Red Hat Enterprise Linux 9.5 | PASS | +-------------------------------+----------------+ | Ubuntu 24.04 | PASS | +-------------------------------+----------------+ | Ubuntu 22.04 | PASS | +-------------------------------+----------------+ CentOS Stream 9 Kernel: 5.15 Compiler: gcc gcc (GCC) 11.5.0 20240719 (Red Hat 11.5.0-7) CentOS Stream 10 Kernel: 5.15 Compiler: gcc gcc (GCC) 14.2.1 20250110 (Red Hat 14.2.1-8) Fedora Linux 41 Kernel: 5.15 Compiler: clang gcc (GCC) 14.3.1 20250523 (Red Hat 14.3.1-1) Debian GNU/Linux 12 Kernel: 5.15 Compiler: gcc gcc (Debian 12.2.0-14+deb12u1) 12.2.0 Fedora Linux 40 Kernel: 5.15 Compiler: gcc gcc (GCC) 14.2.1 20240912 (Red Hat 14.2.1-3) Red Hat Enterprise Linux 8.10 Kernel: 5.15 Compiler: gcc gcc (GCC) 8.5.0 20210514 (Red Hat 8.5.0-22) Ubuntu 20.04 Kernel: 5.15 Compiler: gcc gcc (Ubuntu 9.4.0-1ubuntu1~20.04.2) 9.4.0 Red Hat Enterprise Linux 9.5 Kernel: 5.15 Compiler: gcc gcc (GCC) 11.5.0 20240719 (Red Hat 11.5.0-2) Ubuntu 24.04 Kernel: 5.15 Compiler: gcc gcc (Ubuntu 13.3.0-6ubuntu2~24.04) 13.3.0 Ubuntu 22.04 Kernel: 5.15 Compiler: gcc gcc (Ubuntu 11.4.0-1ubuntu1~22.04) 11.4.0 To view detailed results, visit: https://lab.dpdk.org/results/dashboard/patchsets/33613/ UNH-IOL DPDK Community Lab To manage your email subscriptions, visit: https://lab.dpdk.org/results/dashboard/preferences/subscriptions/