From mboxrd@z Thu Jan 1 00:00:00 1970 Return-Path: Received: from mails.dpdk.org (mails.dpdk.org [217.70.189.124]) by inbox.dpdk.org (Postfix) with ESMTP id 9F51746B2B for ; Tue, 8 Jul 2025 18:06:17 +0200 (CEST) Received: from mails.dpdk.org (localhost [127.0.0.1]) by mails.dpdk.org (Postfix) with ESMTP id 9A4E24025E; Tue, 8 Jul 2025 18:06:17 +0200 (CEST) Received: from mail-oa1-f98.google.com (mail-oa1-f98.google.com [209.85.160.98]) by mails.dpdk.org (Postfix) with ESMTP id 81FCA4025E for ; Tue, 8 Jul 2025 18:06:16 +0200 (CEST) Received: by mail-oa1-f98.google.com with SMTP id 586e51a60fabf-2eacb421554so1401860fac.1 for ; Tue, 08 Jul 2025 09:06:16 -0700 (PDT) DKIM-Signature: v=1; a=rsa-sha256; c=relaxed/relaxed; d=iol.unh.edu; s=unh-iol; t=1751990776; x=1752595576; darn=dpdk.org; h=references:in-reply-to:cc:to:from:subject:message-id:date:from:to :cc:subject:date:message-id:reply-to; bh=v7rRWhRbD0swGiXaasV38294XPPfEFt4SEvSe4CnEgU=; b=eSH/cVYKCYoIZu3qw/nEQm7gUSAMLX8u2Svo+Rkw2m22VgqbNXdRueyd+UlTJmQkhI CfC7akLg6wO1MYc1g0DJgKDxL4ud6duMkp9kDTg2GKUxMT2H1WRnX6wzcpDk4MmLsdYB fGmloGHxIekSxNA68dQJe9P77a2lD6VkcfAcQ= X-Google-DKIM-Signature: v=1; a=rsa-sha256; c=relaxed/relaxed; d=1e100.net; s=20230601; t=1751990776; x=1752595576; h=references:in-reply-to:cc:to:from:subject:message-id:date :x-gm-message-state:from:to:cc:subject:date:message-id:reply-to; bh=v7rRWhRbD0swGiXaasV38294XPPfEFt4SEvSe4CnEgU=; b=mngiDBSDqJnfMYEmTisAFeTZeJDinvSvwVCFrCL2G9Bbd6VahaGF4Xexk5zqQgwHYS EIvJkP6nYGF3h9OWP7J76jB5JiEGxmOfP0PdTBUvH+RAM5mPMyksnGnLhsZnKvxE4RdZ b552pgk+NyFbGMcPI1MfxP1k4osVjJbWcJyryMf4FXvsMtXgkFoqUIphFORNMHbrVkT2 J4UnKQP6prtxreeGAdXlq16U9sOL1glZBQYQ7Ge5IxLSdUDR6b9lcyTz48dVwprFMC0T RF81RUQet8FeHXmOVswY/MtCf1gR5uQPPB+3+YdwqDLBuztgWo+Kj2u+MbqjecCI92R/ 627w== X-Gm-Message-State: AOJu0YyyTLDDxWNb+G9vkqRRDWCJMgKwPVMvv0h7uKwUsKYT1OwmrN03 TbpYfC5A6zmH1hC+yex60pFu1EE4SlPwEXhepMEEPj9CdAu25OAWl1fzOY1VY7sqNgrjtWJLa0C 06WkDm4QeE19D1m7HW1EVeQ7U+XsjRNOWCYc4hligdYT3 X-Gm-Gg: ASbGnctYXW0vZd4zpMqgS4l6SZhHNLbYiINJ3XnYJm9AoC6pakHHL5nprrnfmk/X6MO GYTMA6M7sxGv+ZGr6zkXgx/QhpsoHgCr9hraDevhScZQEgCt7Vmohp9x/WZnU2TihaFg495TkNG btbr64aGxrxLi6c7GlJ6n/TknM+CZ2m1wZfzg3lSAlTLwRA+akXaZLiDF7fWGxOEZyhd8hhcvtG 3KKvCd9chQxowLSFiCp5/y0pULMh2EnEDr7DtrtrnSROXL787QWoMBZR3kMxzAcp+KyOpiSrJAr LeMGG/qpcodnB7EAa2IR9a7nYEgHoLJXmPqYg+tOAIaDNTvUyW2iKYiwY/nQkIYrzg6i5A== X-Google-Smtp-Source: AGHT+IEOvMLKjt5nBqe1KXhbtLeHkJCqb5KSf9g1fgeUrOd2L8reQFIUEclohNMsp3E0zUkwBrIgUeRt1dtG X-Received: by 2002:a05:6870:e249:b0:2d5:1725:f529 with SMTP id 586e51a60fabf-2f79200c1e2mr13761575fac.27.1751990775524; Tue, 08 Jul 2025 09:06:15 -0700 (PDT) Received: from postal.iol.unh.edu (postal.iol.unh.edu. [132.177.123.84]) by smtp-relay.gmail.com with ESMTPS id 586e51a60fabf-2f79012674fsm667366fac.36.2025.07.08.09.06.15 (version=TLS1_2 cipher=ECDHE-ECDSA-AES128-GCM-SHA256 bits=128/128); Tue, 08 Jul 2025 09:06:15 -0700 (PDT) X-Relaying-Domain: iol.unh.edu Date: Tue, 08 Jul 2025 09:06:15 -0700 (PDT) Message-ID: <686d41f7.050a0220.118070.3570SMTPIN_ADDED_MISSING@mx.google.com> Received: from [172.21.0.5] (unknown [172.18.0.240]) by postal.iol.unh.edu (Postfix) with ESMTP id 001DE604D420; Tue, 8 Jul 2025 12:06:14 -0400 (EDT) Subject: |WARNING| pw155058-155075 [PATCH] [v3,18/18] ci: extend coverage wit From: dpdklab@iol.unh.edu To: Test Report Cc: dpdk-test-reports@iol.unh.edu In-Reply-To: <20250708122823.3406288-19-david.marchand@redhat.com> References: <20250708122823.3406288-19-david.marchand@redhat.com> Content-Type: text/plain X-BeenThere: test-report@dpdk.org X-Mailman-Version: 2.1.29 Precedence: list List-Id: automatic DPDK test reports List-Unsubscribe: , List-Archive: List-Post: List-Help: List-Subscribe: , Errors-To: test-report-bounces@dpdk.org Test-Label: iol-compile-amd64-testing Test-Status: WARNING http://dpdk.org/patch/155075 _Testing issues_ Submitter: David Marchand Date: Tuesday, July 08 2025 12:28:22 DPDK git baseline: Repo:dpdk Branch: master CommitID:a0000859ffbaaaf90bbb9c0f2f5bb7a3d4f5bc9f 155058-155075 --> testing issues Upstream job id: Generic-DPDK-Compile-Meson#406552 Test environment and result as below: +-------------------------------+--------------------+-------------------+------------------+-------------------------+-------------------+----------------------+ | Environment | dpdk_meson_compile | dpdk_compile_spdk | dpdk_compile_ovs | dpdk_llvm_clang_compile | dpdk_msvc_compile | dpdk_mingw64_compile | +===============================+====================+===================+==================+=========================+===================+======================+ | CentOS Stream 9 | PASS | PASS | SKIPPED | SKIPPED | SKIPPED | SKIPPED | +-------------------------------+--------------------+-------------------+------------------+-------------------------+-------------------+----------------------+ | Fedora Linux 40 | PASS | PASS | SKIPPED | SKIPPED | SKIPPED | SKIPPED | +-------------------------------+--------------------+-------------------+------------------+-------------------------+-------------------+----------------------+ | Debian GNU/Linux 12 | PASS | PASS | SKIPPED | SKIPPED | SKIPPED | SKIPPED | +-------------------------------+--------------------+-------------------+------------------+-------------------------+-------------------+----------------------+ | Fedora Linux 41 | PASS | PASS | PASS | SKIPPED | SKIPPED | SKIPPED | +-------------------------------+--------------------+-------------------+------------------+-------------------------+-------------------+----------------------+ | Red Hat Enterprise Linux 8.10 | PASS | SKIPPED | SKIPPED | SKIPPED | SKIPPED | SKIPPED | +-------------------------------+--------------------+-------------------+------------------+-------------------------+-------------------+----------------------+ | openSUSE Leap 15.6 | PASS | SKIPPED | SKIPPED | SKIPPED | SKIPPED | SKIPPED | +-------------------------------+--------------------+-------------------+------------------+-------------------------+-------------------+----------------------+ | Red Hat Enterprise Linux 9.5 | PASS | SKIPPED | SKIPPED | SKIPPED | SKIPPED | SKIPPED | +-------------------------------+--------------------+-------------------+------------------+-------------------------+-------------------+----------------------+ | Ubuntu 20.04 | PASS | SKIPPED | SKIPPED | SKIPPED | SKIPPED | SKIPPED | +-------------------------------+--------------------+-------------------+------------------+-------------------------+-------------------+----------------------+ | Ubuntu 24.04 | PASS | PASS | PASS | SKIPPED | SKIPPED | SKIPPED | +-------------------------------+--------------------+-------------------+------------------+-------------------------+-------------------+----------------------+ | Ubuntu 22.04 | PASS | PASS | SKIPPED | SKIPPED | SKIPPED | SKIPPED | +-------------------------------+--------------------+-------------------+------------------+-------------------------+-------------------+----------------------+ | Alpine Linux 3.22.0 | PASS | SKIPPED | SKIPPED | SKIPPED | SKIPPED | SKIPPED | +-------------------------------+--------------------+-------------------+------------------+-------------------------+-------------------+----------------------+ | CentOS Stream 10 | PASS | SKIPPED | SKIPPED | SKIPPED | SKIPPED | SKIPPED | +-------------------------------+--------------------+-------------------+------------------+-------------------------+-------------------+----------------------+ | Windows Server 2022 | SKIPPED | SKIPPED | SKIPPED | PASS | PASS | PASS | +-------------------------------+--------------------+-------------------+------------------+-------------------------+-------------------+----------------------+ CentOS Stream 9 Kernel: 5.15 Compiler: gcc gcc (GCC) 11.5.0 20240719 (Red Hat 11.5.0-7) Fedora Linux 40 Kernel: 5.15 Compiler: clang gcc (GCC) 14.2.1 20240912 (Red Hat 14.2.1-3) Debian GNU/Linux 12 Kernel: 5.15 Compiler: gcc gcc (Debian 12.2.0-14+deb12u1) 12.2.0 Fedora Linux 41 Kernel: 5.15 Compiler: clang gcc (GCC) 14.3.1 20250523 (Red Hat 14.3.1-1) Red Hat Enterprise Linux 8.10 Kernel: 5.15 Compiler: gcc gcc (GCC) 8.5.0 20210514 (Red Hat 8.5.0-22) openSUSE Leap 15.6 Kernel: 5.15 Compiler: gcc gcc (SUSE Linux) 7.5.0 Red Hat Enterprise Linux 9.5 Kernel: 5.15 Compiler: gcc gcc (GCC) 11.5.0 20240719 (Red Hat 11.5.0-2) Ubuntu 20.04 Kernel: 5.15 Compiler: gcc gcc (Ubuntu 9.4.0-1ubuntu1~20.04.2) 9.4.0 Ubuntu 24.04 Kernel: 5.15 Compiler: gcc gcc (Ubuntu 13.3.0-6ubuntu2~24.04) 13.3.0 Ubuntu 22.04 Kernel: 5.15 Compiler: gcc gcc (Ubuntu 11.4.0-1ubuntu1~22.04) 11.4.0 Alpine Linux 3.22.0 Kernel: 5.15 Compiler: gcc gcc (Alpine 14.2.0) 14.2.0 CentOS Stream 10 Kernel: 5.15 Compiler: gcc gcc (GCC) 14.2.1 20250110 (Red Hat 14.2.1-8) Windows Server 2022 Kernel: 10.0.20348.2031 Compiler: clang 15.0.7, gcc 14.1.0 (MinGW), and MSVC VS 19.39.33521 To view detailed results, visit: https://lab.dpdk.org/results/dashboard/patchsets/33612/ UNH-IOL DPDK Community Lab To manage your email subscriptions, visit: https://lab.dpdk.org/results/dashboard/preferences/subscriptions/