From mboxrd@z Thu Jan 1 00:00:00 1970 Return-Path: Received: from mails.dpdk.org (mails.dpdk.org [217.70.189.124]) by inbox.dpdk.org (Postfix) with ESMTP id AE98946B2B for ; Tue, 8 Jul 2025 18:30:07 +0200 (CEST) Received: from mails.dpdk.org (localhost [127.0.0.1]) by mails.dpdk.org (Postfix) with ESMTP id 860544025E; Tue, 8 Jul 2025 18:30:07 +0200 (CEST) Received: from mail-io1-f97.google.com (mail-io1-f97.google.com [209.85.166.97]) by mails.dpdk.org (Postfix) with ESMTP id 3FD184025E for ; Tue, 8 Jul 2025 18:30:06 +0200 (CEST) Received: by mail-io1-f97.google.com with SMTP id ca18e2360f4ac-86efcef9194so163521739f.0 for ; Tue, 08 Jul 2025 09:30:06 -0700 (PDT) DKIM-Signature: v=1; a=rsa-sha256; c=relaxed/relaxed; d=iol.unh.edu; s=unh-iol; t=1751992205; x=1752597005; darn=dpdk.org; h=references:in-reply-to:cc:to:from:subject:message-id:date:from:to :cc:subject:date:message-id:reply-to; bh=75cYxigzrz8hiED+R2M91RldQ2jIfEzP4y5LrkY+dlQ=; b=ZtJ1QMQdCwfWu0SaQRz8qLUZD3Q0tFugzQz+e5WUbp/uXuBMjTGEV+npZ9ryfQocMF Aaw+Ckv3fmdFTM3uSI4G2cq5Cx9ejzY4Uw2O/6xoeKylULn6hvjdX9xX0JqdVtURwY/4 ubTPwerHCTTR+w2DjZZpxxsamCADLuo8uscTo= X-Google-DKIM-Signature: v=1; a=rsa-sha256; c=relaxed/relaxed; d=1e100.net; s=20230601; t=1751992205; x=1752597005; h=references:in-reply-to:cc:to:from:subject:message-id:date :x-gm-message-state:from:to:cc:subject:date:message-id:reply-to; bh=75cYxigzrz8hiED+R2M91RldQ2jIfEzP4y5LrkY+dlQ=; b=QLynGNRgT9RtRNpaOqGDjHqCzmU+Hi4d0z5VBbsQu8aQjslwqqu+GCVYBuW7ZBIX/c tl78OiSAF98DIwNj+yl4Na1ExWF1d1XjBCx80arrvF8GGJpvrVqscGNIOssHYkpOA87r KDVQgO62mPZsiLRkvLiuDyyER9BRHaL0v2YkU0SCG1830NojZs9gkgXr6utm9UHBOS/7 sPgXvzcAQqyywu1G/MKiNDMykz0NNTejKH2+CDyYzoXfoNXNvODUkwseBWFRnomLVI8S 3wSDd1fMXHZ9hGvaUeKEXW2QbFjDwfyyj0GUXyuziuyDJcA5azmKqkvXV55u+WTq0NWw +9wg== X-Gm-Message-State: AOJu0YztgbzXQdMXcfPpchhuzjBAV0UxGigizWIBo8iqPDbIlzA0nrgz EWOFDarLPL63f+R6dT96Ts3DeRU3RZHeo20CCx1F9ThH+vih4z2cqFi8dlVv47mkxO/zT+JqopZ 3wNFDlnkvrD6b6jsdKMSxNaW+4F9exOrjn/jgdYSgZFOv X-Gm-Gg: ASbGncsYDkKMsLCLMHCSn9ZKd8+ELlEKjRc+vU/EHEVLO4Jnqn01KzVG/vkXa94SYLY BDcgAfqqc0wd8+G4BEs5bDp8OwmB2Vpwb1K8Cuu78Kalonqn2tIJ99urcHNyWRrv4lLPnNV7d3v 3Q9uWDVLDzbul+KFHkSLXuint33kYnyJLTaLNC6igGpCW/taoxkJWGSX7Rqzkf+tYOOcnxnjk8y fczD/xATBCDUu/eMC5VANi9ufGVZndei6qjitIS31WQ9qnlb6ZwDB99JfEgxDmTyelVwNuTlCTU j7y3Cmt15DLArKSGO3Hmd6u8N7DYlFgyZDQJMF+z0umDw0wkdynvCUcWkR8iGBmVDtuMNQ== X-Google-Smtp-Source: AGHT+IHbFALllFHc51tiHjDqkucSpMIRZHfoiof0/PIAna5okPYknUpJNXveDf9Qj24MBqN/ID2flwqXKi0Y X-Received: by 2002:a05:6e02:3808:b0:3de:11e3:8d38 with SMTP id e9e14a558f8ab-3e153ac728amr53484405ab.22.1751992205424; Tue, 08 Jul 2025 09:30:05 -0700 (PDT) Received: from postal.iol.unh.edu (postal.iol.unh.edu. [132.177.123.84]) by smtp-relay.gmail.com with ESMTPS id e9e14a558f8ab-3e1004a5a84sm6266275ab.57.2025.07.08.09.30.05 (version=TLS1_2 cipher=ECDHE-ECDSA-AES128-GCM-SHA256 bits=128/128); Tue, 08 Jul 2025 09:30:05 -0700 (PDT) X-Relaying-Domain: iol.unh.edu Date: Tue, 08 Jul 2025 09:30:05 -0700 (PDT) Message-ID: <686d478d.050a0220.e0ee.febeSMTPIN_ADDED_MISSING@mx.google.com> Received: from [172.21.0.5] (unknown [172.18.0.240]) by postal.iol.unh.edu (Postfix) with ESMTP id EACBB6050A61; Tue, 8 Jul 2025 12:30:04 -0400 (EDT) Subject: |SUCCESS| pw155076 [PATCH] app/testpmd: fix set cores list string si From: dpdklab@iol.unh.edu To: Test Report Cc: dpdk-test-reports@iol.unh.edu In-Reply-To: <20250708125159.2457578-1-huangdengdui@huawei.com> References: <20250708125159.2457578-1-huangdengdui@huawei.com> Content-Type: text/plain X-BeenThere: test-report@dpdk.org X-Mailman-Version: 2.1.29 Precedence: list List-Id: automatic DPDK test reports List-Unsubscribe: , List-Archive: List-Post: List-Help: List-Subscribe: , Errors-To: test-report-bounces@dpdk.org Test-Label: iol-abi-testing Test-Status: SUCCESS http://dpdk.org/patch/155076 _Testing PASS_ Submitter: Dengdui Huang Date: Tuesday, July 08 2025 12:51:59 DPDK git baseline: Repo:dpdk Branch: master CommitID:ba982f9a1ca9b96ed0394b764f1523d482e963a2 155076 --> testing pass Upstream job id: Generic-DPDK-Compile-ABI#133505 Test environment and result as below: +-------------------------------+----------+ | Environment | abi_test | +===============================+==========+ | CentOS Stream 9 | PASS | +-------------------------------+----------+ | Fedora Linux 40 | PASS | +-------------------------------+----------+ | Debian GNU/Linux 12 | PASS | +-------------------------------+----------+ | Fedora Linux 41 | PASS | +-------------------------------+----------+ | openSUSE Leap 15.6 | PASS | +-------------------------------+----------+ | Red Hat Enterprise Linux 8.10 | PASS | +-------------------------------+----------+ | Red Hat Enterprise Linux 9.5 | PASS | +-------------------------------+----------+ | Ubuntu 22.04 | PASS | +-------------------------------+----------+ | Ubuntu 24.04 | PASS | +-------------------------------+----------+ | CentOS Stream 10 | PASS | +-------------------------------+----------+ CentOS Stream 9 Kernel: 5.15 Compiler: gcc gcc (GCC) 11.5.0 20240719 (Red Hat 11.5.0-7) Fedora Linux 40 Kernel: 5.15 Compiler: gcc gcc (GCC) 14.2.1 20240912 (Red Hat 14.2.1-3) Debian GNU/Linux 12 Kernel: 5.15 Compiler: gcc gcc (Debian 12.2.0-14+deb12u1) 12.2.0 Fedora Linux 41 Kernel: 5.15 Compiler: clang gcc (GCC) 14.3.1 20250523 (Red Hat 14.3.1-1) openSUSE Leap 15.6 Kernel: 5.15 Compiler: gcc gcc (SUSE Linux) 7.5.0 Red Hat Enterprise Linux 8.10 Kernel: 5.15 Compiler: gcc gcc (GCC) 8.5.0 20210514 (Red Hat 8.5.0-22) Red Hat Enterprise Linux 9.5 Kernel: 5.15 Compiler: gcc gcc (GCC) 11.5.0 20240719 (Red Hat 11.5.0-2) Ubuntu 22.04 Kernel: 5.15 Compiler: gcc gcc (Ubuntu 11.4.0-1ubuntu1~22.04) 11.4.0 Ubuntu 24.04 Kernel: 5.15 Compiler: gcc gcc (Ubuntu 13.3.0-6ubuntu2~24.04) 13.3.0 CentOS Stream 10 Kernel: 5.15 Compiler: gcc gcc (GCC) 14.2.1 20250110 (Red Hat 14.2.1-8) To view detailed results, visit: https://lab.dpdk.org/results/dashboard/patchsets/33613/ UNH-IOL DPDK Community Lab To manage your email subscriptions, visit: https://lab.dpdk.org/results/dashboard/preferences/subscriptions/