From mboxrd@z Thu Jan 1 00:00:00 1970 Return-Path: Received: from mails.dpdk.org (mails.dpdk.org [217.70.189.124]) by inbox.dpdk.org (Postfix) with ESMTP id 7F92E46B2B for ; Tue, 8 Jul 2025 18:43:49 +0200 (CEST) Received: from mails.dpdk.org (localhost [127.0.0.1]) by mails.dpdk.org (Postfix) with ESMTP id 659B74025E; Tue, 8 Jul 2025 18:43:49 +0200 (CEST) Received: from mail-oo1-f100.google.com (mail-oo1-f100.google.com [209.85.161.100]) by mails.dpdk.org (Postfix) with ESMTP id 23AD44025E for ; Tue, 8 Jul 2025 18:43:48 +0200 (CEST) Received: by mail-oo1-f100.google.com with SMTP id 006d021491bc7-613b03395d5so1142600eaf.1 for ; Tue, 08 Jul 2025 09:43:48 -0700 (PDT) DKIM-Signature: v=1; a=rsa-sha256; c=relaxed/relaxed; d=iol.unh.edu; s=unh-iol; t=1751993027; x=1752597827; darn=dpdk.org; h=references:in-reply-to:cc:to:from:subject:message-id:date:from:to :cc:subject:date:message-id:reply-to; bh=WFj3z8Po6K7IVOkWM4jDmlXohGg5Bd2PNFKlDQZEDRk=; b=MY4sOZynLk8zTyvwC9lEZrrFIS8r28ee/M/yQNlVu6esKX9n39GAusEG3MaoAROefc uHW9Zdh41DTUsainI+Q/8kXZMdteR2qW7D0aP0GS2EMJYTC0ntN05l07M4DbbB9xl79k +7MYcAtMA8BYePWrQZD35L+wxod1qM7KVBqeI= X-Google-DKIM-Signature: v=1; a=rsa-sha256; c=relaxed/relaxed; d=1e100.net; s=20230601; t=1751993027; x=1752597827; h=references:in-reply-to:cc:to:from:subject:message-id:date :x-gm-message-state:from:to:cc:subject:date:message-id:reply-to; bh=WFj3z8Po6K7IVOkWM4jDmlXohGg5Bd2PNFKlDQZEDRk=; b=CFZ2ltoR6AKzbnLNgjOH41MsGvp5lxNsYOWaHBKBJxkrz7bTjky/kCZwv+zjEKQoHY JSjeetnyEuHXTjRQ5vNEOnZeZXZ8D9Ia/CgFc3OrNKRSRPulfD4jzTK7QApY7RA+LRJn 5CWvhTZRwBcsTOgqR+G7lvmuzdKWJdQgQ+f8pmcAJylP+YXnQsqDuqYvqPL50H3+dL38 YgGF8pJuV7Z3xKbbDwA5Mgt8cHiQGlfPKAOI9ylLM7T9GIs7C5dvsE/+Xjjukc9nmtgv dvIoKBv56ECaLGAuwMe+X5Jl6msXEp7rXD8SMFFs6mZWohCmjgL2OQbiz22cwJaiaJfF PRGQ== X-Gm-Message-State: AOJu0Yx5BAP4QYVWa2pshapFB4dshvf4/SIvcN1UwyDRbGdTgAGdfZ3m ixJMa3+xvs2k6KhWSJZg9Sq4UEpmwsQWHPxkD5Co8O6WAASUoX5jRhvsoin+8my5XLYWLftrFg5 qFwMfRk8kS61TCp6NR4E3Typ5bGlrj8/73pxMQqkTC+3ZBhDjRnPX6qVpFnet X-Gm-Gg: ASbGncs8p6RVVTpIn0HFUIcUa5CJyJLltmSGMnEIMeKL94GJc8TW/1g5z74GeLstjkv lWmGeXj7MWH/IiuYxYnPr8mzA9jo83QC6salxNdtnzNZulSaFTn2Dw2XAQva6k8i4jOVZ5XtRub 46jUty7ZRd2Gi1A/nDNWVDR3W397k9xcjQpuPBomdPuCch6L0VV8XLWkbCq85rA7Jqg3dV+QfJZ qwfqtJ/oGYIGlGGygcj1sOqAPJALWRwNLypGun03qrnVk950WlfMCyzPoh1TVg4E7IC9DZd8bff +6fQGli4lzi2wtxJjV+RE1Mz/8eNSFDFHW48AS+PVgW4x+g= X-Google-Smtp-Source: AGHT+IGh54FcRECO4dwRCUvsiyuuemYIfW4tYAJltOgLONP5e81XEYpJggsUn2sBsv0cD4ommSP9rZ061iFA X-Received: by 2002:a05:6820:6081:b0:613:bd07:3f34 with SMTP id 006d021491bc7-613bd0747demr2692020eaf.0.1751993027287; Tue, 08 Jul 2025 09:43:47 -0700 (PDT) Received: from postal.iol.unh.edu (postal.iol.unh.edu. [2606:4100:3880:1234::84]) by smtp-relay.gmail.com with ESMTPS id 006d021491bc7-6138e5ad936sm363901eaf.22.2025.07.08.09.43.47 (version=TLS1_2 cipher=ECDHE-ECDSA-AES128-GCM-SHA256 bits=128/128); Tue, 08 Jul 2025 09:43:47 -0700 (PDT) X-Relaying-Domain: iol.unh.edu Date: Tue, 08 Jul 2025 09:43:47 -0700 (PDT) Message-ID: <686d4ac3.050a0220.b6a06.3363SMTPIN_ADDED_MISSING@mx.google.com> Received: from [172.21.0.6] (unknown [172.18.0.240]) by postal.iol.unh.edu (Postfix) with ESMTP id A99D16050A61; Tue, 8 Jul 2025 12:43:46 -0400 (EDT) Subject: |SUCCESS| pw155056 [PATCH] [v2] net/mlx5: fix out of order completio From: dpdklab@iol.unh.edu To: Test Report Cc: dpdk-test-reports@iol.unh.edu In-Reply-To: <20250708104641.444172-1-viacheslavo@nvidia.com> References: <20250708104641.444172-1-viacheslavo@nvidia.com> Content-Type: text/plain X-BeenThere: test-report@dpdk.org X-Mailman-Version: 2.1.29 Precedence: list List-Id: automatic DPDK test reports List-Unsubscribe: , List-Archive: List-Post: List-Help: List-Subscribe: , Errors-To: test-report-bounces@dpdk.org Test-Label: iol-abi-testing Test-Status: SUCCESS http://dpdk.org/patch/155056 _Testing PASS_ Submitter: Viacheslav Ovsiienko Date: Tuesday, July 08 2025 10:46:41 DPDK git baseline: Repo:dpdk Branch: master CommitID:e2888614268cbf0abcc7cd72ad97ff4e4901d0a5 155056 --> testing pass Upstream job id: Generic-DPDK-Compile-ABI#133528 Test environment and result as below: +-------------------------------+----------+ | Environment | abi_test | +===============================+==========+ | CentOS Stream 9 | PASS | +-------------------------------+----------+ | Debian GNU/Linux 12 | PASS | +-------------------------------+----------+ | CentOS Stream 10 | PASS | +-------------------------------+----------+ | Fedora Linux 40 | PASS | +-------------------------------+----------+ | Fedora Linux 41 | PASS | +-------------------------------+----------+ | openSUSE Leap 15.6 | PASS | +-------------------------------+----------+ | Ubuntu 22.04 | PASS | +-------------------------------+----------+ | Red Hat Enterprise Linux 9.5 | PASS | +-------------------------------+----------+ | Red Hat Enterprise Linux 8.10 | PASS | +-------------------------------+----------+ | Ubuntu 24.04 | PASS | +-------------------------------+----------+ CentOS Stream 9 Kernel: 5.15 Compiler: gcc gcc (GCC) 11.5.0 20240719 (Red Hat 11.5.0-7) Debian GNU/Linux 12 Kernel: 5.15 Compiler: gcc gcc (Debian 12.2.0-14+deb12u1) 12.2.0 CentOS Stream 10 Kernel: 5.15 Compiler: gcc gcc (GCC) 14.2.1 20250110 (Red Hat 14.2.1-8) Fedora Linux 40 Kernel: 5.15 Compiler: clang gcc (GCC) 14.2.1 20240912 (Red Hat 14.2.1-3) Fedora Linux 41 Kernel: 5.15 Compiler: gcc gcc (GCC) 14.3.1 20250523 (Red Hat 14.3.1-1) openSUSE Leap 15.6 Kernel: 5.15 Compiler: gcc gcc (SUSE Linux) 7.5.0 Ubuntu 22.04 Kernel: 5.15 Compiler: gcc gcc (Ubuntu 11.4.0-1ubuntu1~22.04) 11.4.0 Red Hat Enterprise Linux 9.5 Kernel: 5.15 Compiler: gcc gcc (GCC) 11.5.0 20240719 (Red Hat 11.5.0-2) Red Hat Enterprise Linux 8.10 Kernel: 5.15 Compiler: gcc gcc (GCC) 8.5.0 20210514 (Red Hat 8.5.0-22) Ubuntu 24.04 Kernel: 5.15 Compiler: gcc gcc (Ubuntu 13.3.0-6ubuntu2~24.04) 13.3.0 To view detailed results, visit: https://lab.dpdk.org/results/dashboard/patchsets/33610/ UNH-IOL DPDK Community Lab To manage your email subscriptions, visit: https://lab.dpdk.org/results/dashboard/preferences/subscriptions/