From mboxrd@z Thu Jan 1 00:00:00 1970 Return-Path: Received: from mails.dpdk.org (mails.dpdk.org [217.70.189.124]) by inbox.dpdk.org (Postfix) with ESMTP id B923546B2B for ; Tue, 8 Jul 2025 18:45:44 +0200 (CEST) Received: from mails.dpdk.org (localhost [127.0.0.1]) by mails.dpdk.org (Postfix) with ESMTP id 965824025E; Tue, 8 Jul 2025 18:45:44 +0200 (CEST) Received: from mail-pg1-f225.google.com (mail-pg1-f225.google.com [209.85.215.225]) by mails.dpdk.org (Postfix) with ESMTP id 44A0A4025E for ; Tue, 8 Jul 2025 18:45:43 +0200 (CEST) Received: by mail-pg1-f225.google.com with SMTP id 41be03b00d2f7-b390136ed88so2226651a12.2 for ; Tue, 08 Jul 2025 09:45:43 -0700 (PDT) DKIM-Signature: v=1; a=rsa-sha256; c=relaxed/relaxed; d=iol.unh.edu; s=unh-iol; t=1751993142; x=1752597942; darn=dpdk.org; h=references:in-reply-to:cc:to:from:subject:message-id:date:from:to :cc:subject:date:message-id:reply-to; bh=wMYf7eN04I7KFMp4ESP8Anz0UJ9xpXcvg88iCllo7sc=; b=ZMsI/FDvXm6hMoDD4F08+gorXSX3LI4HuoMsCt0jRAl4qOvb4f78MyoRArCrq+ym5m 9w8vQ97bhBLBSJWVfawV8IrLIKFZSc+jSC3UHC3scNKcGOQPxX/r9oHSMayzMwQRDarl Q+6vur6+mrs6N4KuiEw0gEX21HW9MqV/mHGN4= X-Google-DKIM-Signature: v=1; a=rsa-sha256; c=relaxed/relaxed; d=1e100.net; s=20230601; t=1751993142; x=1752597942; h=references:in-reply-to:cc:to:from:subject:message-id:date :x-gm-message-state:from:to:cc:subject:date:message-id:reply-to; bh=wMYf7eN04I7KFMp4ESP8Anz0UJ9xpXcvg88iCllo7sc=; b=hQrzN6WjyNbtwL2j1fXosF5o0kYKlYjU2h38mJZnYzxn2tNTLen7REqdITsSOimAif NcbtmKWSkNmaBkNG9tH3QOYLElZ7rqnLiKDrz5Og/+K6izKTnlZ507KcLBsN1lNqEJhz ye/oIvYtguZeqcVcAKGd+PgHdnlLf2oaspljwDIM4GoMsJoem7PLW0vCaEI8AtY0SFPO bNYpxw2ghjmBVZ4zS2Ryepg0yPclC8RwdcZ5fKSF0dnAoiVyYcXhfBnits5Jga1jbppe Px2dkQEYehU7BfhWd24q3bBW/km3S/FkrQmrxHzV+dhy9PNOiBh5g5WRLbTBl/AlweBZ y0hg== X-Gm-Message-State: AOJu0YwlKc/XeMjX9RyeI1TM4woYYEiokbxON3lpVwvH5/zIUpWlpK+k o4y2KXEzi9iLQ++2sFtccUVbEgOFBAdKfpy0SxZYDK9U5hdngSKcZKZymillVxJjOTq20/ka6oI TEBy0rJ4yrZOefxtYCjv3g3G1pUIn97B/mBwsxta2Tn3McgmixIqum6qfUr7e X-Gm-Gg: ASbGncvJ7LGoBVS6t1qZPpVyJjrmteqTIHSD/1XTVSmAJP4MaRfxYQ4ifcjTJg1NwVa R1bHhL389JAYFcrMQrXREj2LfQbRPH2MzhGVS7opkdMSOB3ge9yzY5+F3HPFIL8WjQfNOwfLwA7 u6gXyL71NYKv3r0atkrAVG1CkYAuNniI0FAUORcce/1yK+5A8ETh56OUUrHwiTxpemCHrMt6CXb Y/DYAqoAXsScbB/yeFR3fwsdqYY2nkbvUf+uIDyfiVY6nkk5+ql+69BWQyv+T8mpTEODth9N6dF /rGg1Kp59udzfz2RUut6S6j68NGO5joXo9IjbV9Roc03j1o= X-Google-Smtp-Source: AGHT+IHIwfraiudD0B06ICwOnuMT6a9+bcjQvoJPTf6FayDdLJwDdnHR1Yhy1k6+U/Fm06tWgwMcuzSp+rgO X-Received: by 2002:a17:90b:584e:b0:313:283e:e87c with SMTP id 98e67ed59e1d1-31c20ca8f9fmr4856947a91.3.1751993142231; Tue, 08 Jul 2025 09:45:42 -0700 (PDT) Received: from postal.iol.unh.edu (postal.iol.unh.edu. [2606:4100:3880:1234::84]) by smtp-relay.gmail.com with ESMTPS id d9443c01a7336-23c842b59c6sm5139615ad.24.2025.07.08.09.45.42 (version=TLS1_2 cipher=ECDHE-ECDSA-AES128-GCM-SHA256 bits=128/128); Tue, 08 Jul 2025 09:45:42 -0700 (PDT) X-Relaying-Domain: iol.unh.edu Date: Tue, 08 Jul 2025 09:45:42 -0700 (PDT) Message-ID: <686d4b36.170a0220.278657.b72aSMTPIN_ADDED_MISSING@mx.google.com> Received: from [172.21.0.5] (unknown [172.18.0.240]) by postal.iol.unh.edu (Postfix) with ESMTP id 24C3F6050A61; Tue, 8 Jul 2025 12:45:41 -0400 (EDT) Subject: |SUCCESS| pw155076 [PATCH] app/testpmd: fix set cores list string si From: dpdklab@iol.unh.edu To: Test Report Cc: dpdk-test-reports@iol.unh.edu In-Reply-To: <20250708125159.2457578-1-huangdengdui@huawei.com> References: <20250708125159.2457578-1-huangdengdui@huawei.com> Content-Type: text/plain X-BeenThere: test-report@dpdk.org X-Mailman-Version: 2.1.29 Precedence: list List-Id: automatic DPDK test reports List-Unsubscribe: , List-Archive: List-Post: List-Help: List-Subscribe: , Errors-To: test-report-bounces@dpdk.org Test-Label: iol-unit-arm64-testing Test-Status: SUCCESS http://dpdk.org/patch/155076 _Testing PASS_ Submitter: Dengdui Huang Date: Tuesday, July 08 2025 12:51:59 DPDK git baseline: Repo:dpdk Branch: master CommitID:ba982f9a1ca9b96ed0394b764f1523d482e963a2 155076 --> testing pass Upstream job id: Generic-Unit-Test-DPDK#353609 Test environment and result as below: +-----------------+--------------+------------------------------+---------------------------+ | Environment | lpm_autotest | cryptodev_sw_snow3g_autotest | cryptodev_sw_zuc_autotest | +=================+==============+==============================+===========================+ | Ubuntu 20.04 | PASS | SKIPPED | SKIPPED | +-----------------+--------------+------------------------------+---------------------------+ | Debian 12 (arm) | SKIPPED | PASS | PASS | +-----------------+--------------+------------------------------+---------------------------+ Ubuntu 20.04 Kernel: 5.4 Compiler: gcc gcc (Ubuntu 9.4.0-1ubuntu1~20.04.2) 9.4.0 Debian 12 (arm) Kernel: Depends on container host Compiler: gcc (Debian 12.2.0-14) 12.2.0 To view detailed results, visit: https://lab.dpdk.org/results/dashboard/patchsets/33613/ UNH-IOL DPDK Community Lab To manage your email subscriptions, visit: https://lab.dpdk.org/results/dashboard/preferences/subscriptions/