From mboxrd@z Thu Jan 1 00:00:00 1970 Return-Path: Received: from mails.dpdk.org (mails.dpdk.org [217.70.189.124]) by inbox.dpdk.org (Postfix) with ESMTP id B6A8E46B2B for ; Tue, 8 Jul 2025 18:46:13 +0200 (CEST) Received: from mails.dpdk.org (localhost [127.0.0.1]) by mails.dpdk.org (Postfix) with ESMTP id ADCC34025E; Tue, 8 Jul 2025 18:46:13 +0200 (CEST) Received: from mail-qv1-f98.google.com (mail-qv1-f98.google.com [209.85.219.98]) by mails.dpdk.org (Postfix) with ESMTP id AA4D74025E for ; Tue, 8 Jul 2025 18:46:12 +0200 (CEST) Received: by mail-qv1-f98.google.com with SMTP id 6a1803df08f44-6ecf99dd567so63693906d6.0 for ; Tue, 08 Jul 2025 09:46:12 -0700 (PDT) DKIM-Signature: v=1; a=rsa-sha256; c=relaxed/relaxed; d=iol.unh.edu; s=unh-iol; t=1751993172; x=1752597972; darn=dpdk.org; h=references:in-reply-to:cc:to:from:subject:message-id:date:from:to :cc:subject:date:message-id:reply-to; bh=ydx8JLt0Q5TVxL+4bXoMLsm034GH1vAH0WnLjWc72aI=; b=T9LHOir7XJnLzgls9OG0JmWLuH6AiFHlJdY+YDOL0RS8+r9RaTY8TnTLJVRxmC3iB6 eU867obaixbIPAGGFo+pzvYPLc8cdEcC4md71zDXV9FDipuBaaZzyh/W/SEknyHVr9lZ qWC7fwiehqfuqxoUM61PXERfWoTImORPqFhzI= X-Google-DKIM-Signature: v=1; a=rsa-sha256; c=relaxed/relaxed; d=1e100.net; s=20230601; t=1751993172; x=1752597972; h=references:in-reply-to:cc:to:from:subject:message-id:date :x-gm-message-state:from:to:cc:subject:date:message-id:reply-to; bh=ydx8JLt0Q5TVxL+4bXoMLsm034GH1vAH0WnLjWc72aI=; b=u0VN4s2ap130IDkQnJgnRr3Zd3m8xN78vIG1PR2SFLLYd4LmP4MmPrJAPf5dZCz/XH ekrh+A87QXfsXhA81ZutD54EbTGh1C4mvM5CBjiFPechTK1z9xICv+Q79sM7yaSaXN/y zSMTw2rPQ76ngv/0lxokjb+Hsd8wfNEzYYivMBRTkz2k5v6zBeVYu8+ryWMuD3mgRPI7 oMqK58Y6Z9kwLbLRpjgHm1dQr3bdpfCBtAsbHrIYj5AEDERo+P0QxzG8v5prTjB2wG6e 6odLsaup8entykg0Cy5hHnAR4nDQNpd1bHNyckHCZMxU/hF68+c2XF9twyAITscb88h2 zfwA== X-Gm-Message-State: AOJu0YwO2r5MijzrOjyNbHSiKGb93vdemUK8WvADfotGuGNvarE0gnoB cKVXkEH+j8tBNG5kfpA2ptx6FTAzGUmaebV+To6go2j39E2gKJGLLVHE3RH+vFH250NFKZsxCTJ +l1b9U0mgvuo00/sDp4/wkPyo3igQkmIrI4dNWOaEdQIELHy7M6YMXvdJcmPu X-Gm-Gg: ASbGncuFfqvMqK68JllISHZfw2WDfol1CB/FBk7OrpQ0VRBay2Fhb+4G2HmB9j49t0s KBNzQEkzw0xsqAIb4sIOBsE4nO7LaA/oCcQiizAmltXhzRvWMshuhs3OS+/Pdul4iZPSy3YIdJY Ennl1tcAwIzsedFys0ReDJpgflBr2Xu63QrUe3jusv+LWVMJXLkE1O+5sLwA3EeSGZllvy6LhNU iZpVVfzPsuDD+7jK1by+Z6nRTk9LRmiFuLplLzd3HJzDY4KwBHcriefsPJtM+AtKFvXXAnzjU78 N7A2RdrZ3VAJbu9OuJsDGeICWmPtYkXAgpSJZvrds9iAPJI= X-Google-Smtp-Source: AGHT+IGtqWM5N2NAnDnZqEgfP6HYtBeYzgOE8AalpKXoLySV6U01g+h02OqHQEZDzToMKy/uCaYZkbP6Teho X-Received: by 2002:a05:6214:498a:b0:6f8:b7cd:984f with SMTP id 6a1803df08f44-702c8bcf0cdmr259486026d6.30.1751993171884; Tue, 08 Jul 2025 09:46:11 -0700 (PDT) Received: from postal.iol.unh.edu (postal.iol.unh.edu. [2606:4100:3880:1234::84]) by smtp-relay.gmail.com with ESMTPS id 6a1803df08f44-702c4cc4f62sm5677146d6.4.2025.07.08.09.46.11 (version=TLS1_2 cipher=ECDHE-ECDSA-AES128-GCM-SHA256 bits=128/128); Tue, 08 Jul 2025 09:46:11 -0700 (PDT) X-Relaying-Domain: iol.unh.edu Date: Tue, 08 Jul 2025 09:46:11 -0700 (PDT) Message-ID: <686d4b53.d40a0220.3a260e.d719SMTPIN_ADDED_MISSING@mx.google.com> Received: from [172.21.0.5] (unknown [172.18.0.240]) by postal.iol.unh.edu (Postfix) with ESMTP id 5BD9E6050A61; Tue, 8 Jul 2025 12:46:11 -0400 (EDT) Subject: |SUCCESS| pw155076 [PATCH] app/testpmd: fix set cores list string si From: dpdklab@iol.unh.edu To: Test Report Cc: dpdk-test-reports@iol.unh.edu In-Reply-To: <20250708125159.2457578-1-huangdengdui@huawei.com> References: <20250708125159.2457578-1-huangdengdui@huawei.com> Content-Type: text/plain X-BeenThere: test-report@dpdk.org X-Mailman-Version: 2.1.29 Precedence: list List-Id: automatic DPDK test reports List-Unsubscribe: , List-Archive: List-Post: List-Help: List-Subscribe: , Errors-To: test-report-bounces@dpdk.org Test-Label: iol-unit-arm64-testing Test-Status: SUCCESS http://dpdk.org/patch/155076 _Testing PASS_ Submitter: Dengdui Huang Date: Tuesday, July 08 2025 12:51:59 DPDK git baseline: Repo:dpdk Branch: master CommitID:ba982f9a1ca9b96ed0394b764f1523d482e963a2 155076 --> testing pass Upstream job id: Aarch32-Unit-Test#6851 Test environment and result as below: +------------------------------+----------------+--------------+---------------------------+------------------------------+ | Environment | dpdk_unit_test | lpm_autotest | cryptodev_sw_zuc_autotest | cryptodev_sw_snow3g_autotest | +==============================+================+==============+===========================+==============================+ | CentOS Stream 9 | PASS | SKIPPED | SKIPPED | SKIPPED | +------------------------------+----------------+--------------+---------------------------+------------------------------+ | Fedora Linux 40 | PASS | SKIPPED | SKIPPED | SKIPPED | +------------------------------+----------------+--------------+---------------------------+------------------------------+ | Fedora Linux 41 | PASS | SKIPPED | SKIPPED | SKIPPED | +------------------------------+----------------+--------------+---------------------------+------------------------------+ | Debian GNU/Linux 12 | PASS | SKIPPED | SKIPPED | SKIPPED | +------------------------------+----------------+--------------+---------------------------+------------------------------+ | CentOS Stream 10 | PASS | SKIPPED | SKIPPED | SKIPPED | +------------------------------+----------------+--------------+---------------------------+------------------------------+ | Ubuntu 22.04 | PASS | SKIPPED | SKIPPED | SKIPPED | +------------------------------+----------------+--------------+---------------------------+------------------------------+ | Ubuntu 20.04 | PASS | PASS | SKIPPED | SKIPPED | +------------------------------+----------------+--------------+---------------------------+------------------------------+ | Red Hat Enterprise Linux 9.5 | PASS | SKIPPED | SKIPPED | SKIPPED | +------------------------------+----------------+--------------+---------------------------+------------------------------+ | Ubuntu 24.04 | PASS | SKIPPED | SKIPPED | SKIPPED | +------------------------------+----------------+--------------+---------------------------+------------------------------+ | Debian 12 (arm) | SKIPPED | SKIPPED | PASS | PASS | +------------------------------+----------------+--------------+---------------------------+------------------------------+ CentOS Stream 9 Kernel: 5.4 Compiler: gcc gcc (GCC) 11.5.0 20240719 (Red Hat 11.5.0-7) Fedora Linux 40 Kernel: 5.4 Compiler: clang gcc (GCC) 14.2.1 20240912 (Red Hat 14.2.1-3) Fedora Linux 41 Kernel: 5.4 Compiler: clang gcc (GCC) 14.3.1 20250523 (Red Hat 14.3.1-1) Debian GNU/Linux 12 Kernel: 5.4 Compiler: gcc gcc (Debian 12.2.0-14+deb12u1) 12.2.0 CentOS Stream 10 Kernel: 5.4 Compiler: gcc gcc (GCC) 14.2.1 20250110 (Red Hat 14.2.1-8) Ubuntu 22.04 Kernel: 5.4 Compiler: gcc gcc (Ubuntu 11.4.0-1ubuntu1~22.04) 11.4.0 Ubuntu 20.04 Kernel: 5.4 Compiler: gcc gcc (Ubuntu 9.4.0-1ubuntu1~20.04.2) 9.4.0 Red Hat Enterprise Linux 9.5 Kernel: 5.4 Compiler: gcc gcc (GCC) 11.5.0 20240719 (Red Hat 11.5.0-2) Ubuntu 24.04 Kernel: 5.4 Compiler: gcc gcc (Ubuntu 13.3.0-6ubuntu2~24.04) 13.3.0 Debian 12 (arm) Kernel: Depends on container host Compiler: gcc (Debian 12.2.0-14) 12.2.0 To view detailed results, visit: https://lab.dpdk.org/results/dashboard/patchsets/33613/ UNH-IOL DPDK Community Lab To manage your email subscriptions, visit: https://lab.dpdk.org/results/dashboard/preferences/subscriptions/