From mboxrd@z Thu Jan 1 00:00:00 1970 Return-Path: Received: from mails.dpdk.org (mails.dpdk.org [217.70.189.124]) by inbox.dpdk.org (Postfix) with ESMTP id C690946B2B for ; Tue, 8 Jul 2025 19:29:36 +0200 (CEST) Received: from mails.dpdk.org (localhost [127.0.0.1]) by mails.dpdk.org (Postfix) with ESMTP id C036540292; Tue, 8 Jul 2025 19:29:36 +0200 (CEST) Received: from mail-qk1-f228.google.com (mail-qk1-f228.google.com [209.85.222.228]) by mails.dpdk.org (Postfix) with ESMTP id 1E28240292 for ; Tue, 8 Jul 2025 19:29:35 +0200 (CEST) Received: by mail-qk1-f228.google.com with SMTP id af79cd13be357-7d094ef02e5so17516185a.1 for ; Tue, 08 Jul 2025 10:29:35 -0700 (PDT) DKIM-Signature: v=1; a=rsa-sha256; c=relaxed/relaxed; d=iol.unh.edu; s=unh-iol; t=1751995774; x=1752600574; darn=dpdk.org; h=references:in-reply-to:cc:to:from:subject:message-id:date:from:to :cc:subject:date:message-id:reply-to; bh=2rpLlQIeK8cZ+7Al4uSgHguZZGUYk7OOpziHbuFwKiM=; b=aP1EHzXxMUBi4oVgAnOug8zKg+kJxZcXvUppeyjCMOdLYiJnWZDbC7CHeJxA60e4XW CFWDQaNIwMOhq829u3lYVlPuND6vHfQLVQNG3M6jmd05wJRK2Iy75JnH1+pdPMKQvnuh 2i4Xq4sX8g37PCKf571HJmdLF/IcE9oq/IO80= X-Google-DKIM-Signature: v=1; a=rsa-sha256; c=relaxed/relaxed; d=1e100.net; s=20230601; t=1751995774; x=1752600574; h=references:in-reply-to:cc:to:from:subject:message-id:date :x-gm-message-state:from:to:cc:subject:date:message-id:reply-to; bh=2rpLlQIeK8cZ+7Al4uSgHguZZGUYk7OOpziHbuFwKiM=; b=XiszSxAWsRl8trwn5XYP1JH2O8I4XGEZ+LE2nzWBYA3AQDwL8opSHjt/L31/0J9WOC oH3ZusuK53ns9avrwLd8GHEAenLAWHV5zFz9Tgo6gUuq1qv2D3wI8qFbaKdUngsUcXUz UjPurm3yYNTzeN0FCyIXa6MpKlOWkx+tgKU9bXk8ZE1DG1R0YGt+iv9WsqOw/eAJD106 uwfEuK9JJLhPQuRA/K7InVpUyhRCSb0FP2JCNhn4YoNQdrn90M00CESATrY1Eiq1eudd UCzEmjdL9fbgd1J/FC7RcwXCbVLEXXzuRVKoBlI4hgfcYH5P+PUpHPkROEBRXC1Mf7Ih HmBQ== X-Gm-Message-State: AOJu0YyCTDh/RvCoZgHmwOatctsL6CrUl6yyUYxOxvDtNAD07bVuCWKI lb8zHMnTikW/G6Mt40Is2vf8SXEXfQnnBGPrHlu3N7Vti9Mehk0zSii13zT40F26/achw/QLjiT K9ZRssA57tfrofWl+boMhDkvcl1/AWzXODUHW0bDLF7ci X-Gm-Gg: ASbGncv8SAAcRrsU09oSSgI8HbmioT/sXyDdioQYQiECSLd85YPRarh+vVSht18ZZN/ xtsL0RZqskdgtuoAFZPzkqx+GpCh6Oig3oyNWmWd7zvzdFf01phyW9rVI2shX83KnXLmdrEieAR 5u+zlkyfKeEJ7ONS/Hz7uCKuR233ntwX7cY9hUGAuqV4pVNDyVxE26lJunbLvOOn1MY8JofNh8T oF8mUQ0DdWNpsbO9V3US2PlcuvaeGi0y20BiQm72cdCgZP/2ws52yozAJBoJLUS+1izwA9elzyU GM+rtcI0BKIh2t7VDlYnlTTJdDV4wOm8wTD3M4JwXvrJwJ0lnp/e16zLN17G38USS0s05w== X-Google-Smtp-Source: AGHT+IEKOCfoCEjWkUVpvGwDnk4tyilxVyl/mdlJzMRQdvhAl3sFyvLOqi3Qw1TtJznpG5MViie9ivyyJnAs X-Received: by 2002:a05:620a:1a04:b0:7d3:a4fa:ee06 with SMTP id af79cd13be357-7da2059b583mr517219985a.29.1751995774460; Tue, 08 Jul 2025 10:29:34 -0700 (PDT) Received: from postal.iol.unh.edu (postal.iol.unh.edu. [132.177.123.84]) by smtp-relay.gmail.com with ESMTPS id af79cd13be357-7d5dbda750dsm20873785a.1.2025.07.08.10.29.34 (version=TLS1_2 cipher=ECDHE-ECDSA-AES128-GCM-SHA256 bits=128/128); Tue, 08 Jul 2025 10:29:34 -0700 (PDT) X-Relaying-Domain: iol.unh.edu Date: Tue, 08 Jul 2025 10:29:34 -0700 (PDT) Message-ID: <686d557e.050a0220.34baf7.ab44SMTPIN_ADDED_MISSING@mx.google.com> Received: from [172.21.0.5] (unknown [172.18.0.240]) by postal.iol.unh.edu (Postfix) with ESMTP id 29274604D420; Tue, 8 Jul 2025 13:29:34 -0400 (EDT) Subject: |SUCCESS| pw155058-155075 [PATCH] [v3,18/18] ci: extend coverage wit From: dpdklab@iol.unh.edu To: Test Report Cc: dpdk-test-reports@iol.unh.edu In-Reply-To: <20250708122823.3406288-19-david.marchand@redhat.com> References: <20250708122823.3406288-19-david.marchand@redhat.com> Content-Type: text/plain X-BeenThere: test-report@dpdk.org X-Mailman-Version: 2.1.29 Precedence: list List-Id: automatic DPDK test reports List-Unsubscribe: , List-Archive: List-Post: List-Help: List-Subscribe: , Errors-To: test-report-bounces@dpdk.org Test-Label: iol-unit-amd64-testing Test-Status: SUCCESS http://dpdk.org/patch/155075 _Testing PASS_ Submitter: David Marchand Date: Tuesday, July 08 2025 12:28:22 DPDK git baseline: Repo:dpdk Branch: master CommitID:a0000859ffbaaaf90bbb9c0f2f5bb7a3d4f5bc9f 155058-155075 --> testing pass Upstream job id: Generic-VM-Unit-Test-DPDK#29799 Test environment and result as below: +-------------------------------+----------------+ | Environment | dpdk_unit_test | +===============================+================+ | CentOS Stream 9 | PASS | +-------------------------------+----------------+ | CentOS Stream 10 | PASS | +-------------------------------+----------------+ | Debian GNU/Linux 12 | PASS | +-------------------------------+----------------+ | Fedora Linux 41 | PASS | +-------------------------------+----------------+ | Fedora Linux 40 | PASS | +-------------------------------+----------------+ | Red Hat Enterprise Linux 8.10 | PASS | +-------------------------------+----------------+ | Ubuntu 20.04 | PASS | +-------------------------------+----------------+ | Ubuntu 24.04 | PASS | +-------------------------------+----------------+ | Ubuntu 22.04 | PASS | +-------------------------------+----------------+ | Red Hat Enterprise Linux 9.5 | PASS | +-------------------------------+----------------+ CentOS Stream 9 Kernel: 5.15 Compiler: gcc gcc (GCC) 11.5.0 20240719 (Red Hat 11.5.0-7) CentOS Stream 10 Kernel: 5.15 Compiler: gcc gcc (GCC) 14.2.1 20250110 (Red Hat 14.2.1-8) Debian GNU/Linux 12 Kernel: 5.15 Compiler: gcc gcc (Debian 12.2.0-14+deb12u1) 12.2.0 Fedora Linux 41 Kernel: 5.15 Compiler: gcc gcc (GCC) 14.3.1 20250523 (Red Hat 14.3.1-1) Fedora Linux 40 Kernel: 5.15 Compiler: clang gcc (GCC) 14.2.1 20240912 (Red Hat 14.2.1-3) Red Hat Enterprise Linux 8.10 Kernel: 5.15 Compiler: gcc gcc (GCC) 8.5.0 20210514 (Red Hat 8.5.0-22) Ubuntu 20.04 Kernel: 5.15 Compiler: gcc gcc (Ubuntu 9.4.0-1ubuntu1~20.04.2) 9.4.0 Ubuntu 24.04 Kernel: 5.15 Compiler: gcc gcc (Ubuntu 13.3.0-6ubuntu2~24.04) 13.3.0 Ubuntu 22.04 Kernel: 5.15 Compiler: gcc gcc (Ubuntu 11.4.0-1ubuntu1~22.04) 11.4.0 Red Hat Enterprise Linux 9.5 Kernel: 5.15 Compiler: gcc gcc (GCC) 11.5.0 20240719 (Red Hat 11.5.0-2) To view detailed results, visit: https://lab.dpdk.org/results/dashboard/patchsets/33612/ UNH-IOL DPDK Community Lab To manage your email subscriptions, visit: https://lab.dpdk.org/results/dashboard/preferences/subscriptions/