From mboxrd@z Thu Jan 1 00:00:00 1970 Return-Path: Received: from mails.dpdk.org (mails.dpdk.org [217.70.189.124]) by inbox.dpdk.org (Postfix) with ESMTP id 2BE1A46B2C for ; Tue, 8 Jul 2025 20:16:17 +0200 (CEST) Received: from mails.dpdk.org (localhost [127.0.0.1]) by mails.dpdk.org (Postfix) with ESMTP id 0524F40292; Tue, 8 Jul 2025 20:16:17 +0200 (CEST) Received: from mail-il1-f225.google.com (mail-il1-f225.google.com [209.85.166.225]) by mails.dpdk.org (Postfix) with ESMTP id E4CAD40292 for ; Tue, 8 Jul 2025 20:16:15 +0200 (CEST) Received: by mail-il1-f225.google.com with SMTP id e9e14a558f8ab-3df2e7cdc64so40143395ab.1 for ; Tue, 08 Jul 2025 11:16:15 -0700 (PDT) DKIM-Signature: v=1; a=rsa-sha256; c=relaxed/relaxed; d=iol.unh.edu; s=unh-iol; t=1751998575; x=1752603375; darn=dpdk.org; h=references:in-reply-to:cc:to:from:subject:message-id:date:from:to :cc:subject:date:message-id:reply-to; bh=J3YhnefwCpMqaqfQURINWjQSe+zrR5DcneWC5ntcVJM=; b=aLvtCjW5fFMX2IxkYVW/onOycE4p1JjzT/AntKgGXMpBzqcbdq5Z2WXzCMqR9kS5/k C420Y4cPuLD3BeYR897ntCnXdLwKBnRG9iZqCbl35B6/1r74gy1yLfMaDldY+Z0Pylrf 4sjfo4B2PnjWNuS5ionxwvluhXRUOS6OQK4aw= X-Google-DKIM-Signature: v=1; a=rsa-sha256; c=relaxed/relaxed; d=1e100.net; s=20230601; t=1751998575; x=1752603375; h=references:in-reply-to:cc:to:from:subject:message-id:date :x-gm-message-state:from:to:cc:subject:date:message-id:reply-to; bh=J3YhnefwCpMqaqfQURINWjQSe+zrR5DcneWC5ntcVJM=; b=T0kN7I7TROzM053uPAxjwGuZIRw4nPqzyZiJTb9rM17ZNvFNpezPArdLpTfMYZT/gy wI+gIXeTC/uzdX0wAahRULNA3o/qA+Zd0nnG9QsnwXXcR3c4Sb71VWPfr8zoTV4gIt/H UJQ4O86O41sTZBrAjolSgDHAS+bjCExHV+mVcZCTxhHb1CYy3C6mzh1xviQ9Hx2aPR/Y 6wPKcAAxp+y/Oy+ZEcnKxl1IkxE5SXEXOYynZSr9ZhclqC1hhzZr+0QE63iyTjo1fzr9 T3Ojd/uPSCRh6sL04YoxuGpMV7SCO4AlI5UdF4bJ14YuxxDk6g/b8p/DRKvgqzemBs7A SY/g== X-Gm-Message-State: AOJu0YzI5BZZoz/5lK0ka7Xx41COLscxamntj3v6pNAvIcZ3p35XDGHj nGTIu5hxChGujrcSLRujZ+6pcaV4yHePM0YED8TrFwoSjm/tLrWW+D9majtq9QlTx+DwPsfe/T0 1L52sjESKsqALIddqFz7pd0SlPkuX9MQO18byzeh7ohvriDnhzWod/89tkk3D X-Gm-Gg: ASbGncufFK/Qr/AxhHOB/hMIf46leMgLbqn9ybVgJGlFU1qYXCq77oFP1NcCopO6Zo0 7BxoaAR3Ua/iYj4ZjShfp+hgw2oKXI73twfghiyxCaVJE7sr9g3bxM22qHHhpAQ1JDWTW4fhedu ky4CP298wo6FmzbEg3wFWLM/kmzM5bp1oo8av81yJ3xtmSRFb5n0Gt7HKUOVvZchINv46XmCIAe pYY7i4YpBn9BcZSppNhhg53FmM0s6ASAsvOlpnAsh/ZmdfPzeRdCtbyIWlARrGXD9d0Xf3MClKg 2bZuXJP5nhSu2nolZpMiB9QRf1ig7NihtzH1KFi4fXYKvzE= X-Google-Smtp-Source: AGHT+IF1IAMBcSmxCASeBEyOZ5ZPX4pDg7tj2Z8NmeKnYokw35Nfsigqaj/ym8J2W/4E/RjJIwqWlQrodBEg X-Received: by 2002:a05:6e02:1b04:b0:3df:2f9e:3db4 with SMTP id e9e14a558f8ab-3e16388555cmr8037125ab.13.1751998575100; Tue, 08 Jul 2025 11:16:15 -0700 (PDT) Received: from postal.iol.unh.edu (postal.iol.unh.edu. [2606:4100:3880:1234::84]) by smtp-relay.gmail.com with ESMTPS id e9e14a558f8ab-3e0f3434961sm6821725ab.6.2025.07.08.11.16.15 (version=TLS1_2 cipher=ECDHE-ECDSA-AES128-GCM-SHA256 bits=128/128); Tue, 08 Jul 2025 11:16:15 -0700 (PDT) X-Relaying-Domain: iol.unh.edu Date: Tue, 08 Jul 2025 11:16:15 -0700 (PDT) Message-ID: <686d606f.050a0220.1e55eb.3301SMTPIN_ADDED_MISSING@mx.google.com> Received: from [172.21.0.9] (unknown [172.18.0.240]) by postal.iol.unh.edu (Postfix) with ESMTP id 88852604D420; Tue, 8 Jul 2025 14:16:14 -0400 (EDT) Subject: |SUCCESS| pw155076 [PATCH] app/testpmd: fix set cores list string si From: dpdklab@iol.unh.edu To: Test Report Cc: dpdk-test-reports@iol.unh.edu In-Reply-To: <20250708125159.2457578-1-huangdengdui@huawei.com> References: <20250708125159.2457578-1-huangdengdui@huawei.com> Content-Type: text/plain X-BeenThere: test-report@dpdk.org X-Mailman-Version: 2.1.29 Precedence: list List-Id: automatic DPDK test reports List-Unsubscribe: , List-Archive: List-Post: List-Help: List-Subscribe: , Errors-To: test-report-bounces@dpdk.org Test-Label: iol-unit-amd64-testing Test-Status: SUCCESS http://dpdk.org/patch/155076 _Testing PASS_ Submitter: Dengdui Huang Date: Tuesday, July 08 2025 12:51:59 DPDK git baseline: Repo:dpdk Branch: master CommitID:ba982f9a1ca9b96ed0394b764f1523d482e963a2 155076 --> testing pass Upstream job id: Generic-VM-Unit-Test-DPDK#29800 Test environment and result as below: +-------------------------------+----------------+ | Environment | dpdk_unit_test | +===============================+================+ | CentOS Stream 9 | PASS | +-------------------------------+----------------+ | CentOS Stream 10 | PASS | +-------------------------------+----------------+ | Fedora Linux 41 | PASS | +-------------------------------+----------------+ | Debian GNU/Linux 12 | PASS | +-------------------------------+----------------+ | Fedora Linux 40 | PASS | +-------------------------------+----------------+ | Red Hat Enterprise Linux 8.10 | PASS | +-------------------------------+----------------+ | Ubuntu 20.04 | PASS | +-------------------------------+----------------+ | Red Hat Enterprise Linux 9.5 | PASS | +-------------------------------+----------------+ | Ubuntu 24.04 | PASS | +-------------------------------+----------------+ | Ubuntu 22.04 | PASS | +-------------------------------+----------------+ | Windows Server 2022 | PASS | +-------------------------------+----------------+ CentOS Stream 9 Kernel: 5.15 Compiler: gcc gcc (GCC) 11.5.0 20240719 (Red Hat 11.5.0-7) CentOS Stream 10 Kernel: 5.15 Compiler: gcc gcc (GCC) 14.2.1 20250110 (Red Hat 14.2.1-8) Fedora Linux 41 Kernel: 5.15 Compiler: clang gcc (GCC) 14.3.1 20250523 (Red Hat 14.3.1-1) Debian GNU/Linux 12 Kernel: 5.15 Compiler: gcc gcc (Debian 12.2.0-14+deb12u1) 12.2.0 Fedora Linux 40 Kernel: 5.15 Compiler: gcc gcc (GCC) 14.2.1 20240912 (Red Hat 14.2.1-3) Red Hat Enterprise Linux 8.10 Kernel: 5.15 Compiler: gcc gcc (GCC) 8.5.0 20210514 (Red Hat 8.5.0-22) Ubuntu 20.04 Kernel: 5.15 Compiler: gcc gcc (Ubuntu 9.4.0-1ubuntu1~20.04.2) 9.4.0 Red Hat Enterprise Linux 9.5 Kernel: 5.15 Compiler: gcc gcc (GCC) 11.5.0 20240719 (Red Hat 11.5.0-2) Ubuntu 24.04 Kernel: 5.15 Compiler: gcc gcc (Ubuntu 13.3.0-6ubuntu2~24.04) 13.3.0 Ubuntu 22.04 Kernel: 5.15 Compiler: gcc gcc (Ubuntu 11.4.0-1ubuntu1~22.04) 11.4.0 Windows Server 2022 Kernel: 10.0.20348.2031 Compiler: clang 15.0.7, gcc 14.1.0 (MinGW), and MSVC VS 19.39.33521 To view detailed results, visit: https://lab.dpdk.org/results/dashboard/patchsets/33613/ UNH-IOL DPDK Community Lab To manage your email subscriptions, visit: https://lab.dpdk.org/results/dashboard/preferences/subscriptions/