From mboxrd@z Thu Jan 1 00:00:00 1970 Return-Path: Received: from mails.dpdk.org (mails.dpdk.org [217.70.189.124]) by inbox.dpdk.org (Postfix) with ESMTP id 8B28146B27 for ; Tue, 8 Jul 2025 20:43:19 +0200 (CEST) Received: from mails.dpdk.org (localhost [127.0.0.1]) by mails.dpdk.org (Postfix) with ESMTP id 85D2040292; Tue, 8 Jul 2025 20:43:19 +0200 (CEST) Received: from mail-pj1-f97.google.com (mail-pj1-f97.google.com [209.85.216.97]) by mails.dpdk.org (Postfix) with ESMTP id 8F98340292 for ; Tue, 8 Jul 2025 20:43:18 +0200 (CEST) Received: by mail-pj1-f97.google.com with SMTP id 98e67ed59e1d1-313a188174fso171261a91.1 for ; Tue, 08 Jul 2025 11:43:18 -0700 (PDT) DKIM-Signature: v=1; a=rsa-sha256; c=relaxed/relaxed; d=iol.unh.edu; s=unh-iol; t=1752000198; x=1752604998; darn=dpdk.org; h=references:in-reply-to:cc:to:from:subject:message-id:date:from:to :cc:subject:date:message-id:reply-to; bh=YwTv7mfdGDF1Go6AekEwLZKfh91h4qyDSsMVf+sP0Yw=; b=S7aFpCGX41QRwdXjsXeEWussdp8utDJvunRL9TXARDZY4DAqy4OHQ5qlyPWy5cl1YQ CV2lCEWY+eXymg4j0a02X4ri1LDLBIQbXvIY9vamXjEV+67GaSlrgL1A4nZxTAc9daxX 365qxlP++YPQubcvInaqXkVjEMBdsX+5OtTxc= X-Google-DKIM-Signature: v=1; a=rsa-sha256; c=relaxed/relaxed; d=1e100.net; s=20230601; t=1752000198; x=1752604998; h=references:in-reply-to:cc:to:from:subject:message-id:date :x-gm-message-state:from:to:cc:subject:date:message-id:reply-to; bh=YwTv7mfdGDF1Go6AekEwLZKfh91h4qyDSsMVf+sP0Yw=; b=RcIUhEX5HQNsFwZCIn+Q9w0AUvHD+RLHtlgxPE8Hcl7tmzCjsY2HOMbOEfqx4PG3OR QdetXroVjjz4l/BojqGwneqHCgUH652VxHRCUtAZAHSdtmmQtWfHT3gvbvcmVqkSoetG a5WoKbJUxYxOMujuoA7G2OeAyooF7NTblF04zbZLz/wdWxxm+sIhyl4BwZI6rcwstxWU escv/1d5cF6V+W4nA/VAGWpFEd0yczz0y/HHLrsVnjaSSyqRRl3x266+WdmaiqwaKPxz W4D9D8Zd+6E6TsFXJS5RNya+Ic14M0SEn5K+mwaUBQfjEJFf/+tmF0QXwNhuLn9WbwXR iSvw== X-Gm-Message-State: AOJu0YxnbV/jVYNOLuScAxg6oILW3qUhaDlx168aCpLjYX8KbMSXBSEq pOjZa7YE2L0Y1FZiyfkwflQ/kvISvNbU/Wipmtb7k8J443HHfQcm0h+J3o9k5IuI3CvuqMLWSlq HmRpRrRlPwFbah4oXfRJStgEeGMZnAKuJrQa3V7blcn5e X-Gm-Gg: ASbGncvESmzFodHbHHkxqWgxS90pDTM6pHnLwK31fi3nR8fGqapMIb+JQZ32fBayZ59 hhw1YUG23xsDf/WpaZtApEp4Lce3D/HcaffVN/If56KvN1gah4puPRRwFZfoY+c+k8Xk1zjb0YJ G8ebadM9hHDDeuAbx4nJQOSoQh7h60h4fR1znbo+qwWqijLEeTu7ipRWl+XhYfpncqZzrQkNJsz ymN11NkzWrsHV/TGreBH4kS/dzgutmWUGpAJROr9ikVH5J/V5c2Q+7UJE41tLJ/38QXs/yY5IZM +EgEpgwrrpmw14oGcuJGeasTY/u8oIUHCAs/mdVrr0zp79HnHy4WDjE0g/WMbZsU177shA== X-Google-Smtp-Source: AGHT+IHmjW2RlIIGzmIVJT/MJsKDkSDUnrOfovRnDT39qdRKzUXy3+us8UxFoILmTOrYOSFKxaPKPZIsTybq X-Received: by 2002:a17:90b:2541:b0:2fa:17e4:b1cf with SMTP id 98e67ed59e1d1-31c22920692mr5234289a91.2.1752000197587; Tue, 08 Jul 2025 11:43:17 -0700 (PDT) Received: from postal.iol.unh.edu (postal.iol.unh.edu. [132.177.123.84]) by smtp-relay.gmail.com with ESMTPS id d9443c01a7336-23c84508f64sm5186785ad.96.2025.07.08.11.43.17 (version=TLS1_2 cipher=ECDHE-ECDSA-AES128-GCM-SHA256 bits=128/128); Tue, 08 Jul 2025 11:43:17 -0700 (PDT) X-Relaying-Domain: iol.unh.edu Date: Tue, 08 Jul 2025 11:43:17 -0700 (PDT) Message-ID: <686d66c5.170a0220.c3b71.ba2dSMTPIN_ADDED_MISSING@mx.google.com> Received: from [172.21.0.6] (unknown [172.18.0.240]) by postal.iol.unh.edu (Postfix) with ESMTP id 13D366051830; Tue, 8 Jul 2025 14:43:17 -0400 (EDT) Subject: |SUCCESS| pw155076 [PATCH] app/testpmd: fix set cores list string si From: dpdklab@iol.unh.edu To: Test Report Cc: dpdk-test-reports@iol.unh.edu In-Reply-To: <20250708125159.2457578-1-huangdengdui@huawei.com> References: <20250708125159.2457578-1-huangdengdui@huawei.com> Content-Type: text/plain X-BeenThere: test-report@dpdk.org X-Mailman-Version: 2.1.29 Precedence: list List-Id: automatic DPDK test reports List-Unsubscribe: , List-Archive: List-Post: List-Help: List-Subscribe: , Errors-To: test-report-bounces@dpdk.org Test-Label: iol-unit-amd64-testing Test-Status: SUCCESS http://dpdk.org/patch/155076 _Testing PASS_ Submitter: Dengdui Huang Date: Tuesday, July 08 2025 12:51:59 DPDK git baseline: Repo:dpdk Branch: master CommitID:ba982f9a1ca9b96ed0394b764f1523d482e963a2 155076 --> testing pass Upstream job id: Generic-VM-Unit-Test-DPDK#29801 Test environment and result as below: +-------------------------------+----------------+ | Environment | dpdk_unit_test | +===============================+================+ | CentOS Stream 9 | PASS | +-------------------------------+----------------+ | CentOS Stream 10 | PASS | +-------------------------------+----------------+ | Fedora Linux 41 | PASS | +-------------------------------+----------------+ | Debian GNU/Linux 12 | PASS | +-------------------------------+----------------+ | Fedora Linux 40 | PASS | +-------------------------------+----------------+ | Red Hat Enterprise Linux 8.10 | PASS | +-------------------------------+----------------+ | Ubuntu 20.04 | PASS | +-------------------------------+----------------+ | Red Hat Enterprise Linux 9.5 | PASS | +-------------------------------+----------------+ | Ubuntu 24.04 | PASS | +-------------------------------+----------------+ | Ubuntu 22.04 | PASS | +-------------------------------+----------------+ | Windows Server 2022 | PASS | +-------------------------------+----------------+ CentOS Stream 9 Kernel: 5.15 Compiler: gcc gcc (GCC) 11.5.0 20240719 (Red Hat 11.5.0-7) CentOS Stream 10 Kernel: 5.15 Compiler: gcc gcc (GCC) 14.2.1 20250110 (Red Hat 14.2.1-8) Fedora Linux 41 Kernel: 5.15 Compiler: clang gcc (GCC) 14.3.1 20250523 (Red Hat 14.3.1-1) Debian GNU/Linux 12 Kernel: 5.15 Compiler: gcc gcc (Debian 12.2.0-14+deb12u1) 12.2.0 Fedora Linux 40 Kernel: 5.15 Compiler: gcc gcc (GCC) 14.2.1 20240912 (Red Hat 14.2.1-3) Red Hat Enterprise Linux 8.10 Kernel: 5.15 Compiler: gcc gcc (GCC) 8.5.0 20210514 (Red Hat 8.5.0-22) Ubuntu 20.04 Kernel: 5.15 Compiler: gcc gcc (Ubuntu 9.4.0-1ubuntu1~20.04.2) 9.4.0 Red Hat Enterprise Linux 9.5 Kernel: 5.15 Compiler: gcc gcc (GCC) 11.5.0 20240719 (Red Hat 11.5.0-2) Ubuntu 24.04 Kernel: 5.15 Compiler: gcc gcc (Ubuntu 13.3.0-6ubuntu2~24.04) 13.3.0 Ubuntu 22.04 Kernel: 5.15 Compiler: gcc gcc (Ubuntu 11.4.0-1ubuntu1~22.04) 11.4.0 Windows Server 2022 Kernel: 10.0.20348.2031 Compiler: clang 15.0.7, gcc 14.1.0 (MinGW), and MSVC VS 19.39.33521 To view detailed results, visit: https://lab.dpdk.org/results/dashboard/patchsets/33613/ UNH-IOL DPDK Community Lab To manage your email subscriptions, visit: https://lab.dpdk.org/results/dashboard/preferences/subscriptions/