From mboxrd@z Thu Jan 1 00:00:00 1970 Return-Path: Received: from mails.dpdk.org (mails.dpdk.org [217.70.189.124]) by inbox.dpdk.org (Postfix) with ESMTP id 5086946B2C for ; Tue, 8 Jul 2025 21:11:16 +0200 (CEST) Received: from mails.dpdk.org (localhost [127.0.0.1]) by mails.dpdk.org (Postfix) with ESMTP id 4941940292; Tue, 8 Jul 2025 21:11:16 +0200 (CEST) Received: from mail-qk1-f227.google.com (mail-qk1-f227.google.com [209.85.222.227]) by mails.dpdk.org (Postfix) with ESMTP id 3AF2540292 for ; Tue, 8 Jul 2025 21:11:15 +0200 (CEST) Received: by mail-qk1-f227.google.com with SMTP id af79cd13be357-7da6ca0f1acso108580985a.1 for ; Tue, 08 Jul 2025 12:11:15 -0700 (PDT) DKIM-Signature: v=1; a=rsa-sha256; c=relaxed/relaxed; d=iol.unh.edu; s=unh-iol; t=1752001874; x=1752606674; darn=dpdk.org; h=references:in-reply-to:cc:to:from:subject:message-id:date:from:to :cc:subject:date:message-id:reply-to; bh=3XUImwx9WJKcjR3Jdun3CjGgB66bqdfIADyOtrpJ5+Q=; b=iff8qFelmCOUeX1CXH/txmAHl+s/Y/8gfGRSzc29I0+RJScsk8p+4I55BleCGQUlET ODJXFMkOqoREUClWAglLZmQjVgaYFIw/AXKdGMmy3hQdAn9RfSWGIo6JwizfeB1Lczoc kIFXKDW65my82sgnyngmM+LOud70/r0gWGSts= X-Google-DKIM-Signature: v=1; a=rsa-sha256; c=relaxed/relaxed; d=1e100.net; s=20230601; t=1752001874; x=1752606674; h=references:in-reply-to:cc:to:from:subject:message-id:date :x-gm-message-state:from:to:cc:subject:date:message-id:reply-to; bh=3XUImwx9WJKcjR3Jdun3CjGgB66bqdfIADyOtrpJ5+Q=; b=es0hM9ZRC0MJvfHgGniitkLeu43E7xEM9yfSBlwvBQhaeEVsVDvy4RgG8WRMGUcBwL UVi9dCXaSfIDIC3cK8cGzPVyjPB6/9Og0mXii7p7TYZ0uEJnR5w222idRo9Hqlm6yZAa ugLYd8mBADFx4+OfFYTQRlsHByX0w+cuYUxLhE5OLipWjM/2D4835iBRDIdjF6z5H8NY glUgbbcJgLNnHMKTaGxBX0eoAqrRyVH7LV8H0rPAzwdUiMPPrYwNgFU8+0EREz4csfZd kfdgbP3ImnfjlgfSpFn6KuH3mwwzSJTioCkyrbHhDi7l6ae0yrYH+qbEldgE/nwF4ZTR FUvQ== X-Gm-Message-State: AOJu0YxRAB4VKo3TQD2hMmxE6x1Uh+DJScD5WffaWh4ehDWSmL0/eK6R 6670Acu/aGdB12rqeX6QWmRWnEIp+IOtU8Ysy0ubTz0A4ieKuLt4edqhkS9TiFS5fWDz+jex9SD NVRUW32mUEQAHn2OOfHT7uBgVPpwgeZPQmqvEOKmtpz+znfLk4HNNzyVCV3fr X-Gm-Gg: ASbGncuXl5ANrppvUYFTnRjS/lDXlvbsiLDieAfprtCX6f5c1W0+WrEP+j7RYyfSesH iTEP7mR3r6BFGso9bDBXtT4UopGfjuNxwiIb3gsZMWJ2pFY+c6O2uTc8eMSb4f2ZxLQMqUmUg04 NhkY2j+AsGAkcB/nEE5GDwq3myIHS08p1ClQ8597fQoBPrdGVJk1QqhAZU10bu0lsAeVZwkUr4R ClDikiMmIwe1ZRP3s4kaxm7ghE7eN9KXCe168o2yFR27CjN9Pr0cl2MZuAHRCuykEYqblTugLWj K1PyZmubjtrRru0G3dV1xoAHDIYWrugYZBuYe7vBPDPq4io= X-Google-Smtp-Source: AGHT+IEoMCzPaMftY6yQk0V3qVPT+vdON8+1tVZQFx/0Vrca5I+OwuVAoJgsXWmUfaR5rnGePYWcNjQnz8/e X-Received: by 2002:a05:620a:4043:b0:7d3:fb3a:675b with SMTP id af79cd13be357-7db47ec0c4fmr87764085a.35.1752001874383; Tue, 08 Jul 2025 12:11:14 -0700 (PDT) Received: from postal.iol.unh.edu (postal.iol.unh.edu. [2606:4100:3880:1234::84]) by smtp-relay.gmail.com with ESMTPS id 6a1803df08f44-702d8366713sm4076346d6.46.2025.07.08.12.11.14 (version=TLS1_2 cipher=ECDHE-ECDSA-AES128-GCM-SHA256 bits=128/128); Tue, 08 Jul 2025 12:11:14 -0700 (PDT) X-Relaying-Domain: iol.unh.edu Date: Tue, 08 Jul 2025 12:11:14 -0700 (PDT) Message-ID: <686d6d52.050a0220.301121.548cSMTPIN_ADDED_MISSING@mx.google.com> Received: from [172.21.0.5] (unknown [172.18.0.240]) by postal.iol.unh.edu (Postfix) with ESMTP id 19F99604D420; Tue, 8 Jul 2025 15:11:14 -0400 (EDT) Subject: |SUCCESS| pw155077 [PATCH] net/virtio: revert Tx free threshold fix From: dpdklab@iol.unh.edu To: Test Report Cc: dpdk-test-reports@iol.unh.edu In-Reply-To: <20250708142305.3636707-1-david.marchand@redhat.com> References: <20250708142305.3636707-1-david.marchand@redhat.com> Content-Type: text/plain X-BeenThere: test-report@dpdk.org X-Mailman-Version: 2.1.29 Precedence: list List-Id: automatic DPDK test reports List-Unsubscribe: , List-Archive: List-Post: List-Help: List-Subscribe: , Errors-To: test-report-bounces@dpdk.org Test-Label: iol-unit-amd64-testing Test-Status: SUCCESS http://dpdk.org/patch/155077 _Testing PASS_ Submitter: David Marchand Date: Tuesday, July 08 2025 14:23:04 DPDK git baseline: Repo:dpdk Branch: master CommitID:64267ffa9474c6becddcc07fc2e603adb621b44d 155077 --> testing pass Upstream job id: Generic-Unit-Test-DPDK#353643 Test environment and result as below: +-------------------------------+----------------+ | Environment | dpdk_unit_test | +===============================+================+ | Fedora Linux 40 | PASS | +-------------------------------+----------------+ | Debian GNU/Linux 12 | PASS | +-------------------------------+----------------+ | Fedora Linux 41 | PASS | +-------------------------------+----------------+ | Ubuntu 22.04 | PASS | +-------------------------------+----------------+ | Red Hat Enterprise Linux 9.5 | PASS | +-------------------------------+----------------+ | CentOS Stream 10 | PASS | +-------------------------------+----------------+ | CentOS Stream 9 | PASS | +-------------------------------+----------------+ | Ubuntu 20.04 | PASS | +-------------------------------+----------------+ | Red Hat Enterprise Linux 8.10 | PASS | +-------------------------------+----------------+ | Ubuntu 24.04 | PASS | +-------------------------------+----------------+ Fedora Linux 40 Kernel: 5.15 Compiler: gcc gcc (GCC) 14.2.1 20240912 (Red Hat 14.2.1-3) Debian GNU/Linux 12 Kernel: 5.15 Compiler: gcc gcc (Debian 12.2.0-14+deb12u1) 12.2.0 Fedora Linux 41 Kernel: 5.15 Compiler: clang gcc (GCC) 14.3.1 20250523 (Red Hat 14.3.1-1) Ubuntu 22.04 Kernel: 5.15 Compiler: gcc gcc (Ubuntu 11.4.0-1ubuntu1~22.04) 11.4.0 Red Hat Enterprise Linux 9.5 Kernel: 5.15 Compiler: gcc gcc (GCC) 11.5.0 20240719 (Red Hat 11.5.0-2) CentOS Stream 10 Kernel: 5.15 Compiler: gcc gcc (GCC) 14.2.1 20250110 (Red Hat 14.2.1-8) CentOS Stream 9 Kernel: 5.15 Compiler: gcc gcc (GCC) 11.5.0 20240719 (Red Hat 11.5.0-7) Ubuntu 20.04 Kernel: 5.15 Compiler: gcc gcc (Ubuntu 9.4.0-1ubuntu1~20.04.2) 9.4.0 Red Hat Enterprise Linux 8.10 Kernel: 5.15 Compiler: gcc gcc (GCC) 8.5.0 20210514 (Red Hat 8.5.0-22) Ubuntu 24.04 Kernel: 5.15 Compiler: gcc gcc (Ubuntu 13.3.0-6ubuntu2~24.04) 13.3.0 To view detailed results, visit: https://lab.dpdk.org/results/dashboard/patchsets/33614/ UNH-IOL DPDK Community Lab To manage your email subscriptions, visit: https://lab.dpdk.org/results/dashboard/preferences/subscriptions/