From mboxrd@z Thu Jan 1 00:00:00 1970 Return-Path: Received: from mails.dpdk.org (mails.dpdk.org [217.70.189.124]) by inbox.dpdk.org (Postfix) with ESMTP id 8E48446B2C for ; Tue, 8 Jul 2025 21:49:36 +0200 (CEST) Received: from mails.dpdk.org (localhost [127.0.0.1]) by mails.dpdk.org (Postfix) with ESMTP id 7538940292; Tue, 8 Jul 2025 21:49:36 +0200 (CEST) Received: from mail-pj1-f100.google.com (mail-pj1-f100.google.com [209.85.216.100]) by mails.dpdk.org (Postfix) with ESMTP id 9DA0040292 for ; Tue, 8 Jul 2025 21:49:35 +0200 (CEST) Received: by mail-pj1-f100.google.com with SMTP id 98e67ed59e1d1-311ef4fb43dso3924643a91.3 for ; Tue, 08 Jul 2025 12:49:35 -0700 (PDT) DKIM-Signature: v=1; a=rsa-sha256; c=relaxed/relaxed; d=iol.unh.edu; s=unh-iol; t=1752004175; x=1752608975; darn=dpdk.org; h=references:in-reply-to:cc:to:from:subject:message-id:date:from:to :cc:subject:date:message-id:reply-to; bh=ABPYgMg6Tpb4zr7GID/L+HizcnWYTyzgoHvXl44hbpo=; b=aG1Qp7usrxfNbcHuR6jkMoN8bcQApBoh7t7o5E3pg0I0mHD/w4M9VTV2AG8XSLiUDn mB6FR6u8Fy5ggoR9E6xGX6dd1536o14qtcpy9Z16h+Bvpxzx0++7PBK66xf2NH89M2pX FnOfyJSPtYdY42NRfLoCzVgR6d4FtNeZMkG4M= X-Google-DKIM-Signature: v=1; a=rsa-sha256; c=relaxed/relaxed; d=1e100.net; s=20230601; t=1752004175; x=1752608975; h=references:in-reply-to:cc:to:from:subject:message-id:date :x-gm-message-state:from:to:cc:subject:date:message-id:reply-to; bh=ABPYgMg6Tpb4zr7GID/L+HizcnWYTyzgoHvXl44hbpo=; b=bFmUbzrUYz1prgTpfgl1tEd49zKffEIyMs9mPuvd0DdWoDFLLZKqihdSLKzyTU4ZCh JfszakwF9zkPTvewgARydMGv9ZwvNgFyby7IAI0LJnh2BIm+W690P1EzbPBAOhPTRqnx MDUTsccaq8hj+MB3fZh/rUGg6wm6lhIp8XwvYDq7Ubr3aYeuxxB6oXQ7ldk2BK1GlWar DpT6AZna+CZ7Wo7gyCstIlpQgD0y5swkjcBcoF9rLXFWcjtUlNMM1yPIZ+59g6pOFfKq zrJa1MAzgbFFuH0B2EHjwqDOLhUCWvV2lJjRbeBZ3yGm+Kd2zu8GgcrOip3nBeE7fPMx vXKg== X-Gm-Message-State: AOJu0Yw9ot2PfReGA/bGWMGQKzmok2/ZQIah3wZConZheN9sXCQnk+1x /iRe5qCFZ4VSzjF99VIk5plYPUWJZ7I45BACJ2OgZi2YbHqHYq3Ul+m1f8b41Ba4qgwppoSr1Jq VH/MvYjsV7bJMCMoDhgEf3YBDIecuL9m2PSzIMmjArmnWxY+rwn1wQvkvnOx4 X-Gm-Gg: ASbGncve80S2HSzOzziZ2syXbxtYQr20oIw/Zbg+eFJw747m8HdIxTiXzZs7EsfzgFy 075la0xxcxr+XhgBAsWEqUKa6KVTJ5MFQIeBT0HJYEYDU3Rocc+Q9WOkI4l7AgUa7GwV6byrvzd pkY7anX5PftqCEOU7As+flkuv0vt3gLjNv/OE9ItVF8SqJvjGAcHppaJz8km6NhC+A+Aoq65xdn vNK+v6Upam3GLMD9VdxQAijAGpyE/CWO4wMZifpXn1HPUdianBCOSZAdN/v6eTWC/Lh0N3xvGKv 4r1OgEiJm16KfwaaFo6W+iEXUxuA4cpk/son6ih2F3F0tjY= X-Google-Smtp-Source: AGHT+IErWM27AQQEjW5BXWYGZQ7C5/vLhlwJ7YNsEW0gDj2mV06jdsfqHn2Ur/FmCWA7aoUMsYao5OGyPRB0 X-Received: by 2002:a17:90b:3c8f:b0:313:1a8c:c2d3 with SMTP id 98e67ed59e1d1-31aadd8535fmr20391552a91.22.1752004174684; Tue, 08 Jul 2025 12:49:34 -0700 (PDT) Received: from postal.iol.unh.edu (postal.iol.unh.edu. [2606:4100:3880:1234::84]) by smtp-relay.gmail.com with ESMTPS id 98e67ed59e1d1-31c21b89a64sm168889a91.0.2025.07.08.12.49.34 (version=TLS1_2 cipher=ECDHE-ECDSA-AES128-GCM-SHA256 bits=128/128); Tue, 08 Jul 2025 12:49:34 -0700 (PDT) X-Relaying-Domain: iol.unh.edu Date: Tue, 08 Jul 2025 12:49:34 -0700 (PDT) Message-ID: <686d764e.170a0220.1a855a.9f13SMTPIN_ADDED_MISSING@mx.google.com> Received: from [172.21.0.5] (unknown [172.18.0.240]) by postal.iol.unh.edu (Postfix) with ESMTP id EF73B6050A61; Tue, 8 Jul 2025 15:49:33 -0400 (EDT) Subject: |SUCCESS| pw155078 [PATCH] [v3] net/mlx5: remove use of sizeof(rte_v From: dpdklab@iol.unh.edu To: Test Report Cc: dpdk-test-reports@iol.unh.edu In-Reply-To: <1751987516-30482-1-git-send-email-andremue@linux.microsoft.com> References: <1751987516-30482-1-git-send-email-andremue@linux.microsoft.com> Content-Type: text/plain X-BeenThere: test-report@dpdk.org X-Mailman-Version: 2.1.29 Precedence: list List-Id: automatic DPDK test reports List-Unsubscribe: , List-Archive: List-Post: List-Help: List-Subscribe: , Errors-To: test-report-bounces@dpdk.org Test-Label: iol-unit-amd64-testing Test-Status: SUCCESS http://dpdk.org/patch/155078 _Testing PASS_ Submitter: Andre Muezerie Date: Tuesday, July 08 2025 15:11:56 DPDK git baseline: Repo:dpdk Branch: master CommitID:e2888614268cbf0abcc7cd72ad97ff4e4901d0a5 155078 --> testing pass Upstream job id: Generic-VM-Unit-Test-DPDK#29806 Test environment and result as below: +-------------------------------+----------------+ | Environment | dpdk_unit_test | +===============================+================+ | Debian GNU/Linux 12 | PASS | +-------------------------------+----------------+ | CentOS Stream 9 | PASS | +-------------------------------+----------------+ | CentOS Stream 10 | PASS | +-------------------------------+----------------+ | Fedora Linux 40 | PASS | +-------------------------------+----------------+ | Fedora Linux 41 | PASS | +-------------------------------+----------------+ | Red Hat Enterprise Linux 8.10 | PASS | +-------------------------------+----------------+ | Ubuntu 22.04 | PASS | +-------------------------------+----------------+ | Red Hat Enterprise Linux 9.5 | PASS | +-------------------------------+----------------+ | Ubuntu 20.04 | PASS | +-------------------------------+----------------+ | Ubuntu 24.04 | PASS | +-------------------------------+----------------+ | Windows Server 2022 | PASS | +-------------------------------+----------------+ Debian GNU/Linux 12 Kernel: 5.15 Compiler: gcc gcc (Debian 12.2.0-14+deb12u1) 12.2.0 CentOS Stream 9 Kernel: 5.15 Compiler: gcc gcc (GCC) 11.5.0 20240719 (Red Hat 11.5.0-7) CentOS Stream 10 Kernel: 5.15 Compiler: gcc gcc (GCC) 14.2.1 20250110 (Red Hat 14.2.1-8) Fedora Linux 40 Kernel: 5.15 Compiler: gcc gcc (GCC) 14.2.1 20240912 (Red Hat 14.2.1-3) Fedora Linux 41 Kernel: 5.15 Compiler: clang gcc (GCC) 14.3.1 20250523 (Red Hat 14.3.1-1) Red Hat Enterprise Linux 8.10 Kernel: 5.15 Compiler: gcc gcc (GCC) 8.5.0 20210514 (Red Hat 8.5.0-22) Ubuntu 22.04 Kernel: 5.15 Compiler: gcc gcc (Ubuntu 11.4.0-1ubuntu1~22.04) 11.4.0 Red Hat Enterprise Linux 9.5 Kernel: 5.15 Compiler: gcc gcc (GCC) 11.5.0 20240719 (Red Hat 11.5.0-2) Ubuntu 20.04 Kernel: 5.15 Compiler: gcc gcc (Ubuntu 9.4.0-1ubuntu1~20.04.2) 9.4.0 Ubuntu 24.04 Kernel: 5.15 Compiler: gcc gcc (Ubuntu 13.3.0-6ubuntu2~24.04) 13.3.0 Windows Server 2022 Kernel: 10.0.20348.2031 Compiler: clang 15.0.7, gcc 14.1.0 (MinGW), and MSVC VS 19.39.33521 To view detailed results, visit: https://lab.dpdk.org/results/dashboard/patchsets/33615/ UNH-IOL DPDK Community Lab To manage your email subscriptions, visit: https://lab.dpdk.org/results/dashboard/preferences/subscriptions/