From mboxrd@z Thu Jan 1 00:00:00 1970 Return-Path: Received: from mails.dpdk.org (mails.dpdk.org [217.70.189.124]) by inbox.dpdk.org (Postfix) with ESMTP id 8A4A346B2D for ; Tue, 8 Jul 2025 22:01:30 +0200 (CEST) Received: from mails.dpdk.org (localhost [127.0.0.1]) by mails.dpdk.org (Postfix) with ESMTP id 85FAB40292; Tue, 8 Jul 2025 22:01:30 +0200 (CEST) Received: from mail-io1-f98.google.com (mail-io1-f98.google.com [209.85.166.98]) by mails.dpdk.org (Postfix) with ESMTP id 40B2740292 for ; Tue, 8 Jul 2025 22:01:29 +0200 (CEST) Received: by mail-io1-f98.google.com with SMTP id ca18e2360f4ac-879399faac9so188284739f.3 for ; Tue, 08 Jul 2025 13:01:29 -0700 (PDT) DKIM-Signature: v=1; a=rsa-sha256; c=relaxed/relaxed; d=iol.unh.edu; s=unh-iol; t=1752004888; x=1752609688; darn=dpdk.org; h=references:in-reply-to:cc:to:from:subject:message-id:date:from:to :cc:subject:date:message-id:reply-to; bh=nUyt5Cr/aNnMiznOB5fXNj7ltsKk3ufxHfzwhecQkrk=; b=SbZFnNCsni5DeVJTS760sSxs4/gxqS/OSHkKtTg6BgQdgIhUeV6ZmAPcuC5ciz1zSN iowJ2hr6pOdWlsXQF47uoAt1ZzvYnCoeDHO3JytUZLNRr5gWNLpAlgE/n0wIM7gfDV9i 1a0OfsmcI6/erhLPyOi86+qSDH0SPXcoIhlfo= X-Google-DKIM-Signature: v=1; a=rsa-sha256; c=relaxed/relaxed; d=1e100.net; s=20230601; t=1752004888; x=1752609688; h=references:in-reply-to:cc:to:from:subject:message-id:date :x-gm-message-state:from:to:cc:subject:date:message-id:reply-to; bh=nUyt5Cr/aNnMiznOB5fXNj7ltsKk3ufxHfzwhecQkrk=; b=dBOO0w2ykIT0cQz24PHi8tpfPmEB3Pv+MhN1Cij4lj83lZOnJPoEx7eKtr2eyLLuP/ gYmWDBE/xqmvn02GNcGQxJU894L0eq8asf0SpMPZ96OeN4YwmMvhjpdXpqmClRGQRZZB NMJlsV2F/xiQghn/huvoQqhgK8zyheGanjQL9yWt+Pw+r4jqSsjLlG2syaXCiCljSH+c sarnsHBVpJX6NuobtD+M7ES8yec7rKZFsNchSd22oiqp3YaJInFmMqTJWBALE0T4KbWT b/Bx/vVjWnlHWvN3sJ/D38wFDnbvO3F0W7xmsEAsJtRhWH8k0vuIxSBhX8D7xadWVZFt MJsQ== X-Gm-Message-State: AOJu0YyzJ5kDP9LKv0vn1mlzXkRvWXQlgllFy1UqsEf/1dZHiAA0NEik ouTsHM2Aq91ITUgT9N2JATltZe32+VQovaQTkClvsPkIvjNjztBImKDeh5N79czHi7dFaCXQzqV w//8ALDXb6uoNRLWnml43GuCNC+o3yeU7XpVPLSf5+GVwmKGC/8HOnjKUsvUk X-Gm-Gg: ASbGncsm5bqbtTjs3sVimaXekmUw8vxxxgVPk7syieDqR6dlxgRX6sB+HLrO6isTjjc GY86Ky1cLqsLSwaeF8GdN7hh3JHH5C/Dbcqd6tzfUAJt+gsd3hc8gR0B0WDg+mMIT3WFKkFlxmS 0vn0BK6cN0SY6Mc1Ph7HI1Q50DUkE9axEAe99tjEg5ioKY2HX5JZpOzaOUuHwpAo9E2vcwvjhxp y+c+2ZWAFKwsQnJg+9qMpR+S/GA/L341PdCViQ3Yz8t9qMSl6tUjH9vze20fcQVF66Qt/U7WZQ2 LAe4auiXDQXmKM9tlR7ln7YoouxezP6s5L0z3ivkyAMt5uQ= X-Google-Smtp-Source: AGHT+IGwMTBCG3GFl9cqP5/e3R2NRZ9p4Hdz/snIDaQ+4U/gyyvPI9MhQFAJeyz78oSJLexi+vNT5Im0gGBW X-Received: by 2002:a05:6602:6b84:b0:86a:256e:12df with SMTP id ca18e2360f4ac-8795b085d22mr613239f.2.1752004888491; Tue, 08 Jul 2025 13:01:28 -0700 (PDT) Received: from postal.iol.unh.edu (postal.iol.unh.edu. [2606:4100:3880:1234::84]) by smtp-relay.gmail.com with ESMTPS id ca18e2360f4ac-876e08684fcsm47573939f.28.2025.07.08.13.01.28 (version=TLS1_2 cipher=ECDHE-ECDSA-AES128-GCM-SHA256 bits=128/128); Tue, 08 Jul 2025 13:01:28 -0700 (PDT) X-Relaying-Domain: iol.unh.edu Date: Tue, 08 Jul 2025 13:01:28 -0700 (PDT) Message-ID: <686d7918.050a0220.1330b.91a5SMTPIN_ADDED_MISSING@mx.google.com> Received: from [172.21.0.11] (unknown [172.18.0.240]) by postal.iol.unh.edu (Postfix) with ESMTP id 0615D6050A61; Tue, 8 Jul 2025 16:01:28 -0400 (EDT) Subject: |WARNING| pw154968 [PATCH] build/x86: fix support for older compiler From: dpdklab@iol.unh.edu To: Test Report Cc: dpdk-test-reports@iol.unh.edu In-Reply-To: <20250702155129.3440210-1-bruce.richardson@intel.com> References: <20250702155129.3440210-1-bruce.richardson@intel.com> Content-Type: text/plain X-BeenThere: test-report@dpdk.org X-Mailman-Version: 2.1.29 Precedence: list List-Id: automatic DPDK test reports List-Unsubscribe: , List-Archive: List-Post: List-Help: List-Subscribe: , Errors-To: test-report-bounces@dpdk.org Test-Label: iol-unit-amd64-testing Test-Status: WARNING http://dpdk.org/patch/154968 _Testing issues_ Submitter: Bruce Richardson Date: Wednesday, July 02 2025 15:51:29 DPDK git baseline: Repo:dpdk Branch: master CommitID:5d47e73e5f4f2eb69bd73f642cfd72b49436bf96 154968 --> testing issues Upstream job id: Generic-Unit-Test-DPDK#353704 Test environment and result as below: +-------------------------------+----------------+ | Environment | dpdk_unit_test | +===============================+================+ | CentOS Stream 10 | WARN | +-------------------------------+----------------+ | CentOS Stream 9 | WARN | +-------------------------------+----------------+ | Debian GNU/Linux 12 | WARN | +-------------------------------+----------------+ | Fedora Linux 41 | WARN | +-------------------------------+----------------+ | Fedora Linux 40 | WARN | +-------------------------------+----------------+ | Red Hat Enterprise Linux 9.5 | WARN | +-------------------------------+----------------+ | Ubuntu 24.04 | WARN | +-------------------------------+----------------+ | Red Hat Enterprise Linux 8.10 | WARN | +-------------------------------+----------------+ | Ubuntu 22.04 | WARN | +-------------------------------+----------------+ | Ubuntu 20.04 | WARN | +-------------------------------+----------------+ ==== 20 line log output for Ubuntu 20.04 (dpdk_unit_test): ==== Compiler for C supports arguments -Wsign-compare: YES Compiler for C supports arguments -Wstrict-prototypes: YES Compiler for C supports arguments -Wundef: YES Compiler for C supports arguments -Wwrite-strings: YES Compiler for C supports arguments -Wno-packed-not-aligned: YES Compiler for C supports arguments -Wno-missing-field-initializers: YES Compiler for C supports arguments -fzero-init-padding-bits=all: NO Fetching value of define "__AVX2__" : 1 Fetching value of define "__znver1__" : Fetching value of define "__znver2__" : Fetching value of define "__znver3__" : Fetching value of define "__znver4__" : Fetching value of define "__znver5__" : Program objdump found: YES (/usr/bin/objdump) Compiler for C supports arguments -march=x86-64-v4: NO Fetching value of define "__AVX512F__" : 1 config/x86/meson.build:81:6: ERROR: List item must be one of , not A full log can be found at /root/workspace/Generic-Unit-Test-DPDK/dpdk/build/meson-logs/meson-log.txt ==== End log output ==== CentOS Stream 10 Kernel: 5.15 Compiler: gcc gcc (GCC) 14.2.1 20250110 (Red Hat 14.2.1-8) CentOS Stream 9 Kernel: 5.15 Compiler: gcc gcc (GCC) 11.5.0 20240719 (Red Hat 11.5.0-7) Debian GNU/Linux 12 Kernel: 5.15 Compiler: gcc gcc (Debian 12.2.0-14+deb12u1) 12.2.0 Fedora Linux 41 Kernel: 5.15 Compiler: gcc gcc (GCC) 14.3.1 20250523 (Red Hat 14.3.1-1) Fedora Linux 40 Kernel: 5.15 Compiler: clang gcc (GCC) 14.2.1 20240912 (Red Hat 14.2.1-3) Red Hat Enterprise Linux 9.5 Kernel: 5.15 Compiler: gcc gcc (GCC) 11.5.0 20240719 (Red Hat 11.5.0-2) Ubuntu 24.04 Kernel: 5.15 Compiler: gcc gcc (Ubuntu 13.3.0-6ubuntu2~24.04) 13.3.0 Red Hat Enterprise Linux 8.10 Kernel: 5.15 Compiler: gcc gcc (GCC) 8.5.0 20210514 (Red Hat 8.5.0-22) Ubuntu 22.04 Kernel: 5.15 Compiler: gcc gcc (Ubuntu 11.4.0-1ubuntu1~22.04) 11.4.0 Ubuntu 20.04 Kernel: 5.15 Compiler: gcc gcc (Ubuntu 9.4.0-1ubuntu1~20.04.2) 9.4.0 To view detailed results, visit: https://lab.dpdk.org/results/dashboard/patchsets/33569/ UNH-IOL DPDK Community Lab To manage your email subscriptions, visit: https://lab.dpdk.org/results/dashboard/preferences/subscriptions/