From mboxrd@z Thu Jan 1 00:00:00 1970 Return-Path: Received: from mails.dpdk.org (mails.dpdk.org [217.70.189.124]) by inbox.dpdk.org (Postfix) with ESMTP id A188E46B2D for ; Tue, 8 Jul 2025 22:02:03 +0200 (CEST) Received: from mails.dpdk.org (localhost [127.0.0.1]) by mails.dpdk.org (Postfix) with ESMTP id 9CA2F40292; Tue, 8 Jul 2025 22:02:03 +0200 (CEST) Received: from mail-pl1-f228.google.com (mail-pl1-f228.google.com [209.85.214.228]) by mails.dpdk.org (Postfix) with ESMTP id 0CCCB40292 for ; Tue, 8 Jul 2025 22:02:03 +0200 (CEST) Received: by mail-pl1-f228.google.com with SMTP id d9443c01a7336-236470b2dceso42071745ad.0 for ; Tue, 08 Jul 2025 13:02:02 -0700 (PDT) DKIM-Signature: v=1; a=rsa-sha256; c=relaxed/relaxed; d=iol.unh.edu; s=unh-iol; t=1752004922; x=1752609722; darn=dpdk.org; h=references:in-reply-to:cc:to:from:subject:message-id:date:from:to :cc:subject:date:message-id:reply-to; bh=PjomwaxYewa3J8RQqEL6UuhUD2HQOtUgLgxWdLGFFjg=; b=CiYt3Ux1TZW9wIwr6OiyKBparlfhaiKAPlWQV9cREI1r0MVnlKaRJaPByiQvrH63t7 mwBCzXqU2UiQ7f7udVOiMx1NJlVdzcANE+A5zvw/e4qTfDEIVUZwrkAWVeltwoezy6ix stExxhBSoAP2eGKP7pdlaqdV7sC4SOC5a3tPk= X-Google-DKIM-Signature: v=1; a=rsa-sha256; c=relaxed/relaxed; d=1e100.net; s=20230601; t=1752004922; x=1752609722; h=references:in-reply-to:cc:to:from:subject:message-id:date :x-gm-message-state:from:to:cc:subject:date:message-id:reply-to; bh=PjomwaxYewa3J8RQqEL6UuhUD2HQOtUgLgxWdLGFFjg=; b=p7xq7gvoKoHLW/8ZhKzOFgYA7LcmEdrsmf+UZZD0aonLFuk9y2XCRgKaFI/4JCzojh x9qXZSVjmvZKsKM4YekqlkH9z0L242tGEW7MSS0rRuLHRuxQR/kBl6n9x6mAVuz9KBEE OHvNj1q0F8xrhiK1wXpOdUSCK/IrX/4CQbi5CCTI/ruynHR99NJpouE6sYCUhtO2wPhd ZlHRBR0VkjfFK2X8jwiuB5crWgTAHD/nPdmWF65HRkV/1v+XFply3zLLEm+aVvISIqGT SZqGc7s0JuebVls6/1hPGoQGBKiHcNRb0TAZ0eYZhOCOSsX3Vco3Vpoyn87JL3aqdCRU rOwg== X-Gm-Message-State: AOJu0YxVIKj4rO0TTXMBy6PZ+gPfc5LuhDYDoFanOpR3KVrcWlCv7X3L ACp2td5ZmxQav2uwohrbIcw4QGoHoh/bflWwswrU8/4wM4xFpAHVp9GAiIz9ixTDcSKq3EpeHmY NdbI7KF03ExDGFhLiMSFMGZH98IwOZOw4+lxR0vWjfnfUYTsxHh6DiGgnadq8 X-Gm-Gg: ASbGncsr4sYveU4yK1cuOKM0yh3U0sFY6PFBvcj7vvOWjXjtIpn1WChyXdo/Jcktqlh uct6WmjAJcRAyt8HYtpUNVfJygYXxdzUntNRWK3mWNcniVto6tKWOn3SehKNY4C149emRuBV/Ru pV75PUVcW3sJ2G1TgVdMoRjxb/+xIZ03yW/V9BVR7WUx51Jtp77gLFUJXvDWYtwsKL9zA2ncgYT Fz89n124ndo5ZPpi4mzjRcMSaZ8mFkHghIZACiPjtjJHR6IHbidJ81tjuznaH7o9fUvop+GYOKI UD+HT/sEhJqYpi5bCQpVUR945213byiQtVie4bKrcLtNdyk= X-Google-Smtp-Source: AGHT+IFnHQuFzWNn6HiRvjGN13W/aW/NksHjwmCva1KRtH8jnIeDhkCX8FW+docC36JbtXzGwL3RDLbz8VWP X-Received: by 2002:a17:902:d587:b0:236:6e4f:d439 with SMTP id d9443c01a7336-23c8747edfamr209709835ad.23.1752004921850; Tue, 08 Jul 2025 13:02:01 -0700 (PDT) Received: from postal.iol.unh.edu (postal.iol.unh.edu. [2606:4100:3880:1234::84]) by smtp-relay.gmail.com with ESMTPS id d9443c01a7336-23c842b553bsm5439705ad.25.2025.07.08.13.02.01 (version=TLS1_2 cipher=ECDHE-ECDSA-AES128-GCM-SHA256 bits=128/128); Tue, 08 Jul 2025 13:02:01 -0700 (PDT) X-Relaying-Domain: iol.unh.edu Date: Tue, 08 Jul 2025 13:02:01 -0700 (PDT) Message-ID: <686d7939.170a0220.28c50c.bd70SMTPIN_ADDED_MISSING@mx.google.com> Received: from [172.21.0.11] (unknown [172.18.0.240]) by postal.iol.unh.edu (Postfix) with ESMTP id BAC856050A61; Tue, 8 Jul 2025 16:02:00 -0400 (EDT) Subject: |WARNING| pw154968 [PATCH] build/x86: fix support for older compiler From: dpdklab@iol.unh.edu To: Test Report Cc: dpdk-test-reports@iol.unh.edu In-Reply-To: <20250702155129.3440210-1-bruce.richardson@intel.com> References: <20250702155129.3440210-1-bruce.richardson@intel.com> Content-Type: text/plain X-BeenThere: test-report@dpdk.org X-Mailman-Version: 2.1.29 Precedence: list List-Id: automatic DPDK test reports List-Unsubscribe: , List-Archive: List-Post: List-Help: List-Subscribe: , Errors-To: test-report-bounces@dpdk.org Test-Label: iol-unit-amd64-testing Test-Status: WARNING http://dpdk.org/patch/154968 _Testing issues_ Submitter: Bruce Richardson Date: Wednesday, July 02 2025 15:51:29 DPDK git baseline: Repo:dpdk Branch: master CommitID:5d47e73e5f4f2eb69bd73f642cfd72b49436bf96 154968 --> testing issues Upstream job id: Generic-Unit-Test-DPDK#353696 Test environment and result as below: +-------------------------------+----------------+ | Environment | dpdk_unit_test | +===============================+================+ | CentOS Stream 10 | WARN | +-------------------------------+----------------+ | CentOS Stream 9 | WARN | +-------------------------------+----------------+ | Debian GNU/Linux 12 | WARN | +-------------------------------+----------------+ | Fedora Linux 41 | WARN | +-------------------------------+----------------+ | Fedora Linux 40 | WARN | +-------------------------------+----------------+ | Red Hat Enterprise Linux 9.5 | WARN | +-------------------------------+----------------+ | Ubuntu 24.04 | WARN | +-------------------------------+----------------+ | Red Hat Enterprise Linux 8.10 | WARN | +-------------------------------+----------------+ | Ubuntu 22.04 | WARN | +-------------------------------+----------------+ | Ubuntu 20.04 | WARN | +-------------------------------+----------------+ ==== 20 line log output for Ubuntu 20.04 (dpdk_unit_test): ==== Compiler for C supports arguments -Wsign-compare: YES Compiler for C supports arguments -Wstrict-prototypes: YES Compiler for C supports arguments -Wundef: YES Compiler for C supports arguments -Wwrite-strings: YES Compiler for C supports arguments -Wno-packed-not-aligned: YES Compiler for C supports arguments -Wno-missing-field-initializers: YES Compiler for C supports arguments -fzero-init-padding-bits=all: NO Fetching value of define "__AVX2__" : 1 Fetching value of define "__znver1__" : Fetching value of define "__znver2__" : Fetching value of define "__znver3__" : Fetching value of define "__znver4__" : Fetching value of define "__znver5__" : Program objdump found: YES (/usr/bin/objdump) Compiler for C supports arguments -march=x86-64-v4: NO Fetching value of define "__AVX512F__" : 1 config/x86/meson.build:81:6: ERROR: List item must be one of , not A full log can be found at /root/workspace/Generic-Unit-Test-DPDK/dpdk/build/meson-logs/meson-log.txt ==== End log output ==== CentOS Stream 10 Kernel: 5.15 Compiler: gcc gcc (GCC) 14.2.1 20250110 (Red Hat 14.2.1-8) CentOS Stream 9 Kernel: 5.15 Compiler: gcc gcc (GCC) 11.5.0 20240719 (Red Hat 11.5.0-7) Debian GNU/Linux 12 Kernel: 5.15 Compiler: gcc gcc (Debian 12.2.0-14+deb12u1) 12.2.0 Fedora Linux 41 Kernel: 5.15 Compiler: gcc gcc (GCC) 14.3.1 20250523 (Red Hat 14.3.1-1) Fedora Linux 40 Kernel: 5.15 Compiler: clang gcc (GCC) 14.2.1 20240912 (Red Hat 14.2.1-3) Red Hat Enterprise Linux 9.5 Kernel: 5.15 Compiler: gcc gcc (GCC) 11.5.0 20240719 (Red Hat 11.5.0-2) Ubuntu 24.04 Kernel: 5.15 Compiler: gcc gcc (Ubuntu 13.3.0-6ubuntu2~24.04) 13.3.0 Red Hat Enterprise Linux 8.10 Kernel: 5.15 Compiler: gcc gcc (GCC) 8.5.0 20210514 (Red Hat 8.5.0-22) Ubuntu 22.04 Kernel: 5.15 Compiler: gcc gcc (Ubuntu 11.4.0-1ubuntu1~22.04) 11.4.0 Ubuntu 20.04 Kernel: 5.15 Compiler: gcc gcc (Ubuntu 9.4.0-1ubuntu1~20.04.2) 9.4.0 To view detailed results, visit: https://lab.dpdk.org/results/dashboard/patchsets/33569/ UNH-IOL DPDK Community Lab To manage your email subscriptions, visit: https://lab.dpdk.org/results/dashboard/preferences/subscriptions/