From mboxrd@z Thu Jan 1 00:00:00 1970 Return-Path: Received: from mails.dpdk.org (mails.dpdk.org [217.70.189.124]) by inbox.dpdk.org (Postfix) with ESMTP id B1B2D46B2D for ; Tue, 8 Jul 2025 22:02:22 +0200 (CEST) Received: from mails.dpdk.org (localhost [127.0.0.1]) by mails.dpdk.org (Postfix) with ESMTP id AAD7240292; Tue, 8 Jul 2025 22:02:22 +0200 (CEST) Received: from mail-io1-f97.google.com (mail-io1-f97.google.com [209.85.166.97]) by mails.dpdk.org (Postfix) with ESMTP id 3844040292 for ; Tue, 8 Jul 2025 22:02:21 +0200 (CEST) Received: by mail-io1-f97.google.com with SMTP id ca18e2360f4ac-86d00726631so138748839f.1 for ; Tue, 08 Jul 2025 13:02:21 -0700 (PDT) DKIM-Signature: v=1; a=rsa-sha256; c=relaxed/relaxed; d=iol.unh.edu; s=unh-iol; t=1752004940; x=1752609740; darn=dpdk.org; h=references:in-reply-to:cc:to:from:subject:message-id:date:from:to :cc:subject:date:message-id:reply-to; bh=aCHQeVRPK8BIgpYK0lM+JZuNU406SD+xM48Fgd3Hlq0=; b=St00Rup2uJoCX0LCLWfRx2Qa+M+9rdaQRP3KyAmCVwz3yPfK3NYXm/u2/mhqcHcUqt DjrQ/4TdXQDdnkvxKJ0N88mF4IYjMuN7LleukxQGR8/Q6uv/3yd2it6TpRrE+rpzgyF/ QI2bplu9d3iplRFKlsQ+AgUuqzeo+VexDaL8A= X-Google-DKIM-Signature: v=1; a=rsa-sha256; c=relaxed/relaxed; d=1e100.net; s=20230601; t=1752004940; x=1752609740; h=references:in-reply-to:cc:to:from:subject:message-id:date :x-gm-message-state:from:to:cc:subject:date:message-id:reply-to; bh=aCHQeVRPK8BIgpYK0lM+JZuNU406SD+xM48Fgd3Hlq0=; b=q9coTzfN7dsW800G3f6r+wEwalH5ld87CobMXSkiA16UfLN/p7kutmbhl/cL+1Xjn5 2etWJwbO6LZ/cDmf308DZLV/x4vkns8cQb2M9yJZQI1TdJaL1QODQt4HRjslxYu37APE TiyfJiUMnZHHtum/nHmRkv8KkN9p2XJAnkLZSu8drwP3lg3GkSra0gE6Nz/C5CMUVKOO Mc51GisgsTAmyI31601lEKDphOa9VV9S9eAiWVS+J4S+aOcPyZ433zVP65cSvbDNaORC MUjyR1LzT2EYFvz7Nmdt0bBwNlLa77BnQMPXdyuGQ25cNQvCpHmmS/M/Katf7RPZGoIE QGKg== X-Gm-Message-State: AOJu0YywI+BQNzrYeWfKIndQCYMly3BbjwZ7dbUxZWPIdtA0hdsYUCz0 9WhM+vW9mcJmgk4xa1dZuPaWSMEqXeoR5CmUztq36lEjlalW6gaqKNa5ZKW/FMtDqYBEjvrrkjW tILK5I5eIyovSZMsOJy9XrUhnoBA2iO0tFffBdl4fnYzk X-Gm-Gg: ASbGncsOVUju/Li/48G+IlNFhuWFPEqp0jANBRkHkSHbcm6VgmCWUcgH//+8tXqVHB4 2CiMhpEoaE+Qz1pcI3w9X4uvuoAjs8YH46y/XrDDhGD0CqTIUJutYaPpz7e3I0Zj5V4cZl+qzv8 YnCdpxwjWRZ5fB5q/mwpHfMRqSFPPbL2SkY5fKbDVuMyvuqsF/MT/GQIrLMATMKmfzQzSL6D5me bHZBRCUkQ8Bku5zO7hC6MLaO+YZJKjGty7KhYKOAWZi9Q1NR5QaOGR1tsAMiu3pVPPt9opZhyvW xWUnvEQwc1ayOoMrBu16cAf1dqfWo2koynQNXfWCPRlslBv9rP0w5bFedRaP8L6P/ASSAA== X-Google-Smtp-Source: AGHT+IHGu5u/jBXj7qNLBb0TzGbnCcDmDHmobBkJCIJsTWlrq6XSYKNa2SejUm56Sc2LOkFlz/Aj2IJMra2B X-Received: by 2002:a05:6602:6002:b0:879:4e65:68b5 with SMTP id ca18e2360f4ac-8794e657360mr503674539f.12.1752004940445; Tue, 08 Jul 2025 13:02:20 -0700 (PDT) Received: from postal.iol.unh.edu (postal.iol.unh.edu. [132.177.123.84]) by smtp-relay.gmail.com with ESMTPS id 8926c6da1cb9f-503b5a125dfsm386767173.22.2025.07.08.13.02.20 (version=TLS1_2 cipher=ECDHE-ECDSA-AES128-GCM-SHA256 bits=128/128); Tue, 08 Jul 2025 13:02:20 -0700 (PDT) X-Relaying-Domain: iol.unh.edu Date: Tue, 08 Jul 2025 13:02:20 -0700 (PDT) Message-ID: <686d794c.050a0220.112a60.40ceSMTPIN_ADDED_MISSING@mx.google.com> Received: from [172.21.0.10] (unknown [172.18.0.240]) by postal.iol.unh.edu (Postfix) with ESMTP id A83C96050A61; Tue, 8 Jul 2025 16:02:19 -0400 (EDT) Subject: |WARNING| pw154968 [PATCH] build/x86: fix support for older compiler From: dpdklab@iol.unh.edu To: Test Report Cc: dpdk-test-reports@iol.unh.edu In-Reply-To: <20250702155129.3440210-1-bruce.richardson@intel.com> References: <20250702155129.3440210-1-bruce.richardson@intel.com> Content-Type: text/plain X-BeenThere: test-report@dpdk.org X-Mailman-Version: 2.1.29 Precedence: list List-Id: automatic DPDK test reports List-Unsubscribe: , List-Archive: List-Post: List-Help: List-Subscribe: , Errors-To: test-report-bounces@dpdk.org Test-Label: iol-unit-amd64-testing Test-Status: WARNING http://dpdk.org/patch/154968 _Testing issues_ Submitter: Bruce Richardson Date: Wednesday, July 02 2025 15:51:29 DPDK git baseline: Repo:dpdk Branch: master CommitID:5d47e73e5f4f2eb69bd73f642cfd72b49436bf96 154968 --> testing issues Upstream job id: Generic-Unit-Test-DPDK#353709 Test environment and result as below: +-------------------------------+----------------+ | Environment | dpdk_unit_test | +===============================+================+ | CentOS Stream 10 | WARN | +-------------------------------+----------------+ | CentOS Stream 9 | WARN | +-------------------------------+----------------+ | Debian GNU/Linux 12 | WARN | +-------------------------------+----------------+ | Fedora Linux 41 | WARN | +-------------------------------+----------------+ | Fedora Linux 40 | WARN | +-------------------------------+----------------+ | Red Hat Enterprise Linux 9.5 | WARN | +-------------------------------+----------------+ | Ubuntu 24.04 | WARN | +-------------------------------+----------------+ | Red Hat Enterprise Linux 8.10 | WARN | +-------------------------------+----------------+ | Ubuntu 22.04 | WARN | +-------------------------------+----------------+ | Ubuntu 20.04 | WARN | +-------------------------------+----------------+ ==== 20 line log output for Ubuntu 20.04 (dpdk_unit_test): ==== Compiler for C supports arguments -Wsign-compare: YES Compiler for C supports arguments -Wstrict-prototypes: YES Compiler for C supports arguments -Wundef: YES Compiler for C supports arguments -Wwrite-strings: YES Compiler for C supports arguments -Wno-packed-not-aligned: YES Compiler for C supports arguments -Wno-missing-field-initializers: YES Compiler for C supports arguments -fzero-init-padding-bits=all: NO Fetching value of define "__AVX2__" : 1 Fetching value of define "__znver1__" : Fetching value of define "__znver2__" : Fetching value of define "__znver3__" : Fetching value of define "__znver4__" : Fetching value of define "__znver5__" : Program objdump found: YES (/usr/bin/objdump) Compiler for C supports arguments -march=x86-64-v4: NO Fetching value of define "__AVX512F__" : 1 config/x86/meson.build:81:6: ERROR: List item must be one of , not A full log can be found at /root/workspace/Generic-Unit-Test-DPDK/dpdk/build/meson-logs/meson-log.txt ==== End log output ==== CentOS Stream 10 Kernel: 5.15 Compiler: gcc gcc (GCC) 14.2.1 20250110 (Red Hat 14.2.1-8) CentOS Stream 9 Kernel: 5.15 Compiler: gcc gcc (GCC) 11.5.0 20240719 (Red Hat 11.5.0-7) Debian GNU/Linux 12 Kernel: 5.15 Compiler: gcc gcc (Debian 12.2.0-14+deb12u1) 12.2.0 Fedora Linux 41 Kernel: 5.15 Compiler: gcc gcc (GCC) 14.3.1 20250523 (Red Hat 14.3.1-1) Fedora Linux 40 Kernel: 5.15 Compiler: clang gcc (GCC) 14.2.1 20240912 (Red Hat 14.2.1-3) Red Hat Enterprise Linux 9.5 Kernel: 5.15 Compiler: gcc gcc (GCC) 11.5.0 20240719 (Red Hat 11.5.0-2) Ubuntu 24.04 Kernel: 5.15 Compiler: gcc gcc (Ubuntu 13.3.0-6ubuntu2~24.04) 13.3.0 Red Hat Enterprise Linux 8.10 Kernel: 5.15 Compiler: gcc gcc (GCC) 8.5.0 20210514 (Red Hat 8.5.0-22) Ubuntu 22.04 Kernel: 5.15 Compiler: gcc gcc (Ubuntu 11.4.0-1ubuntu1~22.04) 11.4.0 Ubuntu 20.04 Kernel: 5.15 Compiler: gcc gcc (Ubuntu 9.4.0-1ubuntu1~20.04.2) 9.4.0 To view detailed results, visit: https://lab.dpdk.org/results/dashboard/patchsets/33569/ UNH-IOL DPDK Community Lab To manage your email subscriptions, visit: https://lab.dpdk.org/results/dashboard/preferences/subscriptions/