From mboxrd@z Thu Jan 1 00:00:00 1970 Return-Path: Received: from mails.dpdk.org (mails.dpdk.org [217.70.189.124]) by inbox.dpdk.org (Postfix) with ESMTP id C28E346B2D for ; Tue, 8 Jul 2025 22:02:22 +0200 (CEST) Received: from mails.dpdk.org (localhost [127.0.0.1]) by mails.dpdk.org (Postfix) with ESMTP id B7B8D40DDC; Tue, 8 Jul 2025 22:02:22 +0200 (CEST) Received: from mail-qv1-f100.google.com (mail-qv1-f100.google.com [209.85.219.100]) by mails.dpdk.org (Postfix) with ESMTP id 8ED2D40292 for ; Tue, 8 Jul 2025 22:02:21 +0200 (CEST) Received: by mail-qv1-f100.google.com with SMTP id 6a1803df08f44-6fabb948e5aso60873766d6.1 for ; Tue, 08 Jul 2025 13:02:21 -0700 (PDT) DKIM-Signature: v=1; a=rsa-sha256; c=relaxed/relaxed; d=iol.unh.edu; s=unh-iol; t=1752004941; x=1752609741; darn=dpdk.org; h=references:in-reply-to:cc:to:from:subject:message-id:date:from:to :cc:subject:date:message-id:reply-to; bh=Tz0wXrOOYRRjKwXc/2a8dZSN/MUQnovDhQ0rgbKFK88=; b=M5YDL/Rn0bG67YTxK2yWG4fhMefshCGZUxuFCUfqDZw5SoFbGTHhkgl8K8rsPnNoVM 8E7+b+vCBD6c7OPPaaOdrSzY22O7cgeknAo9Km+iwIeyPVfnkOriE2yN9KOdJeU12R6f 3ZHs/QJdJgAQXm+DyLHdabaZNo8R3YsBivAH0= X-Google-DKIM-Signature: v=1; a=rsa-sha256; c=relaxed/relaxed; d=1e100.net; s=20230601; t=1752004941; x=1752609741; h=references:in-reply-to:cc:to:from:subject:message-id:date :x-gm-message-state:from:to:cc:subject:date:message-id:reply-to; bh=Tz0wXrOOYRRjKwXc/2a8dZSN/MUQnovDhQ0rgbKFK88=; b=pJtsSqIXxVqytlxKZpPuu21FN6DvpI1I3ZvcdMc3a1lXiGZOJ0q4EbM0opKsDZ1gOg NHqtR+nKbBQ2rSheiVANpJ8SmfMYPP6cuS/9Tp4HFj2PTMUtVM2dPcy1RXhTghasGfXy kOapIBZ0kEWXLZ9dR4JTBGuVGbztbK+rOx0NQ9hh+1/ZSFxdE1976M6NwN4Zrmb2jamS okXIe0VjdQ6K8gdjJJWRI7xbX0rTLNhZacOKtASRbOLowr33jTFWFGEG/F0i0RSXeFSD zJ5e+Z02dHAFduHqhTJi1qCEibwUwCBkNoDqiiBdP85hrUFtHIJshC85KWixs22k2mNS lEVQ== X-Gm-Message-State: AOJu0YxPNzC8jtbVRlBi4cF36pNnn0lwW+WBrwySUGDtmW5vaiLhS7Sg HQKQpU+5qXqj8bawK+uWInY2NmTX/p/O3bYKOyOACCV4MUk/ATZhfJPc+bTc5BlE6Hw6xuz4LNP 07th7vLPAOcOvdwCLyYEMwW3lDvxhqbbvmyRm4w3I255hRLCRhHp3csVetJUm X-Gm-Gg: ASbGncuoilhorYTuPdXVhewlB9+qSkE20AOpsKczSBjz7FuDiD/Kn7w/wEpFHPjGJr7 kxc8dcjhS/Z9jvAJbD5lImTVcUnTa1zs5fcnIrsKCtk3ZAvyoz8L9V/yhcDAcMPDMXQN4vok/Ip dyTj9Kvp2w6MsBdrDkLpnf7Z0+EChbK9q3uJCyYLbQmkp2Sb5ipnsWWsVRS5VF50FNPpA77GLYU 0kSDKPNW2ChgKFpdNeiOh7P4FUhO6Nw9vDh33OX5DH69jV4CGpMMQ/qa5dO9hC29Pa2VCf0fiHO /PzoUYvz5KwbI5kp7PBeJ/0WFy973Ks0CSkJPKO6ie5MOzM= X-Google-Smtp-Source: AGHT+IFj02jdUW/XHZjxCkUySfGmB7Z366eiHP2x1/go67/h2/1TTUqAN1IB8mXDe5H6Z2bOHVjcRGDUjtYJ X-Received: by 2002:a05:6214:23cb:b0:6fa:bb74:8d72 with SMTP id 6a1803df08f44-702c896b6eamr275535526d6.0.1752004940784; Tue, 08 Jul 2025 13:02:20 -0700 (PDT) Received: from postal.iol.unh.edu (postal.iol.unh.edu. [2606:4100:3880:1234::84]) by smtp-relay.gmail.com with ESMTPS id 6a1803df08f44-702c4cc5066sm5733386d6.11.2025.07.08.13.02.20 (version=TLS1_2 cipher=ECDHE-ECDSA-AES128-GCM-SHA256 bits=128/128); Tue, 08 Jul 2025 13:02:20 -0700 (PDT) X-Relaying-Domain: iol.unh.edu Date: Tue, 08 Jul 2025 13:02:20 -0700 (PDT) Message-ID: <686d794c.050a0220.3a8262.e826SMTPIN_ADDED_MISSING@mx.google.com> Received: from [172.21.0.5] (unknown [172.18.0.240]) by postal.iol.unh.edu (Postfix) with ESMTP id 3E0536050A65; Tue, 8 Jul 2025 16:02:20 -0400 (EDT) Subject: |SUCCESS| pw155078 [PATCH] [v3] net/mlx5: remove use of sizeof(rte_v From: dpdklab@iol.unh.edu To: Test Report Cc: dpdk-test-reports@iol.unh.edu In-Reply-To: <1751987516-30482-1-git-send-email-andremue@linux.microsoft.com> References: <1751987516-30482-1-git-send-email-andremue@linux.microsoft.com> Content-Type: text/plain X-BeenThere: test-report@dpdk.org X-Mailman-Version: 2.1.29 Precedence: list List-Id: automatic DPDK test reports List-Unsubscribe: , List-Archive: List-Post: List-Help: List-Subscribe: , Errors-To: test-report-bounces@dpdk.org Test-Label: iol-abi-testing Test-Status: SUCCESS http://dpdk.org/patch/155078 _Testing PASS_ Submitter: Andre Muezerie Date: Tuesday, July 08 2025 15:11:56 DPDK git baseline: Repo:dpdk Branch: master CommitID:e2888614268cbf0abcc7cd72ad97ff4e4901d0a5 155078 --> testing pass Upstream job id: Generic-DPDK-Compile-ABI#133546 Test environment and result as below: +-------------------------------+----------+ | Environment | abi_test | +===============================+==========+ | CentOS Stream 10 | PASS | +-------------------------------+----------+ | Debian GNU/Linux 12 | PASS | +-------------------------------+----------+ | Fedora Linux 40 | PASS | +-------------------------------+----------+ | Red Hat Enterprise Linux 8.10 | PASS | +-------------------------------+----------+ | openSUSE Leap 15.6 | PASS | +-------------------------------+----------+ | Fedora Linux 41 | PASS | +-------------------------------+----------+ | Red Hat Enterprise Linux 9.5 | PASS | +-------------------------------+----------+ | Ubuntu 22.04 | PASS | +-------------------------------+----------+ | Ubuntu 24.04 | PASS | +-------------------------------+----------+ | CentOS Stream 9 | PASS | +-------------------------------+----------+ CentOS Stream 10 Kernel: 5.15 Compiler: gcc gcc (GCC) 14.2.1 20250110 (Red Hat 14.2.1-8) Debian GNU/Linux 12 Kernel: 5.15 Compiler: gcc gcc (Debian 12.2.0-14+deb12u1) 12.2.0 Fedora Linux 40 Kernel: 5.15 Compiler: clang gcc (GCC) 14.2.1 20240912 (Red Hat 14.2.1-3) Red Hat Enterprise Linux 8.10 Kernel: 5.15 Compiler: gcc gcc (GCC) 8.5.0 20210514 (Red Hat 8.5.0-22) openSUSE Leap 15.6 Kernel: 5.15 Compiler: gcc gcc (SUSE Linux) 7.5.0 Fedora Linux 41 Kernel: 5.15 Compiler: clang gcc (GCC) 14.3.1 20250523 (Red Hat 14.3.1-1) Red Hat Enterprise Linux 9.5 Kernel: 5.15 Compiler: gcc gcc (GCC) 11.5.0 20240719 (Red Hat 11.5.0-2) Ubuntu 22.04 Kernel: 5.15 Compiler: gcc gcc (Ubuntu 11.4.0-1ubuntu1~22.04) 11.4.0 Ubuntu 24.04 Kernel: 5.15 Compiler: gcc gcc (Ubuntu 13.3.0-6ubuntu2~24.04) 13.3.0 CentOS Stream 9 Kernel: 5.15 Compiler: gcc gcc (GCC) 11.5.0 20240719 (Red Hat 11.5.0-7) To view detailed results, visit: https://lab.dpdk.org/results/dashboard/patchsets/33615/ UNH-IOL DPDK Community Lab To manage your email subscriptions, visit: https://lab.dpdk.org/results/dashboard/preferences/subscriptions/