From mboxrd@z Thu Jan 1 00:00:00 1970 Return-Path: Received: from mails.dpdk.org (mails.dpdk.org [217.70.189.124]) by inbox.dpdk.org (Postfix) with ESMTP id 0657D46B2D for ; Tue, 8 Jul 2025 22:04:12 +0200 (CEST) Received: from mails.dpdk.org (localhost [127.0.0.1]) by mails.dpdk.org (Postfix) with ESMTP id E24E740292; Tue, 8 Jul 2025 22:04:12 +0200 (CEST) Received: from mail-pl1-f227.google.com (mail-pl1-f227.google.com [209.85.214.227]) by mails.dpdk.org (Postfix) with ESMTP id 1122640292 for ; Tue, 8 Jul 2025 22:04:12 +0200 (CEST) Received: by mail-pl1-f227.google.com with SMTP id d9443c01a7336-235f9e87f78so49132095ad.2 for ; Tue, 08 Jul 2025 13:04:11 -0700 (PDT) DKIM-Signature: v=1; a=rsa-sha256; c=relaxed/relaxed; d=iol.unh.edu; s=unh-iol; t=1752005051; x=1752609851; darn=dpdk.org; h=references:in-reply-to:cc:to:from:subject:message-id:date:from:to :cc:subject:date:message-id:reply-to; bh=s1M8cI5Bqxt8lL6Vb0mI11Dc/BXAV06DAUntrccZHO8=; b=FL33lmrfo0QjwSnBxjQ76J2Sysf3Ge8XZxkKAnQxPDpVQyyqGMxwS8hOBM1fiFdaUl WQEFej9jCZO+An9AcfjhHYSaTPPFXc62U+f+H9wz95sVygjhyxPF8uSSKJlR/XXJ8t8f wc801ia+d5UZFAxZZdHzF8kf5JAS6pduIfwmo= X-Google-DKIM-Signature: v=1; a=rsa-sha256; c=relaxed/relaxed; d=1e100.net; s=20230601; t=1752005051; x=1752609851; h=references:in-reply-to:cc:to:from:subject:message-id:date :x-gm-message-state:from:to:cc:subject:date:message-id:reply-to; bh=s1M8cI5Bqxt8lL6Vb0mI11Dc/BXAV06DAUntrccZHO8=; b=fJ3XQkSL3zouCqAYdklR/JGFa3KvC1R/KamT0WL60EJGRoA4UwNxC11e800Qm1seZX 8M/0Vqth+cgWiYLiBCI2a9C1p6Yjk4UM9x/1jxikPXauoQtvCMWGYwnDwZrq4Qwxk9uw bS2C6hd0FqEhT3/Ea9zal0Zsgak0a5Xc5zueByLo2NofInibr1bm6AVRsDLbPTmp54Vf PSp6cfL2z6FlhPPrpzeIMRoSLx1ow0sgtinsOfjO26P59d/49bhK37sfEW33v/HjAz6r SCJIISA0XLgpTmU73IjxyVwoFcMl7Cpqyi8sRHRr5wBU6ShGzsh8jX5Hpg4Ced1Pf6x7 959Q== X-Gm-Message-State: AOJu0YxPISpcmjMxKSdvXbBeZqoanGLGNURgS2+EUe+vcUQTPHm/ilz0 o5cgyL8ePsPEpx05ogrxzV7bmQpUDqMU2zCT17WNZxdubnsU7MqY8IG3Wtk18l+o+/r4CaF8HkE pWp6KNl4e4hG83jY8Ug7oxcGpzuWm9fF8UrVDIWUYuhB23vp3pMMGgKIrX18b X-Gm-Gg: ASbGncssfNWjVr0siYpY0o/UmVn4iMvfO+GEBN2amLTOKniqwvjE4gg5x+3XXmjwClx jjgC2pxPxtUnuaWul0Gr0nb+pHh9BcO+M2g/obBWqSZc58CcwJ4JYwRlUCCvIDtfGYw1zjItFHC +xxqh0L5iNyuACxrpRNt1thNN3yOrp4nv75y4VciuIPfCIGE3c9EHR3aEvNJqE8dU7qEBFxDK0P k2kNmaE+lMFdtEE72PO7OnocChZzJcocgfJcJJy9+ZWXcU+f9I7OOHzIh/kU2nz+nt2uU/dByzm zDiZbujcpThevlH+7xKMUUXtHBg1HcijKq4eTleJuScbGaM= X-Google-Smtp-Source: AGHT+IFb45vMELrCfOJs+vlYSKkrA8F1tTDNjoF43jsgjvbexqUIiiW7zgE600CwiW/BYA2EOCirmiBY8tqd X-Received: by 2002:a17:903:1b4f:b0:235:eb8b:9968 with SMTP id d9443c01a7336-23c85eae7a5mr266048965ad.36.1752005050961; Tue, 08 Jul 2025 13:04:10 -0700 (PDT) Received: from postal.iol.unh.edu (postal.iol.unh.edu. [2606:4100:3880:1234::84]) by smtp-relay.gmail.com with ESMTPS id d9443c01a7336-23c842b5a1esm5685195ad.2.2025.07.08.13.04.10 (version=TLS1_2 cipher=ECDHE-ECDSA-AES128-GCM-SHA256 bits=128/128); Tue, 08 Jul 2025 13:04:10 -0700 (PDT) X-Relaying-Domain: iol.unh.edu Date: Tue, 08 Jul 2025 13:04:10 -0700 (PDT) Message-ID: <686d79ba.170a0220.2a4d98.ee18SMTPIN_ADDED_MISSING@mx.google.com> Received: from [172.21.0.5] (unknown [172.18.0.240]) by postal.iol.unh.edu (Postfix) with ESMTP id DC1ED6050A61; Tue, 8 Jul 2025 16:04:09 -0400 (EDT) Subject: |SUCCESS| pw155078 [PATCH] [v3] net/mlx5: remove use of sizeof(rte_v From: dpdklab@iol.unh.edu To: Test Report Cc: dpdk-test-reports@iol.unh.edu In-Reply-To: <1751987516-30482-1-git-send-email-andremue@linux.microsoft.com> References: <1751987516-30482-1-git-send-email-andremue@linux.microsoft.com> Content-Type: text/plain X-BeenThere: test-report@dpdk.org X-Mailman-Version: 2.1.29 Precedence: list List-Id: automatic DPDK test reports List-Unsubscribe: , List-Archive: List-Post: List-Help: List-Subscribe: , Errors-To: test-report-bounces@dpdk.org Test-Label: iol-abi-testing Test-Status: SUCCESS http://dpdk.org/patch/155078 _Testing PASS_ Submitter: Andre Muezerie Date: Tuesday, July 08 2025 15:11:56 DPDK git baseline: Repo:dpdk Branch: master CommitID:e2888614268cbf0abcc7cd72ad97ff4e4901d0a5 155078 --> testing pass Upstream job id: Generic-DPDK-Compile-ABI#133541 Test environment and result as below: +-------------------------------+----------+ | Environment | abi_test | +===============================+==========+ | CentOS Stream 10 | PASS | +-------------------------------+----------+ | Debian GNU/Linux 12 | PASS | +-------------------------------+----------+ | Fedora Linux 40 | PASS | +-------------------------------+----------+ | Red Hat Enterprise Linux 8.10 | PASS | +-------------------------------+----------+ | openSUSE Leap 15.6 | PASS | +-------------------------------+----------+ | Fedora Linux 41 | PASS | +-------------------------------+----------+ | Red Hat Enterprise Linux 9.5 | PASS | +-------------------------------+----------+ | Ubuntu 22.04 | PASS | +-------------------------------+----------+ | Ubuntu 24.04 | PASS | +-------------------------------+----------+ | CentOS Stream 9 | PASS | +-------------------------------+----------+ CentOS Stream 10 Kernel: 5.15 Compiler: gcc gcc (GCC) 14.2.1 20250110 (Red Hat 14.2.1-8) Debian GNU/Linux 12 Kernel: 5.15 Compiler: gcc gcc (Debian 12.2.0-14+deb12u1) 12.2.0 Fedora Linux 40 Kernel: 5.15 Compiler: clang gcc (GCC) 14.2.1 20240912 (Red Hat 14.2.1-3) Red Hat Enterprise Linux 8.10 Kernel: 5.15 Compiler: gcc gcc (GCC) 8.5.0 20210514 (Red Hat 8.5.0-22) openSUSE Leap 15.6 Kernel: 5.15 Compiler: gcc gcc (SUSE Linux) 7.5.0 Fedora Linux 41 Kernel: 5.15 Compiler: clang gcc (GCC) 14.3.1 20250523 (Red Hat 14.3.1-1) Red Hat Enterprise Linux 9.5 Kernel: 5.15 Compiler: gcc gcc (GCC) 11.5.0 20240719 (Red Hat 11.5.0-2) Ubuntu 22.04 Kernel: 5.15 Compiler: gcc gcc (Ubuntu 11.4.0-1ubuntu1~22.04) 11.4.0 Ubuntu 24.04 Kernel: 5.15 Compiler: gcc gcc (Ubuntu 13.3.0-6ubuntu2~24.04) 13.3.0 CentOS Stream 9 Kernel: 5.15 Compiler: gcc gcc (GCC) 11.5.0 20240719 (Red Hat 11.5.0-7) To view detailed results, visit: https://lab.dpdk.org/results/dashboard/patchsets/33615/ UNH-IOL DPDK Community Lab To manage your email subscriptions, visit: https://lab.dpdk.org/results/dashboard/preferences/subscriptions/