From mboxrd@z Thu Jan 1 00:00:00 1970 Return-Path: Received: from mails.dpdk.org (mails.dpdk.org [217.70.189.124]) by inbox.dpdk.org (Postfix) with ESMTP id 0943946B2D for ; Tue, 8 Jul 2025 22:04:44 +0200 (CEST) Received: from mails.dpdk.org (localhost [127.0.0.1]) by mails.dpdk.org (Postfix) with ESMTP id 0412640292; Tue, 8 Jul 2025 22:04:44 +0200 (CEST) Received: from mail-pj1-f99.google.com (mail-pj1-f99.google.com [209.85.216.99]) by mails.dpdk.org (Postfix) with ESMTP id E516F40292 for ; Tue, 8 Jul 2025 22:04:42 +0200 (CEST) Received: by mail-pj1-f99.google.com with SMTP id 98e67ed59e1d1-311ef4fb43dso3936287a91.3 for ; Tue, 08 Jul 2025 13:04:42 -0700 (PDT) DKIM-Signature: v=1; a=rsa-sha256; c=relaxed/relaxed; d=iol.unh.edu; s=unh-iol; t=1752005082; x=1752609882; darn=dpdk.org; h=references:in-reply-to:cc:to:from:subject:message-id:date:from:to :cc:subject:date:message-id:reply-to; bh=k7aRv891y5fpr3kZgJHMjYShkZBv22ffA9KZPxJd1Hg=; b=ZyOd5fSw+bhx9k9QsGOsHlMADh+f1EYBIDhWauY09tph9q31ulccUROaozm5pql+8u YfgywY3PvOjhi6m+AFT8Anm4o9OOtOtpY3rcQqCGc6kwOxS6XzinRyHp+MZAoIQWkMTe 4ox6fzmofLA16yYf72TtEtOcdFFoEggdzlQQI= X-Google-DKIM-Signature: v=1; a=rsa-sha256; c=relaxed/relaxed; d=1e100.net; s=20230601; t=1752005082; x=1752609882; h=references:in-reply-to:cc:to:from:subject:message-id:date :x-gm-message-state:from:to:cc:subject:date:message-id:reply-to; bh=k7aRv891y5fpr3kZgJHMjYShkZBv22ffA9KZPxJd1Hg=; b=XDRhiWk9qrmeTLxV0gKUHBBupS63TzOkMIkUvJKIPDU7C946BFWcwGtCpS7f7zEQV9 uOCbLZrg8WbA4R8Zh94UAFhr4cSGpq3lbk48nhn2+bL5b4FEQe+DbXvKZ2pcM+DjQL3q 5iytvxWgFHCZgHrN+OO4tCoONQ7MLXQ4FoGWnxaIzntsrbVpDULpMaoGb66fkD/1boLc aQAX683PC8yByETCe3d3RegNKXXb4fhVMIQcf2parLMLxKYFmtqSCX7YuLthuo1lkIsH cjB2TfRq5Ej0dUtmfb/jkeaj1ftdztUX6S6AE/ohUt+CMm3gDSab+3vYz0lG7wHRmPSd EreA== X-Gm-Message-State: AOJu0YxUYnNnm331Y/FQJrXIMY792/9nNieygKTcSoLadav6QYM7C1Iz /PPXRcqbG5cLZXc2aNaQs+CBrX+WOp9UqQj9hJwZ5C+lONuRRLuPL1axMnzVl0K4I65QiR/81p0 jpL/FK2dCPCz8G8isxGEVsndFQNVuMrby7ZJhZej/UFaG2uTZ8UB9+Q1nXyhy X-Gm-Gg: ASbGncvnt++UA27poaay75r3tcjTsxxDWGiIlWBL0A0NEF/Fwy6jpEUG2fd5evR/iJD l7Inl5jmCjgfUA3azGFMGvM4HIVh6qyVnWfxulfKTXG1vR29eWtfplaYzNbEXtfdZfc5RW2SUbO rlEt+KyfrVCIKJRYHCljC+AgdmXqFFq8yXKtuMExa513LMiBzxWkBOd/tQpvCSyDqA4sZUTsWme MQoKgGNakdKmOXDDeyX3il1HzXlGBCTA7KTw1Ishp70EEpqFTfpWayH52EiK7VtVu8c8MNlu3tc M77H2BjmynSM8nCw4Z9cQJr7tRHvyEVbFtVtltXQOVMHEiI= X-Google-Smtp-Source: AGHT+IHvib6HgclHvhcpGFDRYJw92cIP7yM52VZ1UD6x/7vmdGJPxkQt6QhUVJ/l1k15sRHGEN8xqZ0RciOF X-Received: by 2002:a17:90b:1f87:b0:31a:9004:8d36 with SMTP id 98e67ed59e1d1-31aadd853d5mr23364931a91.20.1752005081814; Tue, 08 Jul 2025 13:04:41 -0700 (PDT) Received: from postal.iol.unh.edu (postal.iol.unh.edu. [2606:4100:3880:1234::84]) by smtp-relay.gmail.com with ESMTPS id 98e67ed59e1d1-31c22105da3sm36973a91.0.2025.07.08.13.04.41 (version=TLS1_2 cipher=ECDHE-ECDSA-AES128-GCM-SHA256 bits=128/128); Tue, 08 Jul 2025 13:04:41 -0700 (PDT) X-Relaying-Domain: iol.unh.edu Date: Tue, 08 Jul 2025 13:04:41 -0700 (PDT) Message-ID: <686d79d9.170a0220.2d1e11.1fd3SMTPIN_ADDED_MISSING@mx.google.com> Received: from [172.21.0.5] (unknown [172.18.0.240]) by postal.iol.unh.edu (Postfix) with ESMTP id 8FCFD6050A61; Tue, 8 Jul 2025 16:04:40 -0400 (EDT) Subject: |SUCCESS| pw155078 [PATCH] [v3] net/mlx5: remove use of sizeof(rte_v From: dpdklab@iol.unh.edu To: Test Report Cc: dpdk-test-reports@iol.unh.edu In-Reply-To: <1751987516-30482-1-git-send-email-andremue@linux.microsoft.com> References: <1751987516-30482-1-git-send-email-andremue@linux.microsoft.com> Content-Type: text/plain X-BeenThere: test-report@dpdk.org X-Mailman-Version: 2.1.29 Precedence: list List-Id: automatic DPDK test reports List-Unsubscribe: , List-Archive: List-Post: List-Help: List-Subscribe: , Errors-To: test-report-bounces@dpdk.org Test-Label: iol-abi-testing Test-Status: SUCCESS http://dpdk.org/patch/155078 _Testing PASS_ Submitter: Andre Muezerie Date: Tuesday, July 08 2025 15:11:56 DPDK git baseline: Repo:dpdk Branch: master CommitID:e2888614268cbf0abcc7cd72ad97ff4e4901d0a5 155078 --> testing pass Upstream job id: Generic-DPDK-Compile-ABI#133542 Test environment and result as below: +-------------------------------+----------+ | Environment | abi_test | +===============================+==========+ | CentOS Stream 10 | PASS | +-------------------------------+----------+ | Debian GNU/Linux 12 | PASS | +-------------------------------+----------+ | Fedora Linux 40 | PASS | +-------------------------------+----------+ | Red Hat Enterprise Linux 8.10 | PASS | +-------------------------------+----------+ | openSUSE Leap 15.6 | PASS | +-------------------------------+----------+ | Fedora Linux 41 | PASS | +-------------------------------+----------+ | Red Hat Enterprise Linux 9.5 | PASS | +-------------------------------+----------+ | Ubuntu 22.04 | PASS | +-------------------------------+----------+ | Ubuntu 24.04 | PASS | +-------------------------------+----------+ | CentOS Stream 9 | PASS | +-------------------------------+----------+ CentOS Stream 10 Kernel: 5.15 Compiler: gcc gcc (GCC) 14.2.1 20250110 (Red Hat 14.2.1-8) Debian GNU/Linux 12 Kernel: 5.15 Compiler: gcc gcc (Debian 12.2.0-14+deb12u1) 12.2.0 Fedora Linux 40 Kernel: 5.15 Compiler: clang gcc (GCC) 14.2.1 20240912 (Red Hat 14.2.1-3) Red Hat Enterprise Linux 8.10 Kernel: 5.15 Compiler: gcc gcc (GCC) 8.5.0 20210514 (Red Hat 8.5.0-22) openSUSE Leap 15.6 Kernel: 5.15 Compiler: gcc gcc (SUSE Linux) 7.5.0 Fedora Linux 41 Kernel: 5.15 Compiler: clang gcc (GCC) 14.3.1 20250523 (Red Hat 14.3.1-1) Red Hat Enterprise Linux 9.5 Kernel: 5.15 Compiler: gcc gcc (GCC) 11.5.0 20240719 (Red Hat 11.5.0-2) Ubuntu 22.04 Kernel: 5.15 Compiler: gcc gcc (Ubuntu 11.4.0-1ubuntu1~22.04) 11.4.0 Ubuntu 24.04 Kernel: 5.15 Compiler: gcc gcc (Ubuntu 13.3.0-6ubuntu2~24.04) 13.3.0 CentOS Stream 9 Kernel: 5.15 Compiler: gcc gcc (GCC) 11.5.0 20240719 (Red Hat 11.5.0-7) To view detailed results, visit: https://lab.dpdk.org/results/dashboard/patchsets/33615/ UNH-IOL DPDK Community Lab To manage your email subscriptions, visit: https://lab.dpdk.org/results/dashboard/preferences/subscriptions/