From mboxrd@z Thu Jan 1 00:00:00 1970 Return-Path: Received: from mails.dpdk.org (mails.dpdk.org [217.70.189.124]) by inbox.dpdk.org (Postfix) with ESMTP id 1D82146B2D for ; Tue, 8 Jul 2025 22:05:07 +0200 (CEST) Received: from mails.dpdk.org (localhost [127.0.0.1]) by mails.dpdk.org (Postfix) with ESMTP id 1447540292; Tue, 8 Jul 2025 22:05:07 +0200 (CEST) Received: from mail-pl1-f225.google.com (mail-pl1-f225.google.com [209.85.214.225]) by mails.dpdk.org (Postfix) with ESMTP id 7C4DB40292 for ; Tue, 8 Jul 2025 22:05:05 +0200 (CEST) Received: by mail-pl1-f225.google.com with SMTP id d9443c01a7336-23602481460so50345705ad.0 for ; Tue, 08 Jul 2025 13:05:05 -0700 (PDT) DKIM-Signature: v=1; a=rsa-sha256; c=relaxed/relaxed; d=iol.unh.edu; s=unh-iol; t=1752005105; x=1752609905; darn=dpdk.org; h=references:in-reply-to:cc:to:from:subject:message-id:date:from:to :cc:subject:date:message-id:reply-to; bh=jhaLpWdYPp+RPk2m1YhnTb1/OfN96+b8+mVxpFTwxFE=; b=di8iHAcuBjwl0YHX3d3v6RABVKAVl4ezYKl/ozu7h49oa1EFcUsb1LzlYP4LJHKr6p n8K6hM1D3khWwHHJ1TSM18KCTjqdZg1OOfOofyauhpFKeQX/YTa4tIixLoYOnutFJ0zI U3MaeR94LHEV2xwb9QF4kJuTCJdCAUwo8lB+E= X-Google-DKIM-Signature: v=1; a=rsa-sha256; c=relaxed/relaxed; d=1e100.net; s=20230601; t=1752005105; x=1752609905; h=references:in-reply-to:cc:to:from:subject:message-id:date :x-gm-message-state:from:to:cc:subject:date:message-id:reply-to; bh=jhaLpWdYPp+RPk2m1YhnTb1/OfN96+b8+mVxpFTwxFE=; b=NAVDUORbRSXJkDhKFlU81y8XvfaXnbOxyx45v6/JJfc6LJMMnEpfWQWS1xQIB6lJEo 7i0Zn+1a0UiRAUUr6t4GHVr5s7cNUZpQY/bHvcm1FcfKaiBytIjMR//ClDOSBrhixXn3 /3Wc0JGzCsqxqLXRQSWj2oGpdr7kIRlMi64RAs/e5XJEcaZ6y4kQNi2+UlUuXy6IwRry RH34OcOO29Ta8BHtXC/90v+DQnFWpmbdK2tqwpBVTwQfKFjFR83eQUjLH9BxjnmgrpAR v8rOkL+AgRqtxAPJa+mi5HzJnmseno3yeq+RXRh6AaglBPPqAq/5NU9pf1+42Dd6t7Lm tyNg== X-Gm-Message-State: AOJu0Yx/vDjmrqxproMR/wECHhNrE3opVsMQC9gXrbBasGncrhjNmk9K RWYrF58rS8M0sR73jWu8/NSGe+11D2v1DsKv3lVCdF4Ml2UtA186qijT7ceJWbi1YFREAveT/Zo roj+uKGlNDkhWRRlxiiImPKfio6KybiCYKDtAx6tgqDZcx9VOVQBy2odJIKd0 X-Gm-Gg: ASbGncsI6HxggIhbWafJP4c9dzxqjtyXilI9kllH1gbzybf/rLK+fY9MgAEBCBySHfI g9/31Pq2zpN3c68xaeH93k/lh9B6f7UMdLSm6Zhyvhk4JIwesyXyg90Oq+rauG5Gw8NcFBZZGuF fs9qiS5V3Ca/qNPHhIWoUAbSVfLlW23ntXRIRoPggYQTKf5vV5Kb9UzASUN7BlQ565kQ//9fsV9 LkPlb9Vn0Kn1d20dFfP/Eww+5VEcOR3To/jJvnRGIgdaaYXeICWK/Da1IoYe/ufe02RtYNkd4Eq wrJLUhbcR2jDPN4HruI3kn8mO78CncknWi2Hky+k5eT90cs= X-Google-Smtp-Source: AGHT+IFicYgBnOkxgY7gXV+SECnHPw3naAvxpD+MS0Sk4tQtD5Ntb3/wexS502+M6P4lAFJ1kgf1KAy8hEtl X-Received: by 2002:a17:903:1987:b0:231:ea68:4e2a with SMTP id d9443c01a7336-23dd1d47317mr62359775ad.34.1752005104533; Tue, 08 Jul 2025 13:05:04 -0700 (PDT) Received: from postal.iol.unh.edu (postal.iol.unh.edu. [2606:4100:3880:1234::84]) by smtp-relay.gmail.com with ESMTPS id d9443c01a7336-23c844e09f5sm5560085ad.70.2025.07.08.13.05.04 (version=TLS1_2 cipher=ECDHE-ECDSA-AES128-GCM-SHA256 bits=128/128); Tue, 08 Jul 2025 13:05:04 -0700 (PDT) X-Relaying-Domain: iol.unh.edu Date: Tue, 08 Jul 2025 13:05:04 -0700 (PDT) Message-ID: <686d79f0.170a0220.4ff6a.cf0eSMTPIN_ADDED_MISSING@mx.google.com> Received: from [172.21.0.9] (unknown [172.18.0.240]) by postal.iol.unh.edu (Postfix) with ESMTP id C51056050A61; Tue, 8 Jul 2025 16:05:03 -0400 (EDT) Subject: |SUCCESS| pw155078 [PATCH] [v3] net/mlx5: remove use of sizeof(rte_v From: dpdklab@iol.unh.edu To: Test Report Cc: dpdk-test-reports@iol.unh.edu In-Reply-To: <1751987516-30482-1-git-send-email-andremue@linux.microsoft.com> References: <1751987516-30482-1-git-send-email-andremue@linux.microsoft.com> Content-Type: text/plain X-BeenThere: test-report@dpdk.org X-Mailman-Version: 2.1.29 Precedence: list List-Id: automatic DPDK test reports List-Unsubscribe: , List-Archive: List-Post: List-Help: List-Subscribe: , Errors-To: test-report-bounces@dpdk.org Test-Label: iol-abi-testing Test-Status: SUCCESS http://dpdk.org/patch/155078 _Testing PASS_ Submitter: Andre Muezerie Date: Tuesday, July 08 2025 15:11:56 DPDK git baseline: Repo:dpdk Branch: master CommitID:e2888614268cbf0abcc7cd72ad97ff4e4901d0a5 155078 --> testing pass Upstream job id: Generic-DPDK-Compile-ABI#133545 Test environment and result as below: +-------------------------------+----------+ | Environment | abi_test | +===============================+==========+ | CentOS Stream 10 | PASS | +-------------------------------+----------+ | Debian GNU/Linux 12 | PASS | +-------------------------------+----------+ | Fedora Linux 40 | PASS | +-------------------------------+----------+ | Red Hat Enterprise Linux 8.10 | PASS | +-------------------------------+----------+ | openSUSE Leap 15.6 | PASS | +-------------------------------+----------+ | Fedora Linux 41 | PASS | +-------------------------------+----------+ | Red Hat Enterprise Linux 9.5 | PASS | +-------------------------------+----------+ | Ubuntu 22.04 | PASS | +-------------------------------+----------+ | Ubuntu 24.04 | PASS | +-------------------------------+----------+ | CentOS Stream 9 | PASS | +-------------------------------+----------+ CentOS Stream 10 Kernel: 5.15 Compiler: gcc gcc (GCC) 14.2.1 20250110 (Red Hat 14.2.1-8) Debian GNU/Linux 12 Kernel: 5.15 Compiler: gcc gcc (Debian 12.2.0-14+deb12u1) 12.2.0 Fedora Linux 40 Kernel: 5.15 Compiler: clang gcc (GCC) 14.2.1 20240912 (Red Hat 14.2.1-3) Red Hat Enterprise Linux 8.10 Kernel: 5.15 Compiler: gcc gcc (GCC) 8.5.0 20210514 (Red Hat 8.5.0-22) openSUSE Leap 15.6 Kernel: 5.15 Compiler: gcc gcc (SUSE Linux) 7.5.0 Fedora Linux 41 Kernel: 5.15 Compiler: clang gcc (GCC) 14.3.1 20250523 (Red Hat 14.3.1-1) Red Hat Enterprise Linux 9.5 Kernel: 5.15 Compiler: gcc gcc (GCC) 11.5.0 20240719 (Red Hat 11.5.0-2) Ubuntu 22.04 Kernel: 5.15 Compiler: gcc gcc (Ubuntu 11.4.0-1ubuntu1~22.04) 11.4.0 Ubuntu 24.04 Kernel: 5.15 Compiler: gcc gcc (Ubuntu 13.3.0-6ubuntu2~24.04) 13.3.0 CentOS Stream 9 Kernel: 5.15 Compiler: gcc gcc (GCC) 11.5.0 20240719 (Red Hat 11.5.0-7) To view detailed results, visit: https://lab.dpdk.org/results/dashboard/patchsets/33615/ UNH-IOL DPDK Community Lab To manage your email subscriptions, visit: https://lab.dpdk.org/results/dashboard/preferences/subscriptions/