From mboxrd@z Thu Jan 1 00:00:00 1970 Return-Path: Received: from mails.dpdk.org (mails.dpdk.org [217.70.189.124]) by inbox.dpdk.org (Postfix) with ESMTP id 3791846B2D for ; Tue, 8 Jul 2025 22:05:48 +0200 (CEST) Received: from mails.dpdk.org (localhost [127.0.0.1]) by mails.dpdk.org (Postfix) with ESMTP id 3208740292; Tue, 8 Jul 2025 22:05:48 +0200 (CEST) Received: from mail-yw1-f227.google.com (mail-yw1-f227.google.com [209.85.128.227]) by mails.dpdk.org (Postfix) with ESMTP id 0918B40292 for ; Tue, 8 Jul 2025 22:05:47 +0200 (CEST) Received: by mail-yw1-f227.google.com with SMTP id 00721157ae682-714078015edso42984127b3.2 for ; Tue, 08 Jul 2025 13:05:46 -0700 (PDT) DKIM-Signature: v=1; a=rsa-sha256; c=relaxed/relaxed; d=iol.unh.edu; s=unh-iol; t=1752005146; x=1752609946; darn=dpdk.org; h=references:in-reply-to:cc:to:from:subject:message-id:date:from:to :cc:subject:date:message-id:reply-to; bh=6HH+np8WWtmCPdnHwNbdQiCtxN0DMUnxC+PGgyLdAWU=; b=NobmEbzbquKae2vkcmHbfJECfkxuFajsLGIPPRi19ZCtPTMLC+NN99CEBpafihD2pD 5hrPGry9TzeRSb88ER9ukvIZij1tHu1xIo/lGV0lwCPYN7eXXZsDy5gympkqcW/jcNm7 ySPofcPbGufesvEOH1cAq+RHW2oxW2KdpdWUk= X-Google-DKIM-Signature: v=1; a=rsa-sha256; c=relaxed/relaxed; d=1e100.net; s=20230601; t=1752005146; x=1752609946; h=references:in-reply-to:cc:to:from:subject:message-id:date :x-gm-message-state:from:to:cc:subject:date:message-id:reply-to; bh=6HH+np8WWtmCPdnHwNbdQiCtxN0DMUnxC+PGgyLdAWU=; b=aXCGHifghq1EkyU+qBJaBEdEjXpnuSTUNLnNa3sgkOrKgmrEXJc6h9rL+rIoqnRia4 DNK1Vc5kU67L8GYaIe2FDi7eksiia/fRPK4nhzRJb4E9kBeIaSA3htYdqXG96kORC/Ak tm0eXiU9mJEQMwuOmbrxcO1X/brnqG4BieTqTmtOLeJYwq2rPcHuYbFMzOeN/w7pxJaT rJ+tfMXbd0hLTmpaX5pIyVAmdbanjImPkVWQt1TXUgXv3KBJVZGAS8JqCl2wM6UYI6i7 Q3GIatr30ZMd05yZkwc8Df/+vTa3oPZlhlZK9Q4p1NcQqc372Gbau9+c0k4XT9s+gFQv RIgQ== X-Gm-Message-State: AOJu0Yyv0k9PfDqnWh++uugOglT/hMFnUjEaIw40zejsDn/yMFDpX3V6 Vb06LYu1PWCHBSTYcGZOZkKN2RBNYe32XbDw8WcJ3WoZirVDhW/pEXuPol9bonRN0eKtorAXSfN +r4R7hGepElmXt5JTKaxhCB2SlF4LKsQZuIfxSDrTCflh X-Gm-Gg: ASbGncsSvOT1f3dmc3H9fyWgHeiuqtTDQq53fIH6KZ0xKYlyhw7B6EemseiWdB654br Ndd0tMT+00fckgyRrszXToy4d102Ut6N554t+TcH2sV+dG2rgHU7w/CJmEU4+iVCRwvVim2i+gb zbtEZMM4FfRN42ztuk0znNPe+qdkG/fBQ8mrSjZ2kzuOuXHxUOh6m7QqDqk1lrUr6yfu4wnIzTU qtXhNuDd5N0g8Nk2NPqXLi1P1EEMIOlY4DBjwawZy05igN4ImmuQUJuAx027kGkELSzXgnkB6mz NxV8zVDZRGm6dnCDNU0dY6lWaGAOa8sW5hLNbJWLTqftsYpnXu7950Cwo++gWHcN6np5RQ== X-Google-Smtp-Source: AGHT+IEbSR6X6KB8DUi3Iyc5FWYfAsm/XLcTeAx1UX7YPGJNzL50dVNhuJ5/rscaVDK62JJVmSPXwh+uM4fh X-Received: by 2002:a05:690c:4a10:b0:714:397:a3ac with SMTP id 00721157ae682-717b1672aa0mr845927b3.8.1752005146341; Tue, 08 Jul 2025 13:05:46 -0700 (PDT) Received: from postal.iol.unh.edu (postal.iol.unh.edu. [132.177.123.84]) by smtp-relay.gmail.com with ESMTPS id 00721157ae682-716659b617dsm2884027b3.12.2025.07.08.13.05.46 (version=TLS1_2 cipher=ECDHE-ECDSA-AES128-GCM-SHA256 bits=128/128); Tue, 08 Jul 2025 13:05:46 -0700 (PDT) X-Relaying-Domain: iol.unh.edu Date: Tue, 08 Jul 2025 13:05:46 -0700 (PDT) Message-ID: <686d7a1a.050a0220.854cc.fc3fSMTPIN_ADDED_MISSING@mx.google.com> Received: from [172.21.0.5] (unknown [172.18.0.240]) by postal.iol.unh.edu (Postfix) with ESMTP id B5AD86050A61; Tue, 8 Jul 2025 16:05:45 -0400 (EDT) Subject: |SUCCESS| pw155078 [PATCH] [v3] net/mlx5: remove use of sizeof(rte_v From: dpdklab@iol.unh.edu To: Test Report Cc: dpdk-test-reports@iol.unh.edu In-Reply-To: <1751987516-30482-1-git-send-email-andremue@linux.microsoft.com> References: <1751987516-30482-1-git-send-email-andremue@linux.microsoft.com> Content-Type: text/plain X-BeenThere: test-report@dpdk.org X-Mailman-Version: 2.1.29 Precedence: list List-Id: automatic DPDK test reports List-Unsubscribe: , List-Archive: List-Post: List-Help: List-Subscribe: , Errors-To: test-report-bounces@dpdk.org Test-Label: iol-abi-testing Test-Status: SUCCESS http://dpdk.org/patch/155078 _Testing PASS_ Submitter: Andre Muezerie Date: Tuesday, July 08 2025 15:11:56 DPDK git baseline: Repo:dpdk Branch: master CommitID:e2888614268cbf0abcc7cd72ad97ff4e4901d0a5 155078 --> testing pass Upstream job id: Generic-DPDK-Compile-ABI#133551 Test environment and result as below: +-------------------------------+----------+ | Environment | abi_test | +===============================+==========+ | CentOS Stream 10 | PASS | +-------------------------------+----------+ | Debian GNU/Linux 12 | PASS | +-------------------------------+----------+ | Fedora Linux 40 | PASS | +-------------------------------+----------+ | Red Hat Enterprise Linux 8.10 | PASS | +-------------------------------+----------+ | openSUSE Leap 15.6 | PASS | +-------------------------------+----------+ | Fedora Linux 41 | PASS | +-------------------------------+----------+ | Red Hat Enterprise Linux 9.5 | PASS | +-------------------------------+----------+ | Ubuntu 22.04 | PASS | +-------------------------------+----------+ | Ubuntu 24.04 | PASS | +-------------------------------+----------+ | CentOS Stream 9 | PASS | +-------------------------------+----------+ CentOS Stream 10 Kernel: 5.15 Compiler: gcc gcc (GCC) 14.2.1 20250110 (Red Hat 14.2.1-8) Debian GNU/Linux 12 Kernel: 5.15 Compiler: gcc gcc (Debian 12.2.0-14+deb12u1) 12.2.0 Fedora Linux 40 Kernel: 5.15 Compiler: clang gcc (GCC) 14.2.1 20240912 (Red Hat 14.2.1-3) Red Hat Enterprise Linux 8.10 Kernel: 5.15 Compiler: gcc gcc (GCC) 8.5.0 20210514 (Red Hat 8.5.0-22) openSUSE Leap 15.6 Kernel: 5.15 Compiler: gcc gcc (SUSE Linux) 7.5.0 Fedora Linux 41 Kernel: 5.15 Compiler: clang gcc (GCC) 14.3.1 20250523 (Red Hat 14.3.1-1) Red Hat Enterprise Linux 9.5 Kernel: 5.15 Compiler: gcc gcc (GCC) 11.5.0 20240719 (Red Hat 11.5.0-2) Ubuntu 22.04 Kernel: 5.15 Compiler: gcc gcc (Ubuntu 11.4.0-1ubuntu1~22.04) 11.4.0 Ubuntu 24.04 Kernel: 5.15 Compiler: gcc gcc (Ubuntu 13.3.0-6ubuntu2~24.04) 13.3.0 CentOS Stream 9 Kernel: 5.15 Compiler: gcc gcc (GCC) 11.5.0 20240719 (Red Hat 11.5.0-7) To view detailed results, visit: https://lab.dpdk.org/results/dashboard/patchsets/33615/ UNH-IOL DPDK Community Lab To manage your email subscriptions, visit: https://lab.dpdk.org/results/dashboard/preferences/subscriptions/