From mboxrd@z Thu Jan 1 00:00:00 1970 Return-Path: Received: from mails.dpdk.org (mails.dpdk.org [217.70.189.124]) by inbox.dpdk.org (Postfix) with ESMTP id 7DE2746B2D for ; Tue, 8 Jul 2025 22:08:17 +0200 (CEST) Received: from mails.dpdk.org (localhost [127.0.0.1]) by mails.dpdk.org (Postfix) with ESMTP id 7915740292; Tue, 8 Jul 2025 22:08:17 +0200 (CEST) Received: from mail-pf1-f226.google.com (mail-pf1-f226.google.com [209.85.210.226]) by mails.dpdk.org (Postfix) with ESMTP id 3135540292 for ; Tue, 8 Jul 2025 22:08:16 +0200 (CEST) Received: by mail-pf1-f226.google.com with SMTP id d2e1a72fcca58-748d982e97cso4250088b3a.1 for ; Tue, 08 Jul 2025 13:08:16 -0700 (PDT) DKIM-Signature: v=1; a=rsa-sha256; c=relaxed/relaxed; d=iol.unh.edu; s=unh-iol; t=1752005295; x=1752610095; darn=dpdk.org; h=references:in-reply-to:cc:to:from:subject:message-id:date:from:to :cc:subject:date:message-id:reply-to; bh=ij3Jqw6LJrxhWE/hJT4eM2TbsT5/eLM8Hpz/E/PwVrI=; b=BYMfxnNA1P4zE0FBFjEEyUt6SoEMNQXpxHL97fYlDqirNQpVfdBH1dX5st0rMc+qkI brjT6ZEaIPEPNIfdQwd+8hp2q8j9vp7tBM6lNSsiOruz2Zg7I4bTLx1Orl4kC/DD4TWz X/Zg1Tb2yHc14sZC2FI4FYAWH9FVyhB4WB3go= X-Google-DKIM-Signature: v=1; a=rsa-sha256; c=relaxed/relaxed; d=1e100.net; s=20230601; t=1752005295; x=1752610095; h=references:in-reply-to:cc:to:from:subject:message-id:date :x-gm-message-state:from:to:cc:subject:date:message-id:reply-to; bh=ij3Jqw6LJrxhWE/hJT4eM2TbsT5/eLM8Hpz/E/PwVrI=; b=f4Sl3NXYkDQ1J6HNejmEJnTizzncv0WDjypK8cm+titMIopYYEK+FeT9QE3NwWrQCw pW0qly3AbGrjQ7ZYRVN+JnFeNzqaU8YptdVDqvlhMthH9oeB8n5IlU5To4cl785tRHkx IRmA1GOEcki5JjxbwhDsLuD8+Ufei5M2gVQqPC7Bj+bHYA5Ktp+QQGloV5A80whOtJsG NNP4zl853u3EbQfs1vqVG6aAEVe1WwzjwS2QOsvFBJjAPAZnxQA49pJov35E9ZO9DRLj clZiBkOVafpidbZ3fb0IYQ7eSj95T80ye5MC2LN1ji+3NCy9xO/0bU8ogxj4kBFEzlzW jK6g== X-Gm-Message-State: AOJu0Yyb0W2N3ps5ZLA86sYzYQpqj/WaGt1sPWfczBvw0GJulZArU2tB oROlcJlAiMdd16dH7kWPqX23+aeLtpt6t6T2wdCpZVJyt6GlwZOevg+3uX2rSw7jQo0/e4WTHM7 +LeH8iJecoSzRIH2Z8jE0G/YuIKr45NEGQX+H6eOM142RsYAbolWKeRo//zPe X-Gm-Gg: ASbGnct2MpNYJMOk5kJpFChti8Jse4z9mjlf70o3NEGs9BvyKUmHcUCY0L8kqvN9xFr Ix8RIGlFaCzK2jagAOIJ4OxENR02Pf4ugAWyWaJg8CGEJEA0W+kdCZm11FDPNxVWxkvqCgw2UqV 3uB+o4XjmneSRx8Brjh05VI/RJNhEwlm6IeZ5SCstOFs4WiA2g5wt75/3k5YcX6rfEDjZLaDevh LQr1ky4SiMzNWrpVd/UaAg32GbG/G4glwJdST03B1GDXBmQ0ufmoeLe92ukXL2BG8/tolavNxOw SAlV412vKDl/WB2blSUJHyffo2wfsDWB5DQ2IjoMuGgwP68= X-Google-Smtp-Source: AGHT+IFZUE66Mkwd+tU/rZNNFBssEBMK+YIyViJO70W/euEZmOZuP23jh4WVcJlDY4d0VHnz2vQcFqnvbZ/b X-Received: by 2002:a05:6a20:6a21:b0:1f5:63f9:9eb4 with SMTP id adf61e73a8af0-225ba5372bcmr31131369637.35.1752005295249; Tue, 08 Jul 2025 13:08:15 -0700 (PDT) Received: from postal.iol.unh.edu (postal.iol.unh.edu. [2606:4100:3880:1234::84]) by smtp-relay.gmail.com with ESMTPS id d2e1a72fcca58-74ce3cfcfd2sm558311b3a.18.2025.07.08.13.08.15 (version=TLS1_2 cipher=ECDHE-ECDSA-AES128-GCM-SHA256 bits=128/128); Tue, 08 Jul 2025 13:08:15 -0700 (PDT) X-Relaying-Domain: iol.unh.edu Date: Tue, 08 Jul 2025 13:08:15 -0700 (PDT) Message-ID: <686d7aaf.050a0220.38b9b7.cff2SMTPIN_ADDED_MISSING@mx.google.com> Received: from [172.21.0.5] (unknown [172.18.0.240]) by postal.iol.unh.edu (Postfix) with ESMTP id CBAD26050A61; Tue, 8 Jul 2025 16:08:13 -0400 (EDT) Subject: |SUCCESS| pw155078 [PATCH] [v3] net/mlx5: remove use of sizeof(rte_v From: dpdklab@iol.unh.edu To: Test Report Cc: dpdk-test-reports@iol.unh.edu In-Reply-To: <1751987516-30482-1-git-send-email-andremue@linux.microsoft.com> References: <1751987516-30482-1-git-send-email-andremue@linux.microsoft.com> Content-Type: text/plain X-BeenThere: test-report@dpdk.org X-Mailman-Version: 2.1.29 Precedence: list List-Id: automatic DPDK test reports List-Unsubscribe: , List-Archive: List-Post: List-Help: List-Subscribe: , Errors-To: test-report-bounces@dpdk.org Test-Label: iol-abi-testing Test-Status: SUCCESS http://dpdk.org/patch/155078 _Testing PASS_ Submitter: Andre Muezerie Date: Tuesday, July 08 2025 15:11:56 DPDK git baseline: Repo:dpdk Branch: master CommitID:e2888614268cbf0abcc7cd72ad97ff4e4901d0a5 155078 --> testing pass Upstream job id: Generic-DPDK-Compile-ABI#133552 Test environment and result as below: +-------------------------------+----------+ | Environment | abi_test | +===============================+==========+ | CentOS Stream 10 | PASS | +-------------------------------+----------+ | Debian GNU/Linux 12 | PASS | +-------------------------------+----------+ | Fedora Linux 40 | PASS | +-------------------------------+----------+ | Red Hat Enterprise Linux 8.10 | PASS | +-------------------------------+----------+ | openSUSE Leap 15.6 | PASS | +-------------------------------+----------+ | Fedora Linux 41 | PASS | +-------------------------------+----------+ | Red Hat Enterprise Linux 9.5 | PASS | +-------------------------------+----------+ | Ubuntu 22.04 | PASS | +-------------------------------+----------+ | Ubuntu 24.04 | PASS | +-------------------------------+----------+ | CentOS Stream 9 | PASS | +-------------------------------+----------+ CentOS Stream 10 Kernel: 5.15 Compiler: gcc gcc (GCC) 14.2.1 20250110 (Red Hat 14.2.1-8) Debian GNU/Linux 12 Kernel: 5.15 Compiler: gcc gcc (Debian 12.2.0-14+deb12u1) 12.2.0 Fedora Linux 40 Kernel: 5.15 Compiler: clang gcc (GCC) 14.2.1 20240912 (Red Hat 14.2.1-3) Red Hat Enterprise Linux 8.10 Kernel: 5.15 Compiler: gcc gcc (GCC) 8.5.0 20210514 (Red Hat 8.5.0-22) openSUSE Leap 15.6 Kernel: 5.15 Compiler: gcc gcc (SUSE Linux) 7.5.0 Fedora Linux 41 Kernel: 5.15 Compiler: clang gcc (GCC) 14.3.1 20250523 (Red Hat 14.3.1-1) Red Hat Enterprise Linux 9.5 Kernel: 5.15 Compiler: gcc gcc (GCC) 11.5.0 20240719 (Red Hat 11.5.0-2) Ubuntu 22.04 Kernel: 5.15 Compiler: gcc gcc (Ubuntu 11.4.0-1ubuntu1~22.04) 11.4.0 Ubuntu 24.04 Kernel: 5.15 Compiler: gcc gcc (Ubuntu 13.3.0-6ubuntu2~24.04) 13.3.0 CentOS Stream 9 Kernel: 5.15 Compiler: gcc gcc (GCC) 11.5.0 20240719 (Red Hat 11.5.0-7) To view detailed results, visit: https://lab.dpdk.org/results/dashboard/patchsets/33615/ UNH-IOL DPDK Community Lab To manage your email subscriptions, visit: https://lab.dpdk.org/results/dashboard/preferences/subscriptions/