From mboxrd@z Thu Jan 1 00:00:00 1970 Return-Path: Received: from mails.dpdk.org (mails.dpdk.org [217.70.189.124]) by inbox.dpdk.org (Postfix) with ESMTP id 94BF646B2D for ; Tue, 8 Jul 2025 22:08:54 +0200 (CEST) Received: from mails.dpdk.org (localhost [127.0.0.1]) by mails.dpdk.org (Postfix) with ESMTP id 8E8E640292; Tue, 8 Jul 2025 22:08:54 +0200 (CEST) Received: from mail-pl1-f225.google.com (mail-pl1-f225.google.com [209.85.214.225]) by mails.dpdk.org (Postfix) with ESMTP id B0DFA40292 for ; Tue, 8 Jul 2025 22:08:53 +0200 (CEST) Received: by mail-pl1-f225.google.com with SMTP id d9443c01a7336-2350fc2591dso2840395ad.1 for ; Tue, 08 Jul 2025 13:08:53 -0700 (PDT) DKIM-Signature: v=1; a=rsa-sha256; c=relaxed/relaxed; d=iol.unh.edu; s=unh-iol; t=1752005333; x=1752610133; darn=dpdk.org; h=references:in-reply-to:cc:to:from:subject:message-id:date:from:to :cc:subject:date:message-id:reply-to; bh=NRcoZPZluHo7Qd4bFsRbxeea1sFC16Hlx4Yf2KiQgN8=; b=OW4KNQV/AtQX6H2/VqGtL1mvsjeTtys+NabHzt4RwN/244M5smABTrQ7FbdTbjGIL0 +btxH1vMLbf8PFdIdboqoNnEXwfklwoS/VjQ5mb8B7QDJflnWOxoIfAv+42DImi59K+l /QxOrmE/zt8FSNNHbVbqF/yZHfBDWO8PDpsjs= X-Google-DKIM-Signature: v=1; a=rsa-sha256; c=relaxed/relaxed; d=1e100.net; s=20230601; t=1752005333; x=1752610133; h=references:in-reply-to:cc:to:from:subject:message-id:date :x-gm-message-state:from:to:cc:subject:date:message-id:reply-to; bh=NRcoZPZluHo7Qd4bFsRbxeea1sFC16Hlx4Yf2KiQgN8=; b=Fowuujyr5K9Tq/7omroVMTVIKvXPSJUUS2qnmPpWEiEd34pk3DkgXkyrx098uP/c4x LITDwZbDxUlNximBeFhfIzfFD3Tc1zKGl4gG7Dn2OLlXr1SEkORd9Fg9KocG5FFygXG/ pSpkj0iakPvE9t8YrLpbqzGZGxl+3edsVbpkZcrHuWh4r6bauy+OfzKvw+5Cc0WHoU4U eqQPB7hvkHWiZFP5Ai0tmF8fANF2lmE8t4cKFPBkWx0SNxMtS+rdqGzH2TYSiUxbMxJ4 mDe3Bs/9nJBg2qum6HAmq9SROZZk/E+qav94ABwu/OrZe2XVoakKdHvP5ey/bzjk407w 7G3Q== X-Gm-Message-State: AOJu0YwI/eR7egFTnuptTclqAtLBauaPYl/wGfSMjt/c5tS0h/1GEulH xLSjlKeOlo0UpKjQ7WDYdUU+s4sTMe0kMWrBAnY7dLQSPyoKk4Ll4oTEtFAhaqM954LwFt+RWBH q5/nieM1/pRnd2D/ka3iBKerVNn+ir7qJpD9utdA4f9us2Q1H1Jgod/OkL5Ib X-Gm-Gg: ASbGnctU7XOdL/JB9y1D2piyGy9Fjis2hj0UZwKvt/CMcws7Z7LlZ8nxdK47NmoSkpy Zuuey7q7yRbngX4tIk88TdyEg2Sa1ARqIrxoveKdvD8oZkixh9PSpfnbqSS3KvBX+OslAYWfITT iCYcAyi2N+C5ql4c5EcTKDNMkuq/uImEo5eh+CgQp0yroY/JxGynHOoBg2GnSfMy+CIp2sewqP+ XQQCF/PycaoUFsenDQV7jgi6rXZcv06fm/n42IyxZKzILFI1Oc2zi+HHMowYbcXfcklD/QRV3r8 O1zhmepreRXJQy+kZMzFpQ/KrhCVSgJFkGZ8iMJpynWl9RY= X-Google-Smtp-Source: AGHT+IHsibRURFmn8J/xOJzmwwhNopHp5752A5foTTtIDSbJs4kPeh7Mols6qpTlvR/YWz8ZQNg501P+47U1 X-Received: by 2002:a17:903:46c5:b0:236:6f43:7053 with SMTP id d9443c01a7336-23dd1cb9ae2mr58118615ad.2.1752005332881; Tue, 08 Jul 2025 13:08:52 -0700 (PDT) Received: from postal.iol.unh.edu (postal.iol.unh.edu. [2606:4100:3880:1234::84]) by smtp-relay.gmail.com with ESMTPS id d9443c01a7336-23c84519e06sm5623455ad.123.2025.07.08.13.08.52 (version=TLS1_2 cipher=ECDHE-ECDSA-AES128-GCM-SHA256 bits=128/128); Tue, 08 Jul 2025 13:08:52 -0700 (PDT) X-Relaying-Domain: iol.unh.edu Date: Tue, 08 Jul 2025 13:08:52 -0700 (PDT) Message-ID: <686d7ad4.170a0220.f0096.db2dSMTPIN_ADDED_MISSING@mx.google.com> Received: from [172.21.0.5] (unknown [172.18.0.240]) by postal.iol.unh.edu (Postfix) with ESMTP id D58B26050A61; Tue, 8 Jul 2025 16:08:51 -0400 (EDT) Subject: |SUCCESS| pw155078 [PATCH] [v3] net/mlx5: remove use of sizeof(rte_v From: dpdklab@iol.unh.edu To: Test Report Cc: dpdk-test-reports@iol.unh.edu In-Reply-To: <1751987516-30482-1-git-send-email-andremue@linux.microsoft.com> References: <1751987516-30482-1-git-send-email-andremue@linux.microsoft.com> Content-Type: text/plain X-BeenThere: test-report@dpdk.org X-Mailman-Version: 2.1.29 Precedence: list List-Id: automatic DPDK test reports List-Unsubscribe: , List-Archive: List-Post: List-Help: List-Subscribe: , Errors-To: test-report-bounces@dpdk.org Test-Label: iol-abi-testing Test-Status: SUCCESS http://dpdk.org/patch/155078 _Testing PASS_ Submitter: Andre Muezerie Date: Tuesday, July 08 2025 15:11:56 DPDK git baseline: Repo:dpdk Branch: master CommitID:e2888614268cbf0abcc7cd72ad97ff4e4901d0a5 155078 --> testing pass Upstream job id: Generic-DPDK-Compile-ABI#133543 Test environment and result as below: +-------------------------------+----------+ | Environment | abi_test | +===============================+==========+ | CentOS Stream 10 | PASS | +-------------------------------+----------+ | Debian GNU/Linux 12 | PASS | +-------------------------------+----------+ | Fedora Linux 40 | PASS | +-------------------------------+----------+ | Red Hat Enterprise Linux 8.10 | PASS | +-------------------------------+----------+ | openSUSE Leap 15.6 | PASS | +-------------------------------+----------+ | Fedora Linux 41 | PASS | +-------------------------------+----------+ | Red Hat Enterprise Linux 9.5 | PASS | +-------------------------------+----------+ | Ubuntu 22.04 | PASS | +-------------------------------+----------+ | Ubuntu 24.04 | PASS | +-------------------------------+----------+ | CentOS Stream 9 | PASS | +-------------------------------+----------+ CentOS Stream 10 Kernel: 5.15 Compiler: gcc gcc (GCC) 14.2.1 20250110 (Red Hat 14.2.1-8) Debian GNU/Linux 12 Kernel: 5.15 Compiler: gcc gcc (Debian 12.2.0-14+deb12u1) 12.2.0 Fedora Linux 40 Kernel: 5.15 Compiler: clang gcc (GCC) 14.2.1 20240912 (Red Hat 14.2.1-3) Red Hat Enterprise Linux 8.10 Kernel: 5.15 Compiler: gcc gcc (GCC) 8.5.0 20210514 (Red Hat 8.5.0-22) openSUSE Leap 15.6 Kernel: 5.15 Compiler: gcc gcc (SUSE Linux) 7.5.0 Fedora Linux 41 Kernel: 5.15 Compiler: clang gcc (GCC) 14.3.1 20250523 (Red Hat 14.3.1-1) Red Hat Enterprise Linux 9.5 Kernel: 5.15 Compiler: gcc gcc (GCC) 11.5.0 20240719 (Red Hat 11.5.0-2) Ubuntu 22.04 Kernel: 5.15 Compiler: gcc gcc (Ubuntu 11.4.0-1ubuntu1~22.04) 11.4.0 Ubuntu 24.04 Kernel: 5.15 Compiler: gcc gcc (Ubuntu 13.3.0-6ubuntu2~24.04) 13.3.0 CentOS Stream 9 Kernel: 5.15 Compiler: gcc gcc (GCC) 11.5.0 20240719 (Red Hat 11.5.0-7) To view detailed results, visit: https://lab.dpdk.org/results/dashboard/patchsets/33615/ UNH-IOL DPDK Community Lab To manage your email subscriptions, visit: https://lab.dpdk.org/results/dashboard/preferences/subscriptions/