From mboxrd@z Thu Jan 1 00:00:00 1970 Return-Path: Received: from mails.dpdk.org (mails.dpdk.org [217.70.189.124]) by inbox.dpdk.org (Postfix) with ESMTP id A567446B2D for ; Tue, 8 Jul 2025 22:08:59 +0200 (CEST) Received: from mails.dpdk.org (localhost [127.0.0.1]) by mails.dpdk.org (Postfix) with ESMTP id A0D6040292; Tue, 8 Jul 2025 22:08:59 +0200 (CEST) Received: from mail-pl1-f225.google.com (mail-pl1-f225.google.com [209.85.214.225]) by mails.dpdk.org (Postfix) with ESMTP id DAD0D40292 for ; Tue, 8 Jul 2025 22:08:57 +0200 (CEST) Received: by mail-pl1-f225.google.com with SMTP id d9443c01a7336-23508d30142so58674705ad.0 for ; Tue, 08 Jul 2025 13:08:57 -0700 (PDT) DKIM-Signature: v=1; a=rsa-sha256; c=relaxed/relaxed; d=iol.unh.edu; s=unh-iol; t=1752005337; x=1752610137; darn=dpdk.org; h=references:in-reply-to:cc:to:from:subject:message-id:date:from:to :cc:subject:date:message-id:reply-to; bh=mEv7xJ9gXAD54PDl6HO19X9pWIJblfEbm4xwbordsAc=; b=XCto6a+et0myNHMyqUyB84t70juTgcpe/aGvhniB4LhtCYCVlmPexyLP36UfMSjjBj dVqxSMnZvub3qEc/MSd4HxbBn13hCFmhf08EzxDHYkNruCcDEdLYLR1HhsBFQejhfv/X XG93Yj7TBBmyIPtmWjLiK8T2LUuHJcxOXonU0= X-Google-DKIM-Signature: v=1; a=rsa-sha256; c=relaxed/relaxed; d=1e100.net; s=20230601; t=1752005337; x=1752610137; h=references:in-reply-to:cc:to:from:subject:message-id:date :x-gm-message-state:from:to:cc:subject:date:message-id:reply-to; bh=mEv7xJ9gXAD54PDl6HO19X9pWIJblfEbm4xwbordsAc=; b=aVusVbLhIb9k6O8DOVdevKpVYGQqpq29iUuBKlGithtGjxp3t+xySqCs2SyNIjL9U8 EG+/67odDmywYdjU/r3Ps+l5dAHJlC38a+zdILUiN50JyPheoRxhKYg8oC3qYe48FXqv k3uLRydVLD1UPePtd6YQOPn8mfHYUvBP41JgDQ2p+gVsMCjhW0QnKQyx+QYJr7QPGgGn pRyL/JQoNC8vXie8dVGAI7YVL9jgoajE5zZfk30nuskFiyjF20TYfuL7ZSe13qdgVzFi RT/RpnH8Gce3CQgV+BvaQ0ybyP5c+3gyjmun7rq9ec+Xk2PI3v96fDbofv6s7Xl7qNtt TPhA== X-Gm-Message-State: AOJu0YyoPo1KHtzPUzWhhvC8W2+ohM+VzImHZPR3K2oqMJF2XyEHnW4w Nq0ynUZDCyNg0RfqmJESpCj52CwnYz9IPjvmcJiu2pAMwyGWFXMnZJZKAwYZod77kIqX611fGV5 iJiKoyN+fsbZhCB0zzNgdShp6WEJ3wyEPALVU07r5OdRecaQ4FKFgSsYCtNuU X-Gm-Gg: ASbGncsKnwbZMD3tbnZ57LTIwGSZ79AeitiJpexBteiT3Y85O7d+th9HVwyjpYRIybP 1fxQroUv6TJACKzBAOzQNmukXetfqrpZRe0c7v7ZS30zx3/Fwkejf2KE2uDrqkNQpCiwagQNGkS ywGrM3wmlrpCILStK+iYH+y7yf8sgoefsgUt140yV6I3l6kuobAmzvt/94ib4SNm/PpH0Rf4FUO LjClo+cfOEeH6lV4g7ntdDJeq60I7h6tW5rKsqZ+LLjj4s87Nwz/Nha/rPxvo5DIG2zh49SffmD soPiz//dnbunJov0YOzuekKuvUoQwNKY+A14ggneteygczg= X-Google-Smtp-Source: AGHT+IFD1myvZxrlF4zG6DloeemDo4921lYO4tbSsDLoY8IOh5Jcy4eRXMEmidSJ4/eMN2o4pr6CPn/36dLA X-Received: by 2002:a17:902:d591:b0:234:d7b2:2abd with SMTP id d9443c01a7336-23c85e08fdemr289925125ad.19.1752005337142; Tue, 08 Jul 2025 13:08:57 -0700 (PDT) Received: from postal.iol.unh.edu (postal.iol.unh.edu. [2606:4100:3880:1234::84]) by smtp-relay.gmail.com with ESMTPS id d9443c01a7336-23c842d150csm5667855ad.49.2025.07.08.13.08.57 (version=TLS1_2 cipher=ECDHE-ECDSA-AES128-GCM-SHA256 bits=128/128); Tue, 08 Jul 2025 13:08:57 -0700 (PDT) X-Relaying-Domain: iol.unh.edu Date: Tue, 08 Jul 2025 13:08:57 -0700 (PDT) Message-ID: <686d7ad9.170a0220.b1c40.d880SMTPIN_ADDED_MISSING@mx.google.com> Received: from [172.21.0.7] (unknown [172.18.0.240]) by postal.iol.unh.edu (Postfix) with ESMTP id 2420A6050A61; Tue, 8 Jul 2025 16:08:56 -0400 (EDT) Subject: |SUCCESS| pw155078 [PATCH] [v3] net/mlx5: remove use of sizeof(rte_v From: dpdklab@iol.unh.edu To: Test Report Cc: dpdk-test-reports@iol.unh.edu In-Reply-To: <1751987516-30482-1-git-send-email-andremue@linux.microsoft.com> References: <1751987516-30482-1-git-send-email-andremue@linux.microsoft.com> Content-Type: text/plain X-BeenThere: test-report@dpdk.org X-Mailman-Version: 2.1.29 Precedence: list List-Id: automatic DPDK test reports List-Unsubscribe: , List-Archive: List-Post: List-Help: List-Subscribe: , Errors-To: test-report-bounces@dpdk.org Test-Label: iol-abi-testing Test-Status: SUCCESS http://dpdk.org/patch/155078 _Testing PASS_ Submitter: Andre Muezerie Date: Tuesday, July 08 2025 15:11:56 DPDK git baseline: Repo:dpdk Branch: master CommitID:e2888614268cbf0abcc7cd72ad97ff4e4901d0a5 155078 --> testing pass Upstream job id: Generic-DPDK-Compile-ABI#133547 Test environment and result as below: +-------------------------------+----------+ | Environment | abi_test | +===============================+==========+ | CentOS Stream 10 | PASS | +-------------------------------+----------+ | Debian GNU/Linux 12 | PASS | +-------------------------------+----------+ | Fedora Linux 40 | PASS | +-------------------------------+----------+ | Red Hat Enterprise Linux 8.10 | PASS | +-------------------------------+----------+ | openSUSE Leap 15.6 | PASS | +-------------------------------+----------+ | Fedora Linux 41 | PASS | +-------------------------------+----------+ | Red Hat Enterprise Linux 9.5 | PASS | +-------------------------------+----------+ | Ubuntu 22.04 | PASS | +-------------------------------+----------+ | Ubuntu 24.04 | PASS | +-------------------------------+----------+ | CentOS Stream 9 | PASS | +-------------------------------+----------+ CentOS Stream 10 Kernel: 5.15 Compiler: gcc gcc (GCC) 14.2.1 20250110 (Red Hat 14.2.1-8) Debian GNU/Linux 12 Kernel: 5.15 Compiler: gcc gcc (Debian 12.2.0-14+deb12u1) 12.2.0 Fedora Linux 40 Kernel: 5.15 Compiler: clang gcc (GCC) 14.2.1 20240912 (Red Hat 14.2.1-3) Red Hat Enterprise Linux 8.10 Kernel: 5.15 Compiler: gcc gcc (GCC) 8.5.0 20210514 (Red Hat 8.5.0-22) openSUSE Leap 15.6 Kernel: 5.15 Compiler: gcc gcc (SUSE Linux) 7.5.0 Fedora Linux 41 Kernel: 5.15 Compiler: clang gcc (GCC) 14.3.1 20250523 (Red Hat 14.3.1-1) Red Hat Enterprise Linux 9.5 Kernel: 5.15 Compiler: gcc gcc (GCC) 11.5.0 20240719 (Red Hat 11.5.0-2) Ubuntu 22.04 Kernel: 5.15 Compiler: gcc gcc (Ubuntu 11.4.0-1ubuntu1~22.04) 11.4.0 Ubuntu 24.04 Kernel: 5.15 Compiler: gcc gcc (Ubuntu 13.3.0-6ubuntu2~24.04) 13.3.0 CentOS Stream 9 Kernel: 5.15 Compiler: gcc gcc (GCC) 11.5.0 20240719 (Red Hat 11.5.0-7) To view detailed results, visit: https://lab.dpdk.org/results/dashboard/patchsets/33615/ UNH-IOL DPDK Community Lab To manage your email subscriptions, visit: https://lab.dpdk.org/results/dashboard/preferences/subscriptions/