From mboxrd@z Thu Jan 1 00:00:00 1970 Return-Path: Received: from mails.dpdk.org (mails.dpdk.org [217.70.189.124]) by inbox.dpdk.org (Postfix) with ESMTP id A447546B2D for ; Tue, 8 Jul 2025 22:20:54 +0200 (CEST) Received: from mails.dpdk.org (localhost [127.0.0.1]) by mails.dpdk.org (Postfix) with ESMTP id 7A87A40292; Tue, 8 Jul 2025 22:20:54 +0200 (CEST) Received: from mail-pf1-f226.google.com (mail-pf1-f226.google.com [209.85.210.226]) by mails.dpdk.org (Postfix) with ESMTP id 797DB40292 for ; Tue, 8 Jul 2025 22:20:53 +0200 (CEST) Received: by mail-pf1-f226.google.com with SMTP id d2e1a72fcca58-7425bd5a83aso4201719b3a.0 for ; Tue, 08 Jul 2025 13:20:53 -0700 (PDT) DKIM-Signature: v=1; a=rsa-sha256; c=relaxed/relaxed; d=iol.unh.edu; s=unh-iol; t=1752006052; x=1752610852; darn=dpdk.org; h=references:in-reply-to:cc:to:from:subject:message-id:date:from:to :cc:subject:date:message-id:reply-to; bh=wRe+e0Q7bRHIu44dpg0iu4EqPb4aQBuvBrHiY4aL5Y0=; b=BsLvpMcVYOfyXid3QuQe3FeO9tK1iavOd0spgur9lWmD3dsBFd+XL6YXEoZvnxFyvG GQlxcgzc1vEBthxmHLpVzPfpuJ96Oa5OvOiseGKaEDrc4u94k7fiXXy7Ko7slc3kGizs /GRGOdP1uHbGoMzn9NEZjckZz7ZZRRATksB1k= X-Google-DKIM-Signature: v=1; a=rsa-sha256; c=relaxed/relaxed; d=1e100.net; s=20230601; t=1752006052; x=1752610852; h=references:in-reply-to:cc:to:from:subject:message-id:date :x-gm-message-state:from:to:cc:subject:date:message-id:reply-to; bh=wRe+e0Q7bRHIu44dpg0iu4EqPb4aQBuvBrHiY4aL5Y0=; b=igwHzWJp0OJoF1hmoqZnE+45dZVqVvy6uOJPgMkf8tG2GXfTYUws9bZ4T07SBDvO6x svxaz9j8oCi50mlUTLPKEdG7BHUL5b24lKEas+RhkmMjeWiw3jyZ73ZxQMDCNXbGVgJl nBjONiDBUCMiKsD27wJaW7C1P3EAf+rnJnMojEaA81SN/YhHt009nTe6y0E+YVIMTNrZ bl2okS2jg3bgFcX8x1kSgD5y1XEyM5avhEiUyfo3BdxX2I0fQD/mpw2UorQ3LnXowseF ZjajSud77tweZjh+/k5VoXxgw2TtdOREOFieGNycZPStSFe5fjuWiCygDXIAygsjdzDi E0hg== X-Gm-Message-State: AOJu0YxrOR5JPuZDch4D/zYDGcgWERWLWSHYkA3o+g/BgFc37Dgnikou 7LEmmVrkmpeyg/RbqQhCC9CXSF9hui0pMd4srpnPaZaXcPokIv9Hhv3tvgUL8KKHLIsBMQOa7Wy 10zGliTEv3CZFZCBC01v9l3PS0FFIgo/de21Jd8CQhsU5 X-Gm-Gg: ASbGncvXVSX0vvURfg5mQsbXs25nj/l1XOozu7DKdupdh4KBC+u5CmTtfpi8HHpkvhY 4Ku2p7VwlC49ijEmiqFYHbAptbuB9mJZn5yvj3BZlkrg5UFmhkI2i/1cKypNvgjF4Bcu4BMm+Fn cs285uskJhhDX0aQNw0NN+0s7HSNBLlbrr6BrRUsA9rYlZreP5qRCzPmcLpZ0yzJRT1x4+nYFO1 Q0wFtUP1HrZDnK2mBAhArP5g72BtWNWGH5yqx2zMRavkZpd97dpKjIvVpkBkCM1sM/ZLzSQ/hkJ VCI0GiDBCzgBYeb1pyeczIWtr2FrdIqD726Si/7GekazNNeCyRV9/aL10lvdN39H+wlHkg== X-Google-Smtp-Source: AGHT+IEoHIIL/C71jMvJlSnSq9xtlNtN95cKaEwDXNVWynK3ajY1hbVqwqiRZZ/SqpaPyoK98jLrsemNmzSd X-Received: by 2002:a05:6a20:7491:b0:220:9512:91ff with SMTP id adf61e73a8af0-2260b9686c0mr27093903637.33.1752006052497; Tue, 08 Jul 2025 13:20:52 -0700 (PDT) Received: from postal.iol.unh.edu (postal.iol.unh.edu. [132.177.123.84]) by smtp-relay.gmail.com with ESMTPS id 41be03b00d2f7-b3ba6f287c9sm3317a12.27.2025.07.08.13.20.52 (version=TLS1_2 cipher=ECDHE-ECDSA-AES128-GCM-SHA256 bits=128/128); Tue, 08 Jul 2025 13:20:52 -0700 (PDT) X-Relaying-Domain: iol.unh.edu Date: Tue, 08 Jul 2025 13:20:52 -0700 (PDT) Message-ID: <686d7da4.050a0220.c702f.02a8SMTPIN_ADDED_MISSING@mx.google.com> Received: from [172.21.0.8] (unknown [172.18.0.240]) by postal.iol.unh.edu (Postfix) with ESMTP id B213C6050A65; Tue, 8 Jul 2025 16:20:51 -0400 (EDT) Subject: |SUCCESS| pw155058-155075 [PATCH] [v3,18/18] ci: extend coverage wit From: dpdklab@iol.unh.edu To: Test Report Cc: dpdk-test-reports@iol.unh.edu In-Reply-To: <20250708122823.3406288-19-david.marchand@redhat.com> References: <20250708122823.3406288-19-david.marchand@redhat.com> Content-Type: text/plain X-BeenThere: test-report@dpdk.org X-Mailman-Version: 2.1.29 Precedence: list List-Id: automatic DPDK test reports List-Unsubscribe: , List-Archive: List-Post: List-Help: List-Subscribe: , Errors-To: test-report-bounces@dpdk.org Test-Label: iol-compile-arm64-testing Test-Status: SUCCESS http://dpdk.org/patch/155075 _Testing PASS_ Submitter: David Marchand Date: Tuesday, July 08 2025 12:28:22 DPDK git baseline: Repo:dpdk Branch: master CommitID:a0000859ffbaaaf90bbb9c0f2f5bb7a3d4f5bc9f 155058-155075 --> testing pass Upstream job id: Generic-DPDK-Compile-Meson#406573 Test environment and result as below: +------------------------------+--------------------+ | Environment | dpdk_meson_compile | +==============================+====================+ | Red Hat Enterprise Linux 9.5 | PASS | +------------------------------+--------------------+ | Ubuntu 20.04 | PASS | +------------------------------+--------------------+ | Debian GNU/Linux 12 | PASS | +------------------------------+--------------------+ | Fedora Linux 40 | PASS | +------------------------------+--------------------+ | Fedora Linux 41 | PASS | +------------------------------+--------------------+ | Ubuntu 22.04 | PASS | +------------------------------+--------------------+ | Ubuntu 24.04 | PASS | +------------------------------+--------------------+ | CentOS Stream 9 | PASS | +------------------------------+--------------------+ | CentOS Stream 10 | PASS | +------------------------------+--------------------+ Red Hat Enterprise Linux 9.5 Kernel: 5.4 Compiler: gcc gcc (GCC) 11.5.0 20240719 (Red Hat 11.5.0-2) Ubuntu 20.04 Kernel: 5.4 Compiler: gcc gcc (Ubuntu 9.4.0-1ubuntu1~20.04.2) 9.4.0 Debian GNU/Linux 12 Kernel: 5.4 Compiler: gcc gcc (Debian 12.2.0-14+deb12u1) 12.2.0 Fedora Linux 40 Kernel: 5.4 Compiler: gcc gcc (GCC) 14.2.1 20240912 (Red Hat 14.2.1-3) Fedora Linux 41 Kernel: 5.4 Compiler: gcc gcc (GCC) 14.3.1 20250523 (Red Hat 14.3.1-1) Ubuntu 22.04 Kernel: 5.4 Compiler: gcc gcc (Ubuntu 11.4.0-1ubuntu1~22.04) 11.4.0 Ubuntu 24.04 Kernel: 5.4 Compiler: gcc gcc (Ubuntu 13.3.0-6ubuntu2~24.04) 13.3.0 CentOS Stream 9 Kernel: 5.4 Compiler: gcc gcc (GCC) 11.5.0 20240719 (Red Hat 11.5.0-7) CentOS Stream 10 Kernel: 5.4 Compiler: gcc gcc (GCC) 14.2.1 20250110 (Red Hat 14.2.1-8) To view detailed results, visit: https://lab.dpdk.org/results/dashboard/patchsets/33612/ UNH-IOL DPDK Community Lab To manage your email subscriptions, visit: https://lab.dpdk.org/results/dashboard/preferences/subscriptions/