From mboxrd@z Thu Jan 1 00:00:00 1970 Return-Path: Received: from mails.dpdk.org (mails.dpdk.org [217.70.189.124]) by inbox.dpdk.org (Postfix) with ESMTP id 662E646B2D for ; Tue, 8 Jul 2025 22:28:54 +0200 (CEST) Received: from mails.dpdk.org (localhost [127.0.0.1]) by mails.dpdk.org (Postfix) with ESMTP id 49ABE40292; Tue, 8 Jul 2025 22:28:54 +0200 (CEST) Received: from mail-pl1-f226.google.com (mail-pl1-f226.google.com [209.85.214.226]) by mails.dpdk.org (Postfix) with ESMTP id 7D25040292 for ; Tue, 8 Jul 2025 22:28:53 +0200 (CEST) Received: by mail-pl1-f226.google.com with SMTP id d9443c01a7336-237311f5a54so45671275ad.2 for ; Tue, 08 Jul 2025 13:28:53 -0700 (PDT) DKIM-Signature: v=1; a=rsa-sha256; c=relaxed/relaxed; d=iol.unh.edu; s=unh-iol; t=1752006532; x=1752611332; darn=dpdk.org; h=references:in-reply-to:cc:to:from:subject:message-id:date:from:to :cc:subject:date:message-id:reply-to; bh=hbqNbrkHD4PGSuBE3ZqB3cXdwhShNh01Dz+zUfNrfm8=; b=D4D0NbTX+oX03XPdJwCF5HbD/aYFmEedzeKgyagDeo2dbhr24zI3Bfs/lpfr1cupEv 0hH/M3HrKGZ0JBh9mXalAIP0taoou9oFx+Hykt3BPOLuHBGQXVZnJBNhkN3Fkk6OUecl i6ppkFAVhOWbEnLExb9n0REe8g0XeSPNw6b7g= X-Google-DKIM-Signature: v=1; a=rsa-sha256; c=relaxed/relaxed; d=1e100.net; s=20230601; t=1752006532; x=1752611332; h=references:in-reply-to:cc:to:from:subject:message-id:date :x-gm-message-state:from:to:cc:subject:date:message-id:reply-to; bh=hbqNbrkHD4PGSuBE3ZqB3cXdwhShNh01Dz+zUfNrfm8=; b=qHxwpuR0kTbJTrfN49xEKk6jpJRwUHqQVIky1XW9z85jeTrYwCAqXqHpR1VQWzcxYS JM7N8iFePDJDLoA3aJyLqES0touMJOB+II0Qaewin0aasVe6H44SORDKJZN5G0EW43nY rFZQ49FqycBdPqp4ae4OgCLFNi+t7oy+KrJ9LGVQIjirXwPyZHzPdCHQgbm9CG9wB/No X9FeoN4+6KvmtSdAF1gHO1/3j33T48nlFGj+xlrT5aeVO2YCpXZQTYKE9p+QUq7ZE23W sD6LGpI2U1lYyZ9xaYtLSVhaelbEaOGtB0rLrSdJC2Iu+eKf3bTgOIT56mQHxKyngKaF I5NQ== X-Gm-Message-State: AOJu0Yxh5VRDpowsGfHJjmxqO8VyaYFHyt0zpVGNhuaspnvEVbCDRBr3 kVoUgOjupPFz4qqohfIoBfFNThvmGza3Iy3Juw9eY18dAjZMdXihRoHjRHivVdG1ZCD+75JQrDV juRC4rpCMpoAXo6tkHt8md2Zfkig6xuKOWJaA/Fdu7Vdp X-Gm-Gg: ASbGncsRiEa4IXXsVWYiJ3/JZ5p19SlONRpfYg+/ykqVkaBxDU1sNbQWRcbl3ixAVjr XqrKHJ/P2E7DHIM+GnperRRcc6PluOQR3ezOgJSk5vpgb/+uHO4+ywlDpjb5/mnvwYa44L0S8VL 0DgEG5ZntEvUFbPF/FeREUWmtt5TtulkMxvSzc44+aBUrDnW1qNqBvBiwQgH+A53XMHdMtpnz8a i4k8xKob1ed2v7uXW9xAWKMXKTVq7nwG4P0zx2/G4X+L6DFsdadS59FJaXzmuFl/kyqdN+jKSV+ eU6mnDuIWiaKDj0jBi9bIJ2a+soXaYiPRR/xWGHavbl7DM7i35JBFuvFtfX2hyQkp6Y6Ug== X-Google-Smtp-Source: AGHT+IHH/NEX4TTIBE8bAKvbcphsLNuFJtcCu/nabdbb6CjOuAjZZnsXkOrjbJ6Aea9VoLBYE1vGT6BFY9Tf X-Received: by 2002:a17:903:2a85:b0:234:a734:4ab1 with SMTP id d9443c01a7336-23c874659e7mr243698445ad.3.1752006532611; Tue, 08 Jul 2025 13:28:52 -0700 (PDT) Received: from postal.iol.unh.edu (postal.iol.unh.edu. [132.177.123.84]) by smtp-relay.gmail.com with ESMTPS id d9443c01a7336-23c842d14d4sm5436665ad.48.2025.07.08.13.28.52 (version=TLS1_2 cipher=ECDHE-ECDSA-AES128-GCM-SHA256 bits=128/128); Tue, 08 Jul 2025 13:28:52 -0700 (PDT) X-Relaying-Domain: iol.unh.edu Date: Tue, 08 Jul 2025 13:28:52 -0700 (PDT) Message-ID: <686d7f84.170a0220.93ff0.bfceSMTPIN_ADDED_MISSING@mx.google.com> Received: from [172.21.0.5] (unknown [172.18.0.240]) by postal.iol.unh.edu (Postfix) with ESMTP id C8FB36050A61; Tue, 8 Jul 2025 16:28:51 -0400 (EDT) Subject: |SUCCESS| pw155078 [PATCH] [v3] net/mlx5: remove use of sizeof(rte_v From: dpdklab@iol.unh.edu To: Test Report Cc: dpdk-test-reports@iol.unh.edu In-Reply-To: <1751987516-30482-1-git-send-email-andremue@linux.microsoft.com> References: <1751987516-30482-1-git-send-email-andremue@linux.microsoft.com> Content-Type: text/plain X-BeenThere: test-report@dpdk.org X-Mailman-Version: 2.1.29 Precedence: list List-Id: automatic DPDK test reports List-Unsubscribe: , List-Archive: List-Post: List-Help: List-Subscribe: , Errors-To: test-report-bounces@dpdk.org Test-Label: iol-unit-arm64-testing Test-Status: SUCCESS http://dpdk.org/patch/155078 _Testing PASS_ Submitter: Andre Muezerie Date: Tuesday, July 08 2025 15:11:56 DPDK git baseline: Repo:dpdk Branch: master CommitID:e2888614268cbf0abcc7cd72ad97ff4e4901d0a5 155078 --> testing pass Upstream job id: Generic-Unit-Test-DPDK#353671 Test environment and result as below: +------------------------------+----------------+---------------------------+--------------+------------------------------+ | Environment | dpdk_unit_test | cryptodev_sw_zuc_autotest | lpm_autotest | cryptodev_sw_snow3g_autotest | +==============================+================+===========================+==============+==============================+ | CentOS Stream 10 | PASS | SKIPPED | SKIPPED | SKIPPED | +------------------------------+----------------+---------------------------+--------------+------------------------------+ | CentOS Stream 9 | PASS | SKIPPED | SKIPPED | SKIPPED | +------------------------------+----------------+---------------------------+--------------+------------------------------+ | Fedora Linux 40 | PASS | SKIPPED | SKIPPED | SKIPPED | +------------------------------+----------------+---------------------------+--------------+------------------------------+ | Debian GNU/Linux 12 | PASS | SKIPPED | SKIPPED | SKIPPED | +------------------------------+----------------+---------------------------+--------------+------------------------------+ | Fedora Linux 41 | PASS | SKIPPED | SKIPPED | SKIPPED | +------------------------------+----------------+---------------------------+--------------+------------------------------+ | Ubuntu 22.04 | PASS | SKIPPED | SKIPPED | SKIPPED | +------------------------------+----------------+---------------------------+--------------+------------------------------+ | Ubuntu 20.04 | PASS | SKIPPED | PASS | SKIPPED | +------------------------------+----------------+---------------------------+--------------+------------------------------+ | Red Hat Enterprise Linux 9.5 | PASS | SKIPPED | SKIPPED | SKIPPED | +------------------------------+----------------+---------------------------+--------------+------------------------------+ | Ubuntu 24.04 | PASS | SKIPPED | SKIPPED | SKIPPED | +------------------------------+----------------+---------------------------+--------------+------------------------------+ | Debian 12 (arm) | SKIPPED | PASS | SKIPPED | PASS | +------------------------------+----------------+---------------------------+--------------+------------------------------+ CentOS Stream 10 Kernel: 5.4 Compiler: gcc gcc (GCC) 14.2.1 20250110 (Red Hat 14.2.1-8) CentOS Stream 9 Kernel: 5.4 Compiler: gcc gcc (GCC) 11.5.0 20240719 (Red Hat 11.5.0-7) Fedora Linux 40 Kernel: 5.4 Compiler: gcc gcc (GCC) 14.2.1 20240912 (Red Hat 14.2.1-3) Debian GNU/Linux 12 Kernel: 5.4 Compiler: gcc gcc (Debian 12.2.0-14+deb12u1) 12.2.0 Fedora Linux 41 Kernel: 5.4 Compiler: gcc gcc (GCC) 14.3.1 20250523 (Red Hat 14.3.1-1) Ubuntu 22.04 Kernel: 5.4 Compiler: gcc gcc (Ubuntu 11.4.0-1ubuntu1~22.04) 11.4.0 Ubuntu 20.04 Kernel: 5.4 Compiler: gcc gcc (Ubuntu 9.4.0-1ubuntu1~20.04.2) 9.4.0 Red Hat Enterprise Linux 9.5 Kernel: 5.4 Compiler: gcc gcc (GCC) 11.5.0 20240719 (Red Hat 11.5.0-2) Ubuntu 24.04 Kernel: 5.4 Compiler: gcc gcc (Ubuntu 13.3.0-6ubuntu2~24.04) 13.3.0 Debian 12 (arm) Kernel: Depends on container host Compiler: gcc (Debian 12.2.0-14) 12.2.0 To view detailed results, visit: https://lab.dpdk.org/results/dashboard/patchsets/33615/ UNH-IOL DPDK Community Lab To manage your email subscriptions, visit: https://lab.dpdk.org/results/dashboard/preferences/subscriptions/