From mboxrd@z Thu Jan 1 00:00:00 1970 Return-Path: Received: from mails.dpdk.org (mails.dpdk.org [217.70.189.124]) by inbox.dpdk.org (Postfix) with ESMTP id E0EED46A86 for ; Tue, 8 Jul 2025 22:45:45 +0200 (CEST) Received: from mails.dpdk.org (localhost [127.0.0.1]) by mails.dpdk.org (Postfix) with ESMTP id C4D5E40292; Tue, 8 Jul 2025 22:45:45 +0200 (CEST) Received: from mail-pl1-f226.google.com (mail-pl1-f226.google.com [209.85.214.226]) by mails.dpdk.org (Postfix) with ESMTP id 187E540292 for ; Tue, 8 Jul 2025 22:45:45 +0200 (CEST) Received: by mail-pl1-f226.google.com with SMTP id d9443c01a7336-235e1d710d8so63785205ad.1 for ; Tue, 08 Jul 2025 13:45:45 -0700 (PDT) DKIM-Signature: v=1; a=rsa-sha256; c=relaxed/relaxed; d=iol.unh.edu; s=unh-iol; t=1752007544; x=1752612344; darn=dpdk.org; h=references:in-reply-to:cc:to:from:subject:message-id:date:from:to :cc:subject:date:message-id:reply-to; bh=B4Xm6LsOhJS1ykx9B8a1kfKwevQwUmSPNfR8qzKvp6Q=; b=Iztlr7d8SpwGSM5GMuJp9jUjlOd42lu627JnlbOo19bOwRIN2HCTzw6a4fgGSxsgF4 cgdWhDnOpLSw3WebArDYwoewVvHh/oItZn7z13O4YMGPiLd/AdNqmZYnciw1svTzv//V uGTyYdQhQaON8lAQOs3zF1fC/HYUCAcbQtXEA= X-Google-DKIM-Signature: v=1; a=rsa-sha256; c=relaxed/relaxed; d=1e100.net; s=20230601; t=1752007544; x=1752612344; h=references:in-reply-to:cc:to:from:subject:message-id:date :x-gm-message-state:from:to:cc:subject:date:message-id:reply-to; bh=B4Xm6LsOhJS1ykx9B8a1kfKwevQwUmSPNfR8qzKvp6Q=; b=oK+x/D2bD+njiUB8bwkxBaYMBuR9Tud573zpeA+yw6fuf4OC6oHInf+bqBEHiOsbHB KQhkxWpbVHc0w1FP/x7a13+VlQwVq7X59twkWAa52Sr5EttFq+d/ggYx+yLdhpRsYzhE HDjFcrxkr723pheSr1dOj19VFx1q50g+XS7IJGYqUKl3tkR4bIOW4CsWeWCyLXNavKqb KOgPZP3TPiBmDYCkUKn+NHB9LX1JojDirctBGx5nLyBaQX9QK61lY5qgRuJfWl8sqWUS 2z+8yzRRvDMH5L+JdDFFLCzUqlCMDUEhQjkKhU+3MCRupkRqFzFmmzgITDWEUpsMuyZN 1Rfg== X-Gm-Message-State: AOJu0YxbvbrB86QDRbcvWovYhEn2VnDLl+mJSg8m/sCL/tJtKp7ef6Bv UqdHLw4rmWCk6/9U9h3xJreBBi5V5l4+IJUsda+2ysvXGiRNg1JC+BYq+B7WvZudfq1dgq5yUK9 mIJYMQQvkzuFki3rw7gBb4TjdARDQ7p06mqAvm+ypMEgdsQbtfVXJVv4vFJ+Z X-Gm-Gg: ASbGncs4M9LVjODBRKw/iaCdHYdTLnCCjJgiMZldYV6kG6aHzmXBpbNVlXvXs7qRZxY waFG/aS3uOtpnM/cR/QvPxaLJDx0apbdX8LbNfqUgITcKFpTBNnoQpUQVUgZh/Q/3B9nGv0v390 oKSh98ABp9sUvIXH96+GCXCHOxgNsyA7HnRMLq9klNrnzZ1cwwsdJceFPz0I0G1IzepDjJhyWz8 yAlWqY2G2z2pMu1rWPjb7kZdatJVWtbEk9LzPha46Fn+gsHlvCWI2TfeR88nL7IyWqGGO4bX4IM bsI9Vam0Mvs6E/3+cKSHKEsm+sSZILyUDQqZF/bEMxViQO0= X-Google-Smtp-Source: AGHT+IEWgzMdD5t9RO4fV6Y9rX+e7P+qNS08hyNPzVJYpMTCT6CPtOKhVFNCthux863mNqp8d3eGHm+/jCvZ X-Received: by 2002:a17:902:ef12:b0:235:88b:2d06 with SMTP id d9443c01a7336-23dd97f3b68mr12485705ad.6.1752007544204; Tue, 08 Jul 2025 13:45:44 -0700 (PDT) Received: from postal.iol.unh.edu (postal.iol.unh.edu. [2606:4100:3880:1234::84]) by smtp-relay.gmail.com with ESMTPS id d9443c01a7336-23c842b5b83sm5604425ad.1.2025.07.08.13.45.44 (version=TLS1_2 cipher=ECDHE-ECDSA-AES128-GCM-SHA256 bits=128/128); Tue, 08 Jul 2025 13:45:44 -0700 (PDT) X-Relaying-Domain: iol.unh.edu Date: Tue, 08 Jul 2025 13:45:44 -0700 (PDT) Message-ID: <686d8378.170a0220.32b4c1.d7c0SMTPIN_ADDED_MISSING@mx.google.com> Received: from [172.21.0.5] (unknown [172.18.0.240]) by postal.iol.unh.edu (Postfix) with ESMTP id A5541604D420; Tue, 8 Jul 2025 16:45:43 -0400 (EDT) Subject: |SUCCESS| pw155078 [PATCH] [v3] net/mlx5: remove use of sizeof(rte_v From: dpdklab@iol.unh.edu To: Test Report Cc: dpdk-test-reports@iol.unh.edu In-Reply-To: <1751987516-30482-1-git-send-email-andremue@linux.microsoft.com> References: <1751987516-30482-1-git-send-email-andremue@linux.microsoft.com> Content-Type: text/plain X-BeenThere: test-report@dpdk.org X-Mailman-Version: 2.1.29 Precedence: list List-Id: automatic DPDK test reports List-Unsubscribe: , List-Archive: List-Post: List-Help: List-Subscribe: , Errors-To: test-report-bounces@dpdk.org Test-Label: iol-unit-amd64-testing Test-Status: SUCCESS http://dpdk.org/patch/155078 _Testing PASS_ Submitter: Andre Muezerie Date: Tuesday, July 08 2025 15:11:56 DPDK git baseline: Repo:dpdk Branch: master CommitID:e2888614268cbf0abcc7cd72ad97ff4e4901d0a5 155078 --> testing pass Upstream job id: Generic-VM-Unit-Test-DPDK#29807 Test environment and result as below: +-------------------------------+----------------+ | Environment | dpdk_unit_test | +===============================+================+ | Debian GNU/Linux 12 | PASS | +-------------------------------+----------------+ | CentOS Stream 9 | PASS | +-------------------------------+----------------+ | CentOS Stream 10 | PASS | +-------------------------------+----------------+ | Fedora Linux 40 | PASS | +-------------------------------+----------------+ | Fedora Linux 41 | PASS | +-------------------------------+----------------+ | Red Hat Enterprise Linux 8.10 | PASS | +-------------------------------+----------------+ | Ubuntu 22.04 | PASS | +-------------------------------+----------------+ | Red Hat Enterprise Linux 9.5 | PASS | +-------------------------------+----------------+ | Ubuntu 20.04 | PASS | +-------------------------------+----------------+ | Ubuntu 24.04 | PASS | +-------------------------------+----------------+ | Windows Server 2022 | PASS | +-------------------------------+----------------+ Debian GNU/Linux 12 Kernel: 5.15 Compiler: gcc gcc (Debian 12.2.0-14+deb12u1) 12.2.0 CentOS Stream 9 Kernel: 5.15 Compiler: gcc gcc (GCC) 11.5.0 20240719 (Red Hat 11.5.0-7) CentOS Stream 10 Kernel: 5.15 Compiler: gcc gcc (GCC) 14.2.1 20250110 (Red Hat 14.2.1-8) Fedora Linux 40 Kernel: 5.15 Compiler: gcc gcc (GCC) 14.2.1 20240912 (Red Hat 14.2.1-3) Fedora Linux 41 Kernel: 5.15 Compiler: clang gcc (GCC) 14.3.1 20250523 (Red Hat 14.3.1-1) Red Hat Enterprise Linux 8.10 Kernel: 5.15 Compiler: gcc gcc (GCC) 8.5.0 20210514 (Red Hat 8.5.0-22) Ubuntu 22.04 Kernel: 5.15 Compiler: gcc gcc (Ubuntu 11.4.0-1ubuntu1~22.04) 11.4.0 Red Hat Enterprise Linux 9.5 Kernel: 5.15 Compiler: gcc gcc (GCC) 11.5.0 20240719 (Red Hat 11.5.0-2) Ubuntu 20.04 Kernel: 5.15 Compiler: gcc gcc (Ubuntu 9.4.0-1ubuntu1~20.04.2) 9.4.0 Ubuntu 24.04 Kernel: 5.15 Compiler: gcc gcc (Ubuntu 13.3.0-6ubuntu2~24.04) 13.3.0 Windows Server 2022 Kernel: 10.0.20348.2031 Compiler: clang 15.0.7, gcc 14.1.0 (MinGW), and MSVC VS 19.39.33521 To view detailed results, visit: https://lab.dpdk.org/results/dashboard/patchsets/33615/ UNH-IOL DPDK Community Lab To manage your email subscriptions, visit: https://lab.dpdk.org/results/dashboard/preferences/subscriptions/