automatic DPDK test reports
 help / color / mirror / Atom feed
From: dpdklab@iol.unh.edu
To: Test Report <test-report@dpdk.org>
Cc: dpdk-test-reports@iol.unh.edu
Subject: |PENDING| pw154998 [PATCH] [v2] net/iavf: fix VLAN strip disabling f
Date: Tue, 08 Jul 2025 13:49:27 -0700 (PDT)	[thread overview]
Message-ID: <686d8457.050a0220.3344a3.fc68SMTPIN_ADDED_MISSING@mx.google.com> (raw)
In-Reply-To: <20250703101758.9973-1-amiyaranjan.mohakud@gmail.com>

Test-Label: iol-compile-amd64-testing
Test-Status: PENDING
http://dpdk.org/patch/154998

_Testing pending_

Submitter: Amiya Ranjan Mohakud <amiyaranjan.mohakud@gmail.com>
Date: Thursday, July 03 2025 10:17:58 
DPDK git baseline: Repo:dpdk
  Branch: master
  CommitID:a6b10031d251fcc7dadede461f7e1d005024b139

154998 --> testing pending

Upstream job id: Generic-VM-DPDK-Compile-Meson#37026

Test environment and result as below:

+---------------------+-------------------+--------------------+
|     Environment     | dpdk_msvc_compile | dpdk_meson_compile |
+=====================+===================+====================+
| Windows Server 2022 | PEND              | SKIPPED            |
+---------------------+-------------------+--------------------+
| FreeBSD 14.2        | SKIPPED           | PASS               |
+---------------------+-------------------+--------------------+


Windows Server 2022
	Kernel: 10.0.20348.2031
	Compiler: clang 15.0.7, gcc 14.1.0 (MinGW), and MSVC VS 19.39.33521

FreeBSD 14.2
	Kernel: 14.2-RELEASE
	Compiler: clang 18.1.6

To view detailed results, visit:
https://lab.dpdk.org/results/dashboard/patchsets/33581/

UNH-IOL DPDK Community Lab

To manage your email subscriptions, visit: 
https://lab.dpdk.org/results/dashboard/preferences/subscriptions/

  parent reply	other threads:[~2025-07-08 20:49 UTC|newest]

Thread overview: 19+ messages / expand[flat|nested]  mbox.gz  Atom feed  top
     [not found] <20250703101758.9973-1-amiyaranjan.mohakud@gmail.com>
2025-07-03  9:43 ` |SUCCESS| pw154998 [PATCH v2] net/iavf: fix VLAN strip disabling for v2 capability qemudev
2025-07-03  9:47 ` qemudev
2025-07-03 10:17 ` |WARNING| " checkpatch
2025-07-08 20:08 ` |SUCCESS| pw154998 [PATCH] [v2] net/iavf: fix VLAN strip disabling f dpdklab
2025-07-08 20:11 ` dpdklab
2025-07-08 20:12 ` dpdklab
2025-07-08 20:21 ` |PENDING| " dpdklab
2025-07-08 20:23 ` |SUCCESS| " dpdklab
2025-07-08 20:49 ` dpdklab [this message]
2025-07-08 20:50 ` dpdklab
2025-07-08 21:05 ` dpdklab
2025-07-08 21:18 ` |PENDING| " dpdklab
2025-07-08 21:23 ` |SUCCESS| " dpdklab
2025-07-08 21:55 ` |WARNING| " dpdklab
2025-07-08 22:40 ` dpdklab
2025-07-08 22:42 ` |SUCCESS| " dpdklab
2025-07-09  0:00 ` dpdklab
2025-07-09  0:23 ` dpdklab
2025-07-09  1:49 ` dpdklab

Reply instructions:

You may reply publicly to this message via plain-text email
using any one of the following methods:

* Save the following mbox file, import it into your mail client,
  and reply-to-all from there: mbox

  Avoid top-posting and favor interleaved quoting:
  https://en.wikipedia.org/wiki/Posting_style#Interleaved_style

* Reply using the --to, --cc, and --in-reply-to
  switches of git-send-email(1):

  git send-email \
    --in-reply-to=686d8457.050a0220.3344a3.fc68SMTPIN_ADDED_MISSING@mx.google.com \
    --to=dpdklab@iol.unh.edu \
    --cc=dpdk-test-reports@iol.unh.edu \
    --cc=test-report@dpdk.org \
    /path/to/YOUR_REPLY

  https://kernel.org/pub/software/scm/git/docs/git-send-email.html

* If your mail client supports setting the In-Reply-To header
  via mailto: links, try the mailto: link
Be sure your reply has a Subject: header at the top and a blank line before the message body.
This is a public inbox, see mirroring instructions
for how to clone and mirror all data and code used for this inbox;
as well as URLs for NNTP newsgroup(s).