From mboxrd@z Thu Jan 1 00:00:00 1970 Return-Path: Received: from mails.dpdk.org (mails.dpdk.org [217.70.189.124]) by inbox.dpdk.org (Postfix) with ESMTP id 3FE9346A86 for ; Tue, 8 Jul 2025 22:50:18 +0200 (CEST) Received: from mails.dpdk.org (localhost [127.0.0.1]) by mails.dpdk.org (Postfix) with ESMTP id 3AD2B40292; Tue, 8 Jul 2025 22:50:18 +0200 (CEST) Received: from mail-io1-f98.google.com (mail-io1-f98.google.com [209.85.166.98]) by mails.dpdk.org (Postfix) with ESMTP id CB79940292 for ; Tue, 8 Jul 2025 22:50:17 +0200 (CEST) Received: by mail-io1-f98.google.com with SMTP id ca18e2360f4ac-879502274cfso33136939f.0 for ; Tue, 08 Jul 2025 13:50:17 -0700 (PDT) DKIM-Signature: v=1; a=rsa-sha256; c=relaxed/relaxed; d=iol.unh.edu; s=unh-iol; t=1752007817; x=1752612617; darn=dpdk.org; h=references:in-reply-to:cc:to:from:subject:message-id:date:from:to :cc:subject:date:message-id:reply-to; bh=2RonmTgvVDB2k6OChQvHQVabf+r7IB3aqODZpwg6/qU=; b=U3PdQPTYzP13GsNSCzSeVxq/vWSnNYt4xRIzQxUIMsB8F9e3qYoM5fox5j4S+Imqu/ Ahj28ViOHC7M5lKj50ipfAugiKx2apKP/o5BplnBzJV/eQxTw4JbPnYU0lorhiWiWIF2 oEefrrPFpzfGjryvh0QxZpQlOXiBy5CZq+hVU= X-Google-DKIM-Signature: v=1; a=rsa-sha256; c=relaxed/relaxed; d=1e100.net; s=20230601; t=1752007817; x=1752612617; h=references:in-reply-to:cc:to:from:subject:message-id:date :x-gm-message-state:from:to:cc:subject:date:message-id:reply-to; bh=2RonmTgvVDB2k6OChQvHQVabf+r7IB3aqODZpwg6/qU=; b=rzUYeY1z84ferNJNXg+a1eqylFHYmMD6sPfdQgYPP01a7xuk8evCmVw1z45aGWhzhb wbPP118ekBX2v3I/WWTM74xsDtJL35HS6XUAq9t9EUbQ6j+H6cNwZWr1wlMyDbVZ8BSR /16dJ0+zhx5QSa0lnpE86c9HIh3+TjW40lK8j7vlwuYx3CichQnP4AsOIBR+d7HmyFv4 85w2ZiNYOhe8w0xRRi77cWCGSkjzK6r+nI9vQv5NC3F02zP3IvBP68aO7t/pzuEjj6ph rgVMZdPzZoAtwC3HIxjLzD9dVaanuJGPPXYBDRXlKwdEODBGyeU/cjS3B+5IJFOQoQoI GrFw== X-Gm-Message-State: AOJu0Ywpb56Q6VQw/pUeCLyS8O7xO0v5gkDioogB0maZDbzrHyoksImv tt4v0fR5d76XH2crt0jhewBmCA+vEU1rQw7/Y085NI5ULEN2Av9JccW4oBGShUcKNe+YSQtQlbr x1Hqyip7V5K6Of1E1kWouQkTeE9r+tq7v7HhrdIQK1vMO X-Gm-Gg: ASbGncuUjnsIhcIvBhJJmcDsMi4RL/Lc+fvWSrI/MUNiMprP7PUT0dRhNNvE3gC/U83 2X4vsAGAxAfje+AJVtG0qTQJvCDxM1XcJKj3UFan3Q0OGxvz+YxEkf3VtSwP4ZMtCvo+wZNufgy 7DXrQ8QrnqrhvULEwkOGU6GxTVw8jmNhRrDJWmuWfmVaezTJFBSMXOmjK+G4gz7jPfzuozHc2QI 03wxuzpyxvBHH4o+bWroalGbh8900Tdh4RcKKQGw3cwJk2xhKVFEP9rckfbtDWEE6KR6CRkZuKO LZ0TsqUVqAeNmAVarNIpb22z1sSz6YZvn1Apy6OFMq3sbBMXNAOPeLtdqK3IZv4iGbCo6w== X-Google-Smtp-Source: AGHT+IFmXiN2u6iz4e33rHPP/LF56gmA/gWhaYIIEp/m/SP/N38UWPfdcApAZWg2+txW+8jToAVgYxnuoxEx X-Received: by 2002:a05:6602:388a:b0:86d:60:702f with SMTP id ca18e2360f4ac-8795af33198mr24018439f.0.1752007817092; Tue, 08 Jul 2025 13:50:17 -0700 (PDT) Received: from postal.iol.unh.edu (postal.iol.unh.edu. [132.177.123.84]) by smtp-relay.gmail.com with ESMTPS id 8926c6da1cb9f-503b5a2bdccsm420410173.30.2025.07.08.13.50.17 (version=TLS1_2 cipher=ECDHE-ECDSA-AES128-GCM-SHA256 bits=128/128); Tue, 08 Jul 2025 13:50:17 -0700 (PDT) X-Relaying-Domain: iol.unh.edu Date: Tue, 08 Jul 2025 13:50:17 -0700 (PDT) Message-ID: <686d8489.050a0220.42fca.6371SMTPIN_ADDED_MISSING@mx.google.com> Received: from [172.21.0.5] (unknown [172.18.0.240]) by postal.iol.unh.edu (Postfix) with ESMTP id AC9D5604D420; Tue, 8 Jul 2025 16:50:16 -0400 (EDT) Subject: |SUCCESS| pw154998 [PATCH] [v2] net/iavf: fix VLAN strip disabling f From: dpdklab@iol.unh.edu To: Test Report Cc: dpdk-test-reports@iol.unh.edu In-Reply-To: <20250703101758.9973-1-amiyaranjan.mohakud@gmail.com> References: <20250703101758.9973-1-amiyaranjan.mohakud@gmail.com> Content-Type: text/plain X-BeenThere: test-report@dpdk.org X-Mailman-Version: 2.1.29 Precedence: list List-Id: automatic DPDK test reports List-Unsubscribe: , List-Archive: List-Post: List-Help: List-Subscribe: , Errors-To: test-report-bounces@dpdk.org Test-Label: iol-unit-amd64-testing Test-Status: SUCCESS http://dpdk.org/patch/154998 _Testing PASS_ Submitter: Amiya Ranjan Mohakud Date: Thursday, July 03 2025 10:17:58 DPDK git baseline: Repo:dpdk Branch: master CommitID:a6b10031d251fcc7dadede461f7e1d005024b139 154998 --> testing pass Upstream job id: Generic-Unit-Test-DPDK#353728 Test environment and result as below: +-------------------------------+----------------+ | Environment | dpdk_unit_test | +===============================+================+ | CentOS Stream 9 | PASS | +-------------------------------+----------------+ | CentOS Stream 10 | PASS | +-------------------------------+----------------+ | Fedora Linux 40 | PASS | +-------------------------------+----------------+ | Debian GNU/Linux 12 | PASS | +-------------------------------+----------------+ | Fedora Linux 41 | PASS | +-------------------------------+----------------+ | Red Hat Enterprise Linux 8.10 | PASS | +-------------------------------+----------------+ | Red Hat Enterprise Linux 9.5 | PASS | +-------------------------------+----------------+ | Ubuntu 20.04 | PASS | +-------------------------------+----------------+ | Ubuntu 22.04 | PASS | +-------------------------------+----------------+ | Ubuntu 24.04 | PASS | +-------------------------------+----------------+ CentOS Stream 9 Kernel: 5.15 Compiler: gcc gcc (GCC) 11.5.0 20240719 (Red Hat 11.5.0-7) CentOS Stream 10 Kernel: 5.15 Compiler: gcc gcc (GCC) 14.2.1 20250110 (Red Hat 14.2.1-8) Fedora Linux 40 Kernel: 5.15 Compiler: gcc gcc (GCC) 14.2.1 20240912 (Red Hat 14.2.1-3) Debian GNU/Linux 12 Kernel: 5.15 Compiler: gcc gcc (Debian 12.2.0-14+deb12u1) 12.2.0 Fedora Linux 41 Kernel: 5.15 Compiler: gcc gcc (GCC) 14.3.1 20250523 (Red Hat 14.3.1-1) Red Hat Enterprise Linux 8.10 Kernel: 5.15 Compiler: gcc gcc (GCC) 8.5.0 20210514 (Red Hat 8.5.0-22) Red Hat Enterprise Linux 9.5 Kernel: 5.15 Compiler: gcc gcc (GCC) 11.5.0 20240719 (Red Hat 11.5.0-2) Ubuntu 20.04 Kernel: 5.15 Compiler: gcc gcc (Ubuntu 9.4.0-1ubuntu1~20.04.2) 9.4.0 Ubuntu 22.04 Kernel: 5.15 Compiler: gcc gcc (Ubuntu 11.4.0-1ubuntu1~22.04) 11.4.0 Ubuntu 24.04 Kernel: 5.15 Compiler: gcc gcc (Ubuntu 13.3.0-6ubuntu2~24.04) 13.3.0 To view detailed results, visit: https://lab.dpdk.org/results/dashboard/patchsets/33581/ UNH-IOL DPDK Community Lab To manage your email subscriptions, visit: https://lab.dpdk.org/results/dashboard/preferences/subscriptions/