From mboxrd@z Thu Jan 1 00:00:00 1970 Return-Path: Received: from mails.dpdk.org (mails.dpdk.org [217.70.189.124]) by inbox.dpdk.org (Postfix) with ESMTP id A028346A86 for ; Tue, 8 Jul 2025 22:53:41 +0200 (CEST) Received: from mails.dpdk.org (localhost [127.0.0.1]) by mails.dpdk.org (Postfix) with ESMTP id 8524740292; Tue, 8 Jul 2025 22:53:41 +0200 (CEST) Received: from mail-oa1-f100.google.com (mail-oa1-f100.google.com [209.85.160.100]) by mails.dpdk.org (Postfix) with ESMTP id 4DCC740292 for ; Tue, 8 Jul 2025 22:53:40 +0200 (CEST) Received: by mail-oa1-f100.google.com with SMTP id 586e51a60fabf-2efdd5c22dfso3160050fac.3 for ; Tue, 08 Jul 2025 13:53:40 -0700 (PDT) DKIM-Signature: v=1; a=rsa-sha256; c=relaxed/relaxed; d=iol.unh.edu; s=unh-iol; t=1752008019; x=1752612819; darn=dpdk.org; h=references:in-reply-to:cc:to:from:subject:message-id:date:from:to :cc:subject:date:message-id:reply-to; bh=6keS89DbBC0ljn8/AiLxTuO5EcY8Nu7VHt9cplWKw3M=; b=jODP9Izmsfmg3lPyqAQhjO5aEe4kFr2Elali/jRENTliHkzBWhH/3JxogicW1lNFKY LBbW9HBZEyp+8YRBmfe5kAkXFSfShSFl/XsROd6OGeNuRSff3c5riN4NnlIvJF8S3Mdv gypYWHvTpylTABCjF/hsWnnmLCoJbykkD1RWQ= X-Google-DKIM-Signature: v=1; a=rsa-sha256; c=relaxed/relaxed; d=1e100.net; s=20230601; t=1752008019; x=1752612819; h=references:in-reply-to:cc:to:from:subject:message-id:date :x-gm-message-state:from:to:cc:subject:date:message-id:reply-to; bh=6keS89DbBC0ljn8/AiLxTuO5EcY8Nu7VHt9cplWKw3M=; b=UDBYfygS+QUBEgANB//6o6kzQu4st9E/PZHl6eMwWQs9Dsb/hStXP2SZpIqcUvrxY+ Uel4BR7POLzU9UQ8WYs5oAK7MtqVu7KESOfmxO3VdDXQtlM/JS6U9mQ+L06UMjj55Y7P DaB9frWghNhpX0FlsqIkEx9guWXz85GpkTEDUXhpkZBDtufFp4LkkJXhbUyphX6cZMwq rlOSRYzPEtRlG83I8wfqiFjtEvKox0zC3Jt/Dnz+yYUJDl7QjyxHPw0ZJ3A3TEYCCjaI nTlTy7Qd7t3eE+ZvOe6SwtpvZZCB246Jmbuihb5CgdHE9b32aScJuoGD6Q0OJCio47Sh 1oKg== X-Gm-Message-State: AOJu0Yxn4qlWDmIqXRVUeqbVQE+FkwYiUS6hU/Ph5ZGBQfYCFAUaB1S/ cG0DrUl9SHaKhWfUG1ZhxqS+axqAVf5sjyeK0fSE16OtFyaWWexRGVKSl68ky6sqZlen4g6wii/ 49P3JfcjFf4iNopFat9N++i4JvgrZ2Y9ul9TSYndjZMCW+Z0ZP0Z+sFpsUcW3 X-Gm-Gg: ASbGnctwXlcOKSerl2hb6hwSHbQlEOt4IOwEFfMkoR/lwk6wZvmL0yhjtaglk5MRGQs HX1apFaHEyBldlBOlX7Th36j/JmLUMIFA+yExw9pQADpG/+6a8z0hEuMJinSKGwVLO2/KvTm2h0 J1qlaLOoRqTAJ6Xg/5v8MLnMlVUfVdT9kMo6XGMjjnZ7aS6FT0c/Zk4CglyIkiyVzv6jAY4rBje e9Ibm6rUoxkqvdRgTTk4zFo7LJ4YFWqMELKxog8YmTOAvboNb6V381geLrjMO2sLKWpRzXXI36v phsqf1OMw/bB6AZ4EWGqmtM2EJTEEBC5L1TMZ8xOwoGnWfw= X-Google-Smtp-Source: AGHT+IEn6T30s11Eifl8xiiREsj6ZgSMT1AWN/+5MwhvN4ZCXRLsLGFEi/zz7hRzeWKsoSi4TfnGxTxgTJYE X-Received: by 2002:a05:6870:2406:b0:2d5:2191:c8b3 with SMTP id 586e51a60fabf-2f796dfcf5amr14442103fac.29.1752008019506; Tue, 08 Jul 2025 13:53:39 -0700 (PDT) Received: from postal.iol.unh.edu (postal.iol.unh.edu. [2606:4100:3880:1234::84]) by smtp-relay.gmail.com with ESMTPS id 586e51a60fabf-2f78fe025f4sm658286fac.1.2025.07.08.13.53.39 (version=TLS1_2 cipher=ECDHE-ECDSA-AES128-GCM-SHA256 bits=128/128); Tue, 08 Jul 2025 13:53:39 -0700 (PDT) X-Relaying-Domain: iol.unh.edu Date: Tue, 08 Jul 2025 13:53:39 -0700 (PDT) Message-ID: <686d8553.050a0220.283a1a.23a2SMTPIN_ADDED_MISSING@mx.google.com> Received: from [172.21.0.5] (unknown [172.18.0.240]) by postal.iol.unh.edu (Postfix) with ESMTP id 03EA1604D420; Tue, 8 Jul 2025 16:53:39 -0400 (EDT) Subject: |SUCCESS| pw155077 [PATCH] net/virtio: revert Tx free threshold fix From: dpdklab@iol.unh.edu To: Test Report Cc: dpdk-test-reports@iol.unh.edu In-Reply-To: <20250708142305.3636707-1-david.marchand@redhat.com> References: <20250708142305.3636707-1-david.marchand@redhat.com> Content-Type: text/plain X-BeenThere: test-report@dpdk.org X-Mailman-Version: 2.1.29 Precedence: list List-Id: automatic DPDK test reports List-Unsubscribe: , List-Archive: List-Post: List-Help: List-Subscribe: , Errors-To: test-report-bounces@dpdk.org Test-Label: iol-unit-arm64-testing Test-Status: SUCCESS http://dpdk.org/patch/155077 _Testing PASS_ Submitter: David Marchand Date: Tuesday, July 08 2025 14:23:04 DPDK git baseline: Repo:dpdk Branch: master CommitID:64267ffa9474c6becddcc07fc2e603adb621b44d 155077 --> testing pass Upstream job id: Generic-Unit-Test-DPDK#353683 Test environment and result as below: +------------------------------+----------------+------------------------------+---------------------------+--------------+ | Environment | dpdk_unit_test | cryptodev_sw_snow3g_autotest | cryptodev_sw_zuc_autotest | lpm_autotest | +==============================+================+==============================+===========================+==============+ | Red Hat Enterprise Linux 9.5 | PASS | SKIPPED | SKIPPED | SKIPPED | +------------------------------+----------------+------------------------------+---------------------------+--------------+ | CentOS Stream 9 | PASS | SKIPPED | SKIPPED | SKIPPED | +------------------------------+----------------+------------------------------+---------------------------+--------------+ | CentOS Stream 10 | PASS | SKIPPED | SKIPPED | SKIPPED | +------------------------------+----------------+------------------------------+---------------------------+--------------+ | Debian GNU/Linux 12 | PASS | SKIPPED | SKIPPED | SKIPPED | +------------------------------+----------------+------------------------------+---------------------------+--------------+ | Ubuntu 20.04 | PASS | SKIPPED | SKIPPED | PASS | +------------------------------+----------------+------------------------------+---------------------------+--------------+ | Ubuntu 22.04 | PASS | SKIPPED | SKIPPED | SKIPPED | +------------------------------+----------------+------------------------------+---------------------------+--------------+ | Fedora Linux 40 | PASS | SKIPPED | SKIPPED | SKIPPED | +------------------------------+----------------+------------------------------+---------------------------+--------------+ | Fedora Linux 41 | PASS | SKIPPED | SKIPPED | SKIPPED | +------------------------------+----------------+------------------------------+---------------------------+--------------+ | Ubuntu 24.04 | PASS | SKIPPED | SKIPPED | SKIPPED | +------------------------------+----------------+------------------------------+---------------------------+--------------+ | Debian 12 (arm) | SKIPPED | PASS | PASS | SKIPPED | +------------------------------+----------------+------------------------------+---------------------------+--------------+ Red Hat Enterprise Linux 9.5 Kernel: 5.4 Compiler: gcc gcc (GCC) 11.5.0 20240719 (Red Hat 11.5.0-2) CentOS Stream 9 Kernel: 5.4 Compiler: gcc gcc (GCC) 11.5.0 20240719 (Red Hat 11.5.0-7) CentOS Stream 10 Kernel: 5.4 Compiler: gcc gcc (GCC) 14.2.1 20250110 (Red Hat 14.2.1-8) Debian GNU/Linux 12 Kernel: 5.4 Compiler: gcc gcc (Debian 12.2.0-14+deb12u1) 12.2.0 Ubuntu 20.04 Kernel: 5.4 Compiler: gcc gcc (Ubuntu 9.4.0-1ubuntu1~20.04.2) 9.4.0 Ubuntu 22.04 Kernel: 5.4 Compiler: gcc gcc (Ubuntu 11.4.0-1ubuntu1~22.04) 11.4.0 Fedora Linux 40 Kernel: 5.4 Compiler: clang gcc (GCC) 14.2.1 20240912 (Red Hat 14.2.1-3) Fedora Linux 41 Kernel: 5.4 Compiler: clang gcc (GCC) 14.3.1 20250523 (Red Hat 14.3.1-1) Ubuntu 24.04 Kernel: 5.4 Compiler: gcc gcc (Ubuntu 13.3.0-6ubuntu2~24.04) 13.3.0 Debian 12 (arm) Kernel: Depends on container host Compiler: gcc (Debian 12.2.0-14) 12.2.0 To view detailed results, visit: https://lab.dpdk.org/results/dashboard/patchsets/33614/ UNH-IOL DPDK Community Lab To manage your email subscriptions, visit: https://lab.dpdk.org/results/dashboard/preferences/subscriptions/