From mboxrd@z Thu Jan 1 00:00:00 1970 Return-Path: Received: from mails.dpdk.org (mails.dpdk.org [217.70.189.124]) by inbox.dpdk.org (Postfix) with ESMTP id EF65546A8F for ; Tue, 8 Jul 2025 23:23:03 +0200 (CEST) Received: from mails.dpdk.org (localhost [127.0.0.1]) by mails.dpdk.org (Postfix) with ESMTP id EABDF40292; Tue, 8 Jul 2025 23:23:03 +0200 (CEST) Received: from mail-qv1-f99.google.com (mail-qv1-f99.google.com [209.85.219.99]) by mails.dpdk.org (Postfix) with ESMTP id 0490240292 for ; Tue, 8 Jul 2025 23:23:03 +0200 (CEST) Received: by mail-qv1-f99.google.com with SMTP id 6a1803df08f44-6fb0eb0f0fbso4502286d6.1 for ; Tue, 08 Jul 2025 14:23:02 -0700 (PDT) DKIM-Signature: v=1; a=rsa-sha256; c=relaxed/relaxed; d=iol.unh.edu; s=unh-iol; t=1752009782; x=1752614582; darn=dpdk.org; h=references:in-reply-to:cc:to:from:subject:message-id:date:from:to :cc:subject:date:message-id:reply-to; bh=H+lY/T9jWMk9LE4tSCS9+ZUrXEyVbZtOkr3KGg0s2kA=; b=PPUTujz9QRIlCLKb1TPZViCse5i3N08rk8M64RZqFLK8CgUSa8b6UickawLUEue6e2 kIEwpwlOCvAEXLigBrZrMmJlaKONfqYQIwq0dF6VsHuj5Cz3I6wakPGAAJZ4gpxyO8O1 5q7sgpxDr0DXzkvhj3sM5kBDFEWIpWa8yB8is= X-Google-DKIM-Signature: v=1; a=rsa-sha256; c=relaxed/relaxed; d=1e100.net; s=20230601; t=1752009782; x=1752614582; h=references:in-reply-to:cc:to:from:subject:message-id:date :x-gm-message-state:from:to:cc:subject:date:message-id:reply-to; bh=H+lY/T9jWMk9LE4tSCS9+ZUrXEyVbZtOkr3KGg0s2kA=; b=GQebBloCMkNPR0HNfQUg/ak+Q1QcGcuMAnR37Q4GeU5RkFjDG+LwOtBE8v+xmLF8XO QjNRzibar+aoTmwHRWguo4FWhtSpzFQ5LoxxLWAYnlRmIELi3OJ5zNrH0yCY/YVJGQz7 XYvtti70kb6idRR3Gikl1BHAi6rOD84LL9mY2JEcOm3IAc2dV1XIYWkNOP2NIbk30Rfn 7QTlfF0/rUi75h7XZLlk+JE4xe5Bvwd+cRNrLNfjHcpEqPhYXMBPrdfwocKduBEhtCuh B081j9sZXJiP5j1Nml9cpXLP+NbitzIO22ncJeoiAviBDkKBw3h3eFztxyuweQOJv4xk MtHg== X-Gm-Message-State: AOJu0YxHBcMr7+9H14bmyCzgoW/hpK1/QdtdLUKFSkNjMrSDwj4rZ4b5 TFlFqcYQnMVAHWIgZICIGmZI2zUr/ebIQCds7WrU7Hzx0N/X20/HDGOFzYsYj1RLQYaNy6X/zQl PKxEptk220T8QOE5FPlx8fz7zauMdJfTrcuZ7L7kMjLS7 X-Gm-Gg: ASbGncv3wVLRP/RRUoYXkNCVfO2H2s6heYiCTLQQWfexlzrnfvXo98fPmOrLf/auAu9 8lypwwQnXD+yeZxswihBVeMzBNisa9kPkxbZPsIwIxWnz90iYrwa8xC+7Sy9RWDH1uty3veRjeC CLMlmWmhbNFwVCWPI19FxJ+HD9P9Nh9GgZdPJpKxVklxLGTGfS0zWE8PLQMMBXxQs4XMP3ZTpQC fNVwHf6D/ERcqAOyb1Xkh8rObrZdHgGlyihghgDYT/YsnYwK4Tb7Eb2/GUnV1GB1JXskmO9b3Kb 5hAOtIlBXC/HyyPd1iZKngpD6JMdX+Yv+xiNdRHQGhL6+LgRlBK/JXfxGZ75ETt6K9sw+g== X-Google-Smtp-Source: AGHT+IHrfDkHJDCwa0xVUOz0eBpbIEu9O8pXQHqNmfdKdsPI+SP/69M9SHfomFW9h2lqCSLKe1+vd6xzEgTD X-Received: by 2002:a05:6214:8093:b0:704:7c43:6917 with SMTP id 6a1803df08f44-7047dcafb55mr75054126d6.7.1752009782371; Tue, 08 Jul 2025 14:23:02 -0700 (PDT) Received: from postal.iol.unh.edu (postal.iol.unh.edu. [132.177.123.84]) by smtp-relay.gmail.com with ESMTPS id 6a1803df08f44-702c4d53c31sm5624086d6.54.2025.07.08.14.23.02 (version=TLS1_2 cipher=ECDHE-ECDSA-AES128-GCM-SHA256 bits=128/128); Tue, 08 Jul 2025 14:23:02 -0700 (PDT) X-Relaying-Domain: iol.unh.edu Date: Tue, 08 Jul 2025 14:23:02 -0700 (PDT) Message-ID: <686d8c36.050a0220.15a41a.cba9SMTPIN_ADDED_MISSING@mx.google.com> Received: from [172.21.0.6] (unknown [172.18.0.240]) by postal.iol.unh.edu (Postfix) with ESMTP id 087B3604D420; Tue, 8 Jul 2025 17:23:02 -0400 (EDT) Subject: |SUCCESS| pw154998 [PATCH] [v2] net/iavf: fix VLAN strip disabling f From: dpdklab@iol.unh.edu To: Test Report Cc: dpdk-test-reports@iol.unh.edu In-Reply-To: <20250703101758.9973-1-amiyaranjan.mohakud@gmail.com> References: <20250703101758.9973-1-amiyaranjan.mohakud@gmail.com> Content-Type: text/plain X-BeenThere: test-report@dpdk.org X-Mailman-Version: 2.1.29 Precedence: list List-Id: automatic DPDK test reports List-Unsubscribe: , List-Archive: List-Post: List-Help: List-Subscribe: , Errors-To: test-report-bounces@dpdk.org Test-Label: iol-abi-testing Test-Status: SUCCESS http://dpdk.org/patch/154998 _Testing PASS_ Submitter: Amiya Ranjan Mohakud Date: Thursday, July 03 2025 10:17:58 DPDK git baseline: Repo:dpdk Branch: master CommitID:a6b10031d251fcc7dadede461f7e1d005024b139 154998 --> testing pass Upstream job id: Generic-DPDK-Compile-ABI#133567 Test environment and result as below: +-------------------------------+----------+ | Environment | abi_test | +===============================+==========+ | Fedora Linux 40 | PASS | +-------------------------------+----------+ | CentOS Stream 10 | PASS | +-------------------------------+----------+ | openSUSE Leap 15.6 | PASS | +-------------------------------+----------+ | Red Hat Enterprise Linux 8.10 | PASS | +-------------------------------+----------+ | Ubuntu 22.04 | PASS | +-------------------------------+----------+ | Red Hat Enterprise Linux 9.5 | PASS | +-------------------------------+----------+ | Fedora Linux 41 | PASS | +-------------------------------+----------+ | Debian GNU/Linux 12 | PASS | +-------------------------------+----------+ | Ubuntu 24.04 | PASS | +-------------------------------+----------+ | CentOS Stream 9 | PASS | +-------------------------------+----------+ Fedora Linux 40 Kernel: 5.15 Compiler: clang gcc (GCC) 14.2.1 20240912 (Red Hat 14.2.1-3) CentOS Stream 10 Kernel: 5.15 Compiler: gcc gcc (GCC) 14.2.1 20250110 (Red Hat 14.2.1-8) openSUSE Leap 15.6 Kernel: 5.15 Compiler: gcc gcc (SUSE Linux) 7.5.0 Red Hat Enterprise Linux 8.10 Kernel: 5.15 Compiler: gcc gcc (GCC) 8.5.0 20210514 (Red Hat 8.5.0-22) Ubuntu 22.04 Kernel: 5.15 Compiler: gcc gcc (Ubuntu 11.4.0-1ubuntu1~22.04) 11.4.0 Red Hat Enterprise Linux 9.5 Kernel: 5.15 Compiler: gcc gcc (GCC) 11.5.0 20240719 (Red Hat 11.5.0-2) Fedora Linux 41 Kernel: 5.15 Compiler: clang gcc (GCC) 14.3.1 20250523 (Red Hat 14.3.1-1) Debian GNU/Linux 12 Kernel: 5.15 Compiler: gcc gcc (Debian 12.2.0-14+deb12u1) 12.2.0 Ubuntu 24.04 Kernel: 5.15 Compiler: gcc gcc (Ubuntu 13.3.0-6ubuntu2~24.04) 13.3.0 CentOS Stream 9 Kernel: 5.15 Compiler: gcc gcc (GCC) 11.5.0 20240719 (Red Hat 11.5.0-7) To view detailed results, visit: https://lab.dpdk.org/results/dashboard/patchsets/33581/ UNH-IOL DPDK Community Lab To manage your email subscriptions, visit: https://lab.dpdk.org/results/dashboard/preferences/subscriptions/