From mboxrd@z Thu Jan 1 00:00:00 1970 Return-Path: Received: from mails.dpdk.org (mails.dpdk.org [217.70.189.124]) by inbox.dpdk.org (Postfix) with ESMTP id F07B946A8F for ; Tue, 8 Jul 2025 23:41:38 +0200 (CEST) Received: from mails.dpdk.org (localhost [127.0.0.1]) by mails.dpdk.org (Postfix) with ESMTP id C551740292; Tue, 8 Jul 2025 23:41:38 +0200 (CEST) Received: from mail-qv1-f100.google.com (mail-qv1-f100.google.com [209.85.219.100]) by mails.dpdk.org (Postfix) with ESMTP id A7BB640292 for ; Tue, 8 Jul 2025 23:41:37 +0200 (CEST) Received: by mail-qv1-f100.google.com with SMTP id 6a1803df08f44-6fd0a91ae98so35186366d6.1 for ; Tue, 08 Jul 2025 14:41:37 -0700 (PDT) DKIM-Signature: v=1; a=rsa-sha256; c=relaxed/relaxed; d=iol.unh.edu; s=unh-iol; t=1752010897; x=1752615697; darn=dpdk.org; h=references:in-reply-to:cc:to:from:subject:message-id:date:from:to :cc:subject:date:message-id:reply-to; bh=5TFyWQri4MV2bYu+2TcR7Sac0I5sONS5lXlJvNY3hxQ=; b=gsTdOkcaI2aRb75ud9hW7nuWJesFIjdGduuPh1pql0up3jknDWeKeE3trnmM3XIBlr YFKP+spnzB9xQa0SXLNw9TrHMLnjpSmcFbu96STqwb5hs61asPgZqO5qoPH0CJob8yUr NNn69q5Vck7mH6p41rG59ZaEBB4+xzon2a9/U= X-Google-DKIM-Signature: v=1; a=rsa-sha256; c=relaxed/relaxed; d=1e100.net; s=20230601; t=1752010897; x=1752615697; h=references:in-reply-to:cc:to:from:subject:message-id:date :x-gm-message-state:from:to:cc:subject:date:message-id:reply-to; bh=5TFyWQri4MV2bYu+2TcR7Sac0I5sONS5lXlJvNY3hxQ=; b=ogs1ChapoI6Fn42MnGTFMAQndKVFiWjq5ljqy5Yucak4+ihCWGL+DI0y8hAVVxEIrs h8ENKNnExFnwQpqmL+1ZfmS1Xd/UQBJWuilU8xcUi49Xgds9sGfmzuNjaB7FleFEHKvC N65mMBQ5M8Kr/ruzgpgsaypEhx3DRQm/xVyeBJY/6kxTztyLIEMHZSrVPxZUveN8WzlT poNow6eXa5Aqg7+VClGkpmq9iAHDzSXHrmcE6jJyMrM9QDK/p7QB+yBuRJBHD1kUh3Dk lOh/wVZ0ZHJ4YVzxOA8TQsIC3h6ukJjVo1edGNCaCMwxdF2moHi5T/N9lusEEosLYZz1 KmeQ== X-Gm-Message-State: AOJu0YwdIrrb7nSx9WK5sv6nh7gsZGOX7KIkufh7mPQ/6JRpHO9+pF2d nldB66IpDSgUkH7hLCMyzS13BbnqnpneBjzCzGzt3+g7dQcZCAqgrr1iRTfCXxTTrZWUA4NaECN rVPqp6fqhGJJJvq6Z4PPFXCaoc7dimyT/lAaqDeHPQbjENtY5WDCiTp7m8ntW X-Gm-Gg: ASbGncsZ1/SQIBG2aL9WqfZ8g9OMW8UYS0cHqkL/RQ2RePgf88PetZneGBVP5NioDaQ IbWuZZvbS+MJGbFuWRTzpAUkQ1ibwW0DPaNGTFQC5GlnLzQaIviTvEePk6R4ZrNjHruGkRQde9F W4lncOUU/xcCv7yjQf9u6NDtZM4KNV7LhSqTXDJ/e3nofc0crpNnNPYbW47CKORcDgYx1dyVJ1z WFLowSCJMSA3eGw9lTN+me6tKoREWAMkpHDbseJCZ5nD5qpGqYUghZVX1pzO3YTeNTaJnr63AGm aiwBzDnSlfUcEXhm/mFUaMwy+FjKMf6+ZKhuRjz/J7775fo= X-Google-Smtp-Source: AGHT+IE96u7Hdxc25DSzv7AuKseJz1m9MoulkAECS5StH//dWBS6+KFCJLCh4TqB5ekNg0SqJCVZtTpnOjN+ X-Received: by 2002:a05:6214:5d87:b0:704:78b9:d348 with SMTP id 6a1803df08f44-7048b8e4600mr2077776d6.3.1752010896922; Tue, 08 Jul 2025 14:41:36 -0700 (PDT) Received: from postal.iol.unh.edu (postal.iol.unh.edu. [2606:4100:3880:1234::84]) by smtp-relay.gmail.com with ESMTPS id 6a1803df08f44-702c4cc4fcesm5764526d6.8.2025.07.08.14.41.36 (version=TLS1_2 cipher=ECDHE-ECDSA-AES128-GCM-SHA256 bits=128/128); Tue, 08 Jul 2025 14:41:36 -0700 (PDT) X-Relaying-Domain: iol.unh.edu Date: Tue, 08 Jul 2025 14:41:36 -0700 (PDT) Message-ID: <686d9090.050a0220.16399.d6b5SMTPIN_ADDED_MISSING@mx.google.com> Received: from [172.21.0.12] (unknown [172.18.0.240]) by postal.iol.unh.edu (Postfix) with ESMTP id 9B73A6050A61; Tue, 8 Jul 2025 17:41:36 -0400 (EDT) Subject: |WARNING| pw155078 [PATCH] [v3] net/mlx5: remove use of sizeof(rte_v From: dpdklab@iol.unh.edu To: Test Report Cc: dpdk-test-reports@iol.unh.edu In-Reply-To: <1751987516-30482-1-git-send-email-andremue@linux.microsoft.com> References: <1751987516-30482-1-git-send-email-andremue@linux.microsoft.com> Content-Type: text/plain X-BeenThere: test-report@dpdk.org X-Mailman-Version: 2.1.29 Precedence: list List-Id: automatic DPDK test reports List-Unsubscribe: , List-Archive: List-Post: List-Help: List-Subscribe: , Errors-To: test-report-bounces@dpdk.org Test-Label: iol-compile-amd64-testing Test-Status: WARNING http://dpdk.org/patch/155078 _Testing issues_ Submitter: Andre Muezerie Date: Tuesday, July 08 2025 15:11:56 DPDK git baseline: Repo:dpdk Branch: master CommitID:e2888614268cbf0abcc7cd72ad97ff4e4901d0a5 155078 --> testing issues Upstream job id: Generic-DPDK-Compile-Meson#406770 Test environment and result as below: +-------------------------------+--------------------+-------------------+------------------+-------------------+-------------------------+----------------------+ | Environment | dpdk_meson_compile | dpdk_compile_spdk | dpdk_compile_ovs | dpdk_msvc_compile | dpdk_llvm_clang_compile | dpdk_mingw64_compile | +===============================+====================+===================+==================+===================+=========================+======================+ | CentOS Stream 10 | PASS | SKIPPED | SKIPPED | SKIPPED | SKIPPED | SKIPPED | +-------------------------------+--------------------+-------------------+------------------+-------------------+-------------------------+----------------------+ | CentOS Stream 9 | PASS | PASS | SKIPPED | SKIPPED | SKIPPED | SKIPPED | +-------------------------------+--------------------+-------------------+------------------+-------------------+-------------------------+----------------------+ | Fedora Linux 40 | PASS | PASS | SKIPPED | SKIPPED | SKIPPED | SKIPPED | +-------------------------------+--------------------+-------------------+------------------+-------------------+-------------------------+----------------------+ | Debian GNU/Linux 12 | PASS | PASS | SKIPPED | SKIPPED | SKIPPED | SKIPPED | +-------------------------------+--------------------+-------------------+------------------+-------------------+-------------------------+----------------------+ | Fedora Linux 41 | PASS | WARN | PASS | SKIPPED | SKIPPED | SKIPPED | +-------------------------------+--------------------+-------------------+------------------+-------------------+-------------------------+----------------------+ | Red Hat Enterprise Linux 9.5 | PASS | SKIPPED | SKIPPED | SKIPPED | SKIPPED | SKIPPED | +-------------------------------+--------------------+-------------------+------------------+-------------------+-------------------------+----------------------+ | openSUSE Leap 15.6 | PASS | SKIPPED | SKIPPED | SKIPPED | SKIPPED | SKIPPED | +-------------------------------+--------------------+-------------------+------------------+-------------------+-------------------------+----------------------+ | Ubuntu 20.04 | PASS | SKIPPED | SKIPPED | SKIPPED | SKIPPED | SKIPPED | +-------------------------------+--------------------+-------------------+------------------+-------------------+-------------------------+----------------------+ | Red Hat Enterprise Linux 8.10 | PASS | SKIPPED | SKIPPED | SKIPPED | SKIPPED | SKIPPED | +-------------------------------+--------------------+-------------------+------------------+-------------------+-------------------------+----------------------+ | Ubuntu 22.04 | PASS | PASS | SKIPPED | SKIPPED | SKIPPED | SKIPPED | +-------------------------------+--------------------+-------------------+------------------+-------------------+-------------------------+----------------------+ | Ubuntu 24.04 | PASS | PASS | PASS | SKIPPED | SKIPPED | SKIPPED | +-------------------------------+--------------------+-------------------+------------------+-------------------+-------------------------+----------------------+ | Alpine Linux 3.22.0 | PASS | SKIPPED | SKIPPED | SKIPPED | SKIPPED | SKIPPED | +-------------------------------+--------------------+-------------------+------------------+-------------------+-------------------------+----------------------+ | FreeBSD 14.2 | PASS | SKIPPED | SKIPPED | SKIPPED | SKIPPED | SKIPPED | +-------------------------------+--------------------+-------------------+------------------+-------------------+-------------------------+----------------------+ | Windows Server 2022 | SKIPPED | SKIPPED | SKIPPED | PASS | PASS | PASS | +-------------------------------+--------------------+-------------------+------------------+-------------------+-------------------------+----------------------+ ==== 20 line log output for Fedora Linux 41 (dpdk_compile_spdk): ==== --- Failed to get log output --- ==== End log output ==== CentOS Stream 10 Kernel: 5.15 Compiler: gcc gcc (GCC) 14.2.1 20250110 (Red Hat 14.2.1-8) CentOS Stream 9 Kernel: 5.15 Compiler: gcc gcc (GCC) 11.5.0 20240719 (Red Hat 11.5.0-7) Fedora Linux 40 Kernel: 5.15 Compiler: clang gcc (GCC) 14.2.1 20240912 (Red Hat 14.2.1-3) Debian GNU/Linux 12 Kernel: 5.15 Compiler: gcc gcc (Debian 12.2.0-14+deb12u1) 12.2.0 Fedora Linux 41 Kernel: 5.15 Compiler: gcc gcc (GCC) 14.3.1 20250523 (Red Hat 14.3.1-1) Red Hat Enterprise Linux 9.5 Kernel: 5.15 Compiler: gcc gcc (GCC) 11.5.0 20240719 (Red Hat 11.5.0-2) openSUSE Leap 15.6 Kernel: 5.15 Compiler: gcc gcc (SUSE Linux) 7.5.0 Ubuntu 20.04 Kernel: 5.15 Compiler: gcc gcc (Ubuntu 9.4.0-1ubuntu1~20.04.2) 9.4.0 Red Hat Enterprise Linux 8.10 Kernel: 5.15 Compiler: gcc gcc (GCC) 8.5.0 20210514 (Red Hat 8.5.0-22) Ubuntu 22.04 Kernel: 5.15 Compiler: gcc gcc (Ubuntu 11.4.0-1ubuntu1~22.04) 11.4.0 Ubuntu 24.04 Kernel: 5.15 Compiler: gcc gcc (Ubuntu 13.3.0-6ubuntu2~24.04) 13.3.0 Alpine Linux 3.22.0 Kernel: 5.15 Compiler: gcc gcc (Alpine 14.2.0) 14.2.0 FreeBSD 14.2 Kernel: 14.2-RELEASE Compiler: clang 18.1.6 Windows Server 2022 Kernel: 10.0.20348.2031 Compiler: clang 15.0.7, gcc 14.1.0 (MinGW), and MSVC VS 19.39.33521 To view detailed results, visit: https://lab.dpdk.org/results/dashboard/patchsets/33615/ UNH-IOL DPDK Community Lab To manage your email subscriptions, visit: https://lab.dpdk.org/results/dashboard/preferences/subscriptions/