From mboxrd@z Thu Jan 1 00:00:00 1970 Return-Path: Received: from mails.dpdk.org (mails.dpdk.org [217.70.189.124]) by inbox.dpdk.org (Postfix) with ESMTP id 0A8DD46A8F for ; Tue, 8 Jul 2025 23:43:11 +0200 (CEST) Received: from mails.dpdk.org (localhost [127.0.0.1]) by mails.dpdk.org (Postfix) with ESMTP id F3CCD40292; Tue, 8 Jul 2025 23:43:10 +0200 (CEST) Received: from mail-pl1-f227.google.com (mail-pl1-f227.google.com [209.85.214.227]) by mails.dpdk.org (Postfix) with ESMTP id 68C8F40292 for ; Tue, 8 Jul 2025 23:43:09 +0200 (CEST) Received: by mail-pl1-f227.google.com with SMTP id d9443c01a7336-23c8a5053c2so36996605ad.1 for ; Tue, 08 Jul 2025 14:43:09 -0700 (PDT) DKIM-Signature: v=1; a=rsa-sha256; c=relaxed/relaxed; d=iol.unh.edu; s=unh-iol; t=1752010988; x=1752615788; darn=dpdk.org; h=references:in-reply-to:cc:to:from:subject:message-id:date:from:to :cc:subject:date:message-id:reply-to; bh=XuN/3akCNEC7EfUmKVuA/sV/qqzFQI3IKY82UUA0CNw=; b=VFm9rtSo1dzUTBVaf2DO6SIC8wFiqQw/oZObc1F/mm16g8vz441sfoCDWtIYgbiUgA VJsMv0OfLTZk/cEZNfS4D+2bwRLNOmiAxvrNXWiLuzeuXw7We97557/mSxRV/lUIW7Rc BAhAvvLn9UVEb5G4SmUGJxlluOa6eCetYzs3c= X-Google-DKIM-Signature: v=1; a=rsa-sha256; c=relaxed/relaxed; d=1e100.net; s=20230601; t=1752010988; x=1752615788; h=references:in-reply-to:cc:to:from:subject:message-id:date :x-gm-message-state:from:to:cc:subject:date:message-id:reply-to; bh=XuN/3akCNEC7EfUmKVuA/sV/qqzFQI3IKY82UUA0CNw=; b=PCO+1c/KMMXhqitFZjrHrseFYB/s67M8t5cFm2G0dtNYff3YlpgeUmk97FhGsh0f0O eIEVlgEvbYuz0IbCQ4IhdrGqm4QMj39IOxi/SXDhAKRJfxElmOm9kZSCbDej0L+z92IJ J1cYTEEsqkA4do9Q4WHHm9MtuxTx3Um9ThHTQk8mS9nbLTv/tF6uQ9RVAY8ZYmULOjhB KYGkGNyZB/6U3TupmwZnQ4MW5MGBvnv/1v0iUPcqbF2uJ/HFKg+uGl1H3fSW8LZjkzBP e4P47hnvkT4JXBsS2BX5kVNyAOACO+g97fNcitlNBxQR7vnHWg867+dhP1VEFQ5RtuDX CeIw== X-Gm-Message-State: AOJu0Yymq8RU8qs+9R2q2u9ZqMGI8naotMr5zsvkDNQ3n2qGGpI/SGnu IgnkEitLyL0ENEVd3arYWc0Ce78MGkPfLfGXAO0gJ4LIFpiZS2D3pu/AGu3EDHxhuGAeEYjWE24 /LG5tFAkZV0K0rhkuHDR2z6xMn0ae+l3Ivr/I/sZzTBqK X-Gm-Gg: ASbGncunrrrbhULreO1fG+rM5ZZpHpXeKlhMhPJOzgbEvWx9lkoL1kfVIC434k1A+yj jGtbruj2BLt2aK/5x0Wk88Ywqd5LAuPs56ECd42yPCTzkx4XdlSZkEmwJFxuwHRA9gm721R8XOL Am48dC6NYPIub58Zhy8LbopgIRdsxkzVA3J7PeCdfg4oJxkcNB7zRgXAVVuv7WMG18AvXWT5MC0 avDPrD2cQkyynAHzq5It8HQE1YNg5n7JiAfOm43UouMYzjChfnMIuUnUCpGRLRXJ6i1ql92bsF6 QECfgjp+c4Z+kiFzR5yxunjzHxof4oWvUGvdgW4xeq6Et4Hq0JFI+kXeyt4SuB+GsmrUYw== X-Google-Smtp-Source: AGHT+IEHyI4zcfwogZpv3BPutiqVV7LaBBNCji8yAAe+lxEvkhoq521zC5WYUs/sftZSC96q3fe3kQGk4sl9 X-Received: by 2002:a17:903:298f:b0:237:e696:3d56 with SMTP id d9443c01a7336-23ddb2e62c2mr985835ad.32.1752010988552; Tue, 08 Jul 2025 14:43:08 -0700 (PDT) Received: from postal.iol.unh.edu (postal.iol.unh.edu. [132.177.123.84]) by smtp-relay.gmail.com with ESMTPS id d9443c01a7336-23c8f132ed5sm4742815ad.91.2025.07.08.14.43.08 (version=TLS1_2 cipher=ECDHE-ECDSA-AES128-GCM-SHA256 bits=128/128); Tue, 08 Jul 2025 14:43:08 -0700 (PDT) X-Relaying-Domain: iol.unh.edu Date: Tue, 08 Jul 2025 14:43:08 -0700 (PDT) Message-ID: <686d90ec.170a0220.9c6d1.9298SMTPIN_ADDED_MISSING@mx.google.com> Received: from [172.21.0.5] (unknown [172.18.0.240]) by postal.iol.unh.edu (Postfix) with ESMTP id BCB266050A61; Tue, 8 Jul 2025 17:43:07 -0400 (EDT) Subject: |SUCCESS| pw154968 [PATCH] build/x86: fix support for older compiler From: dpdklab@iol.unh.edu To: Test Report Cc: dpdk-test-reports@iol.unh.edu In-Reply-To: <20250702155129.3440210-1-bruce.richardson@intel.com> References: <20250702155129.3440210-1-bruce.richardson@intel.com> Content-Type: text/plain X-BeenThere: test-report@dpdk.org X-Mailman-Version: 2.1.29 Precedence: list List-Id: automatic DPDK test reports List-Unsubscribe: , List-Archive: List-Post: List-Help: List-Subscribe: , Errors-To: test-report-bounces@dpdk.org Test-Label: iol-unit-arm64-testing Test-Status: SUCCESS http://dpdk.org/patch/154968 _Testing PASS_ Submitter: Bruce Richardson Date: Wednesday, July 02 2025 15:51:29 DPDK git baseline: Repo:dpdk Branch: master CommitID:5d47e73e5f4f2eb69bd73f642cfd72b49436bf96 154968 --> testing pass Upstream job id: Generic-Unit-Test-DPDK#353703 Test environment and result as below: +------------------------------+--------------+---------------------------+------------------------------+----------------+ | Environment | lpm_autotest | cryptodev_sw_zuc_autotest | cryptodev_sw_snow3g_autotest | dpdk_unit_test | +==============================+==============+===========================+==============================+================+ | Ubuntu 20.04 | PASS | SKIPPED | SKIPPED | PASS | +------------------------------+--------------+---------------------------+------------------------------+----------------+ | Debian 12 (arm) | SKIPPED | PASS | PASS | SKIPPED | +------------------------------+--------------+---------------------------+------------------------------+----------------+ | CentOS Stream 9 | SKIPPED | SKIPPED | SKIPPED | PASS | +------------------------------+--------------+---------------------------+------------------------------+----------------+ | CentOS Stream 10 | SKIPPED | SKIPPED | SKIPPED | PASS | +------------------------------+--------------+---------------------------+------------------------------+----------------+ | Debian GNU/Linux 12 | SKIPPED | SKIPPED | SKIPPED | PASS | +------------------------------+--------------+---------------------------+------------------------------+----------------+ | Red Hat Enterprise Linux 9.5 | SKIPPED | SKIPPED | SKIPPED | PASS | +------------------------------+--------------+---------------------------+------------------------------+----------------+ | Fedora Linux 41 | SKIPPED | SKIPPED | SKIPPED | PASS | +------------------------------+--------------+---------------------------+------------------------------+----------------+ | Ubuntu 22.04 | SKIPPED | SKIPPED | SKIPPED | PASS | +------------------------------+--------------+---------------------------+------------------------------+----------------+ | Fedora Linux 40 | SKIPPED | SKIPPED | SKIPPED | PASS | +------------------------------+--------------+---------------------------+------------------------------+----------------+ | Ubuntu 24.04 | SKIPPED | SKIPPED | SKIPPED | PASS | +------------------------------+--------------+---------------------------+------------------------------+----------------+ Ubuntu 20.04 Kernel: 5.4 Compiler: gcc gcc (Ubuntu 9.4.0-1ubuntu1~20.04.2) 9.4.0 Debian 12 (arm) Kernel: Depends on container host Compiler: gcc (Debian 12.2.0-14) 12.2.0 CentOS Stream 9 Kernel: 5.4 Compiler: gcc gcc (GCC) 11.5.0 20240719 (Red Hat 11.5.0-7) CentOS Stream 10 Kernel: 5.4 Compiler: gcc gcc (GCC) 14.2.1 20250110 (Red Hat 14.2.1-8) Debian GNU/Linux 12 Kernel: 5.4 Compiler: gcc gcc (Debian 12.2.0-14+deb12u1) 12.2.0 Red Hat Enterprise Linux 9.5 Kernel: 5.4 Compiler: gcc gcc (GCC) 11.5.0 20240719 (Red Hat 11.5.0-2) Fedora Linux 41 Kernel: 5.4 Compiler: clang gcc (GCC) 14.3.1 20250523 (Red Hat 14.3.1-1) Ubuntu 22.04 Kernel: 5.4 Compiler: gcc gcc (Ubuntu 11.4.0-1ubuntu1~22.04) 11.4.0 Fedora Linux 40 Kernel: 5.4 Compiler: gcc gcc (GCC) 14.2.1 20240912 (Red Hat 14.2.1-3) Ubuntu 24.04 Kernel: 5.4 Compiler: gcc gcc (Ubuntu 13.3.0-6ubuntu2~24.04) 13.3.0 To view detailed results, visit: https://lab.dpdk.org/results/dashboard/patchsets/33569/ UNH-IOL DPDK Community Lab To manage your email subscriptions, visit: https://lab.dpdk.org/results/dashboard/preferences/subscriptions/