From mboxrd@z Thu Jan 1 00:00:00 1970 Return-Path: Received: from mails.dpdk.org (mails.dpdk.org [217.70.189.124]) by inbox.dpdk.org (Postfix) with ESMTP id 4373846A8F for ; Tue, 8 Jul 2025 23:55:49 +0200 (CEST) Received: from mails.dpdk.org (localhost [127.0.0.1]) by mails.dpdk.org (Postfix) with ESMTP id 2101A40292; Tue, 8 Jul 2025 23:55:49 +0200 (CEST) Received: from mail-pl1-f227.google.com (mail-pl1-f227.google.com [209.85.214.227]) by mails.dpdk.org (Postfix) with ESMTP id 9356740292 for ; Tue, 8 Jul 2025 23:55:47 +0200 (CEST) Received: by mail-pl1-f227.google.com with SMTP id d9443c01a7336-234b440afa7so48106875ad.0 for ; Tue, 08 Jul 2025 14:55:47 -0700 (PDT) DKIM-Signature: v=1; a=rsa-sha256; c=relaxed/relaxed; d=iol.unh.edu; s=unh-iol; t=1752011747; x=1752616547; darn=dpdk.org; h=references:in-reply-to:cc:to:from:subject:message-id:date:from:to :cc:subject:date:message-id:reply-to; bh=SqyBzdCE6othazbvnVesHE9An9IqWU8mpQyKz3iG/Xg=; b=eTv6rMC+Q2iruLDCeXPyA9SyKJDi3EINhtC+eM70G9HtRm+vLT3/LIbvwWU1hMXwy6 P8oz2alzcF/QyinrG2HBnrMEhq5Pv699B8zz7CTvezsHjMy0LN9xIZPAwG6FdGJT2TwD FZwmHWrOwTOTw7zpMa3YZW6J4Cn7qNdz2mOcE= X-Google-DKIM-Signature: v=1; a=rsa-sha256; c=relaxed/relaxed; d=1e100.net; s=20230601; t=1752011747; x=1752616547; h=references:in-reply-to:cc:to:from:subject:message-id:date :x-gm-message-state:from:to:cc:subject:date:message-id:reply-to; bh=SqyBzdCE6othazbvnVesHE9An9IqWU8mpQyKz3iG/Xg=; b=JaobW5aa8zcjR34zc0rwciuU4YuWHswFnfHQ+qHVNM7nLKzkI02NQyhi6gr5P0yDiu 1P80iYME9R0pyx7ATQIe681PGXuEwn7aso0Ad1bA36GyCUTdTJaTa0C+k51cB9+4RVX8 irZncMFUE6IxAiLA+ha/2v6BLTwF+96ouFtK+Qa+XpbhlT6iQSjO0fzyHx11f84R9Ylz p2ncc2Fos0bV3Tnfx/RVnvNaL+eYsmC8TcIrEdZ62FBdt87U6zazJwQM0mWYFjPH3RRP 1ynOC7JVSU39taMQvwxpEMxICzJFcnyaYizKIDVJE9PSFOagLx48XxhlKeHymK0weZq8 2kiw== X-Gm-Message-State: AOJu0YzPofow3RKLLvbWlAmoexsj6F1rAO8EAE8x1ij6Jb0ecHiq6VVN LdjzVjgzNzF4C/rzLigdn01fEz2+lIhfqhXyxjaxifSDCOvi03IpAeM/vhQbS905EOZaoFUyVhi yoYUztIiCunZ0wRfVWe1Qpg2+YDd0inhuX1RdfgreEb1f X-Gm-Gg: ASbGncsoBnGter1VEp2a31IY8ELXWwGo3fgoKNfGlQL2GA7UklKZqP6O0tRYmDxGQkZ KBH1Tc9MBWrfzBCdxhHnLHKZJfngFPx7g66ilOGJkYIKzrxdUBwUvGJ3B3/y9w/HvU2poedtzPM nEZBBjasAlpqopCDko8br96qFmmieJ8vScWowY9dgzaDG48lKgTxdpAV0bEzOOz7Rf5dug64Hgq wfxl0LH/Z6lv3w7SDSI0DQuYpDLqnw4LQWGiG3dr8szw9NAsMXlHSUCeS3TSvN4oITezOgTi842 +zRM/QI8wkzm54bs6yGiRpTROj/FHkpScTJ7L/S9ABtabIwcyHHVqYhNKa5/fRmuhO+hTw== X-Google-Smtp-Source: AGHT+IEzLXIBIt5z951uiTFk07b4fH3ClFw6ll7KqySEpGmMPirpdfrXnOMJMr1esPXklAUyJPpu1z+UZomW X-Received: by 2002:a17:903:17c4:b0:235:e9fe:83c0 with SMTP id d9443c01a7336-23ddb2f2e17mr1490985ad.27.1752011746709; Tue, 08 Jul 2025 14:55:46 -0700 (PDT) Received: from postal.iol.unh.edu (postal.iol.unh.edu. [132.177.123.84]) by smtp-relay.gmail.com with ESMTPS id d9443c01a7336-23c842d02d0sm5605585ad.29.2025.07.08.14.55.46 (version=TLS1_2 cipher=ECDHE-ECDSA-AES128-GCM-SHA256 bits=128/128); Tue, 08 Jul 2025 14:55:46 -0700 (PDT) X-Relaying-Domain: iol.unh.edu Date: Tue, 08 Jul 2025 14:55:46 -0700 (PDT) Message-ID: <686d93e2.170a0220.309996.cc0aSMTPIN_ADDED_MISSING@mx.google.com> Received: from [172.21.0.12] (unknown [172.18.0.240]) by postal.iol.unh.edu (Postfix) with ESMTP id DC0BB604D420; Tue, 8 Jul 2025 17:55:45 -0400 (EDT) Subject: |WARNING| pw154998 [PATCH] [v2] net/iavf: fix VLAN strip disabling f From: dpdklab@iol.unh.edu To: Test Report Cc: dpdk-test-reports@iol.unh.edu In-Reply-To: <20250703101758.9973-1-amiyaranjan.mohakud@gmail.com> References: <20250703101758.9973-1-amiyaranjan.mohakud@gmail.com> Content-Type: text/plain X-BeenThere: test-report@dpdk.org X-Mailman-Version: 2.1.29 Precedence: list List-Id: automatic DPDK test reports List-Unsubscribe: , List-Archive: List-Post: List-Help: List-Subscribe: , Errors-To: test-report-bounces@dpdk.org Test-Label: iol-compile-amd64-testing Test-Status: WARNING http://dpdk.org/patch/154998 _Testing issues_ Submitter: Amiya Ranjan Mohakud Date: Thursday, July 03 2025 10:17:58 DPDK git baseline: Repo:dpdk Branch: master CommitID:a6b10031d251fcc7dadede461f7e1d005024b139 154998 --> testing issues Upstream job id: Generic-DPDK-Compile-Meson#406758 Test environment and result as below: +-------------------------------+-------------------+--------------------+-------------------+------------------+-------------------------+ | Environment | dpdk_msvc_compile | dpdk_meson_compile | dpdk_compile_spdk | dpdk_compile_ovs | dpdk_llvm_clang_compile | +===============================+===================+====================+===================+==================+=========================+ | Windows Server 2022 | PASS | SKIPPED | SKIPPED | SKIPPED | PASS | +-------------------------------+-------------------+--------------------+-------------------+------------------+-------------------------+ | FreeBSD 14.2 | SKIPPED | PASS | SKIPPED | SKIPPED | SKIPPED | +-------------------------------+-------------------+--------------------+-------------------+------------------+-------------------------+ | CentOS Stream 9 | SKIPPED | PASS | PASS | SKIPPED | SKIPPED | +-------------------------------+-------------------+--------------------+-------------------+------------------+-------------------------+ | CentOS Stream 10 | SKIPPED | PASS | SKIPPED | SKIPPED | SKIPPED | +-------------------------------+-------------------+--------------------+-------------------+------------------+-------------------------+ | Debian GNU/Linux 12 | SKIPPED | PASS | PASS | SKIPPED | SKIPPED | +-------------------------------+-------------------+--------------------+-------------------+------------------+-------------------------+ | Fedora Linux 40 | SKIPPED | PEND | PEND | SKIPPED | SKIPPED | +-------------------------------+-------------------+--------------------+-------------------+------------------+-------------------------+ | Fedora Linux 41 | SKIPPED | PEND | PEND | PEND | SKIPPED | +-------------------------------+-------------------+--------------------+-------------------+------------------+-------------------------+ | openSUSE Leap 15.6 | SKIPPED | PASS | SKIPPED | SKIPPED | SKIPPED | +-------------------------------+-------------------+--------------------+-------------------+------------------+-------------------------+ | Red Hat Enterprise Linux 8.10 | SKIPPED | PASS | SKIPPED | SKIPPED | SKIPPED | +-------------------------------+-------------------+--------------------+-------------------+------------------+-------------------------+ | Ubuntu 22.04 | SKIPPED | PASS | PASS | SKIPPED | SKIPPED | +-------------------------------+-------------------+--------------------+-------------------+------------------+-------------------------+ | Ubuntu 24.04 | SKIPPED | PASS | PASS | PASS | SKIPPED | +-------------------------------+-------------------+--------------------+-------------------+------------------+-------------------------+ | Alpine Linux 3.22.0 | SKIPPED | PASS | SKIPPED | SKIPPED | SKIPPED | +-------------------------------+-------------------+--------------------+-------------------+------------------+-------------------------+ | Ubuntu 20.04 | SKIPPED | PASS | SKIPPED | SKIPPED | SKIPPED | +-------------------------------+-------------------+--------------------+-------------------+------------------+-------------------------+ | Red Hat Enterprise Linux 9.5 | SKIPPED | PASS | SKIPPED | SKIPPED | SKIPPED | +-------------------------------+-------------------+--------------------+-------------------+------------------+-------------------------+ Windows Server 2022 Kernel: 10.0.20348.2031 Compiler: clang 15.0.7, gcc 14.1.0 (MinGW), and MSVC VS 19.39.33521 FreeBSD 14.2 Kernel: 14.2-RELEASE Compiler: clang 18.1.6 CentOS Stream 9 Kernel: 5.15 Compiler: gcc gcc (GCC) 11.5.0 20240719 (Red Hat 11.5.0-7) CentOS Stream 10 Kernel: 5.15 Compiler: gcc gcc (GCC) 14.2.1 20250110 (Red Hat 14.2.1-8) Debian GNU/Linux 12 Kernel: 5.15 Compiler: gcc gcc (Debian 12.2.0-14+deb12u1) 12.2.0 Fedora Linux 40 Kernel: 5.15 Compiler: clang gcc (GCC) 14.2.1 20240912 (Red Hat 14.2.1-3) Fedora Linux 41 Kernel: 5.15 Compiler: clang gcc (GCC) 14.3.1 20250523 (Red Hat 14.3.1-1) openSUSE Leap 15.6 Kernel: 5.15 Compiler: gcc gcc (SUSE Linux) 7.5.0 Red Hat Enterprise Linux 8.10 Kernel: 5.15 Compiler: gcc gcc (GCC) 8.5.0 20210514 (Red Hat 8.5.0-22) Ubuntu 22.04 Kernel: 5.15 Compiler: gcc gcc (Ubuntu 11.4.0-1ubuntu1~22.04) 11.4.0 Ubuntu 24.04 Kernel: 5.15 Compiler: gcc gcc (Ubuntu 13.3.0-6ubuntu2~24.04) 13.3.0 Alpine Linux 3.22.0 Kernel: 5.15 Compiler: gcc gcc (Alpine 14.2.0) 14.2.0 Ubuntu 20.04 Kernel: 4.19 Compiler: gcc gcc (Ubuntu 9.4.0-1ubuntu1~20.04.2) 9.4.0 Red Hat Enterprise Linux 9.5 Kernel: 5.15 Compiler: gcc gcc (GCC) 11.5.0 20240719 (Red Hat 11.5.0-2) To view detailed results, visit: https://lab.dpdk.org/results/dashboard/patchsets/33581/ UNH-IOL DPDK Community Lab To manage your email subscriptions, visit: https://lab.dpdk.org/results/dashboard/preferences/subscriptions/