From mboxrd@z Thu Jan 1 00:00:00 1970 Return-Path: Received: from mails.dpdk.org (mails.dpdk.org [217.70.189.124]) by inbox.dpdk.org (Postfix) with ESMTP id 6360846A8F for ; Wed, 9 Jul 2025 00:13:46 +0200 (CEST) Received: from mails.dpdk.org (localhost [127.0.0.1]) by mails.dpdk.org (Postfix) with ESMTP id 4387D4013F; Wed, 9 Jul 2025 00:13:46 +0200 (CEST) Received: from mail-qt1-f226.google.com (mail-qt1-f226.google.com [209.85.160.226]) by mails.dpdk.org (Postfix) with ESMTP id 740244013F for ; Wed, 9 Jul 2025 00:13:45 +0200 (CEST) Received: by mail-qt1-f226.google.com with SMTP id d75a77b69052e-4a5903bceffso70839391cf.3 for ; Tue, 08 Jul 2025 15:13:45 -0700 (PDT) DKIM-Signature: v=1; a=rsa-sha256; c=relaxed/relaxed; d=iol.unh.edu; s=unh-iol; t=1752012825; x=1752617625; darn=dpdk.org; h=references:in-reply-to:cc:to:from:subject:message-id:date:from:to :cc:subject:date:message-id:reply-to; bh=umZhEJU4GEsLMq1obCx5UTNUO8R5nHrcF5qx7J5NDV4=; b=g1Ss/csKr5hZOPTwqZj3ZrsYGZMy1rvY2O0NTOWfi0wR688ujyl5Bk3nhEEH2rRqE5 Ko5yEylcder765gXvV4N+OFaK1J5MJki+gzov/i3/spLRGg9ERn42SaMC76loKU0XeUa UC/FE8shxtF6IltzMiJM4e+Vomn/kKScpgNkA= X-Google-DKIM-Signature: v=1; a=rsa-sha256; c=relaxed/relaxed; d=1e100.net; s=20230601; t=1752012825; x=1752617625; h=references:in-reply-to:cc:to:from:subject:message-id:date :x-gm-message-state:from:to:cc:subject:date:message-id:reply-to; bh=umZhEJU4GEsLMq1obCx5UTNUO8R5nHrcF5qx7J5NDV4=; b=BsbNyg4rZC0g7zgWH2ST3awiiJASC2UYqbaO/7GjPoZ21+eeUs2NDbQ6mK1RbXy7xl 8xmZO+xuKleVzeQaTkqyAnfVyNXhjE6cxQ6EpxFdeTO7APp7n5r/cX4EsWuZds2ALnZE KYjrjp3UBab5qaZH4g61shtHP4/a+4kRBxCw8f6Fmwcd4BAMEwSpj5dxht8iDFzJF73F l8iXVUxfJ/FB/CcvB7kl3iL3maPfpCaz1pnbmIpEavDnzQ2ulpPs01wVgOgBYlnbJ5ya xdryxQA7ij20cXvvDNA6HOLqzXAO7N5kmYHx+MZJ3RCSkgWVzwHrLTemCiVwgFOjj/Xm Bgcg== X-Gm-Message-State: AOJu0YxIp+LwatDq/SdlOAkiKmUDJ42BXNWW4vIogNMjUVlwoj8xx2L8 1qU+dRrE3qNDPb9Iay7uZiQkrpLHL0cxo0mDOD/n7kXjY75+60D1IBvQh3mk970k/JZFm62otHP pafDdx+OWKMcIkfp5i+OKmoDC2t5t5ecrjOYiTdfvQQn5XgaMC2FI0UDWOFyF X-Gm-Gg: ASbGncvA/VJz/D40GQc4jXzdz2cl55vzINh8PZ5weRPYR3EufrvTDH0fgDJdWHTcUnG KGSs+x2ewmgRTnsqHp9JSVIAD1822mG4U+/b/NYyKbmQ6VZujrNiW8Y8bLOyjgpDq3KeqcPi+NP c/wA1uqRA8QLEsSW3iGeFfoSz8bnBlcR3ZV7xky3diHE3Mx6drIsonPOyS0Cck/aQx3ZzvFcwLX CWNqrKXGJXtvLljc1Mvps4c6j2QsQd56AcCs6eKlTi7B3qGsc0KFPzA99OPW8J3OOy+hzkZ5IOx PXLs1bU6rHvq561iEX3uOzq2/QMXr8vfLKwqc5RD7Wm7SVo= X-Google-Smtp-Source: AGHT+IFYP0EkMQlhGCUuvz5D1e2Dz8LYPOUMjFTdFE4ity2pGRORcFvRzWdAVklg5b1shugSiQkyEHm+KErI X-Received: by 2002:a05:6214:4a0a:b0:6fd:609d:e924 with SMTP id 6a1803df08f44-7048b9b51a0mr4308846d6.36.1752012824690; Tue, 08 Jul 2025 15:13:44 -0700 (PDT) Received: from postal.iol.unh.edu (postal.iol.unh.edu. [2606:4100:3880:1234::84]) by smtp-relay.gmail.com with ESMTPS id 6a1803df08f44-702c4d5b275sm5947576d6.65.2025.07.08.15.13.44 (version=TLS1_2 cipher=ECDHE-ECDSA-AES128-GCM-SHA256 bits=128/128); Tue, 08 Jul 2025 15:13:44 -0700 (PDT) X-Relaying-Domain: iol.unh.edu Date: Tue, 08 Jul 2025 15:13:44 -0700 (PDT) Message-ID: <686d9818.d40a0220.325553.fc5fSMTPIN_ADDED_MISSING@mx.google.com> Received: from [172.21.0.6] (unknown [172.18.0.240]) by postal.iol.unh.edu (Postfix) with ESMTP id 6C1EC604D420; Tue, 8 Jul 2025 18:13:44 -0400 (EDT) Subject: |SUCCESS| pw154996 [PATCH] [v1] net/iavf: fix VLAN strip disabling f From: dpdklab@iol.unh.edu To: Test Report Cc: dpdk-test-reports@iol.unh.edu In-Reply-To: <20250703084234.8037-1-amiyaranjan.mohakud@gmail.com> References: <20250703084234.8037-1-amiyaranjan.mohakud@gmail.com> Content-Type: text/plain X-BeenThere: test-report@dpdk.org X-Mailman-Version: 2.1.29 Precedence: list List-Id: automatic DPDK test reports List-Unsubscribe: , List-Archive: List-Post: List-Help: List-Subscribe: , Errors-To: test-report-bounces@dpdk.org Test-Label: iol-unit-amd64-testing Test-Status: SUCCESS http://dpdk.org/patch/154996 _Testing PASS_ Submitter: Amiya Ranjan Mohakud Date: Thursday, July 03 2025 08:42:34 DPDK git baseline: Repo:dpdk Branch: master CommitID:a6b10031d251fcc7dadede461f7e1d005024b139 154996 --> testing pass Upstream job id: Generic-Unit-Test-DPDK#353759 Test environment and result as below: +-------------------------------+----------------+ | Environment | dpdk_unit_test | +===============================+================+ | CentOS Stream 10 | PASS | +-------------------------------+----------------+ | CentOS Stream 9 | PASS | +-------------------------------+----------------+ | Debian GNU/Linux 12 | PASS | +-------------------------------+----------------+ | Fedora Linux 40 | PASS | +-------------------------------+----------------+ | Fedora Linux 41 | PASS | +-------------------------------+----------------+ | Red Hat Enterprise Linux 9.5 | PASS | +-------------------------------+----------------+ | Red Hat Enterprise Linux 8.10 | PASS | +-------------------------------+----------------+ | Ubuntu 24.04 | PASS | +-------------------------------+----------------+ | Ubuntu 22.04 | PASS | +-------------------------------+----------------+ | Ubuntu 20.04 | PASS | +-------------------------------+----------------+ CentOS Stream 10 Kernel: 5.15 Compiler: gcc gcc (GCC) 14.2.1 20250110 (Red Hat 14.2.1-8) CentOS Stream 9 Kernel: 5.15 Compiler: gcc gcc (GCC) 11.5.0 20240719 (Red Hat 11.5.0-7) Debian GNU/Linux 12 Kernel: 5.15 Compiler: gcc gcc (Debian 12.2.0-14+deb12u1) 12.2.0 Fedora Linux 40 Kernel: 5.15 Compiler: gcc gcc (GCC) 14.2.1 20240912 (Red Hat 14.2.1-3) Fedora Linux 41 Kernel: 5.15 Compiler: gcc gcc (GCC) 14.3.1 20250523 (Red Hat 14.3.1-1) Red Hat Enterprise Linux 9.5 Kernel: 5.15 Compiler: gcc gcc (GCC) 11.5.0 20240719 (Red Hat 11.5.0-2) Red Hat Enterprise Linux 8.10 Kernel: 5.15 Compiler: gcc gcc (GCC) 8.5.0 20210514 (Red Hat 8.5.0-22) Ubuntu 24.04 Kernel: 5.15 Compiler: gcc gcc (Ubuntu 13.3.0-6ubuntu2~24.04) 13.3.0 Ubuntu 22.04 Kernel: 5.15 Compiler: gcc gcc (Ubuntu 11.4.0-1ubuntu1~22.04) 11.4.0 Ubuntu 20.04 Kernel: 5.15 Compiler: gcc gcc (Ubuntu 9.4.0-1ubuntu1~20.04.2) 9.4.0 To view detailed results, visit: https://lab.dpdk.org/results/dashboard/patchsets/33579/ UNH-IOL DPDK Community Lab To manage your email subscriptions, visit: https://lab.dpdk.org/results/dashboard/preferences/subscriptions/