From mboxrd@z Thu Jan 1 00:00:00 1970 Return-Path: Received: from mails.dpdk.org (mails.dpdk.org [217.70.189.124]) by inbox.dpdk.org (Postfix) with ESMTP id 66C3946A8F for ; Wed, 9 Jul 2025 00:13:55 +0200 (CEST) Received: from mails.dpdk.org (localhost [127.0.0.1]) by mails.dpdk.org (Postfix) with ESMTP id 60A2A4013F; Wed, 9 Jul 2025 00:13:55 +0200 (CEST) Received: from mail-pj1-f98.google.com (mail-pj1-f98.google.com [209.85.216.98]) by mails.dpdk.org (Postfix) with ESMTP id 611054013F for ; Wed, 9 Jul 2025 00:13:54 +0200 (CEST) Received: by mail-pj1-f98.google.com with SMTP id 98e67ed59e1d1-311d5fdf1f0so4577207a91.1 for ; Tue, 08 Jul 2025 15:13:54 -0700 (PDT) DKIM-Signature: v=1; a=rsa-sha256; c=relaxed/relaxed; d=iol.unh.edu; s=unh-iol; t=1752012833; x=1752617633; darn=dpdk.org; h=references:in-reply-to:cc:to:from:subject:message-id:date:from:to :cc:subject:date:message-id:reply-to; bh=sY39JTpkvYbriJr3E4Fa+T3GqretoIV1YctIbNf/hZo=; b=hcguU4giPh+f8Xar4NnTKtv8rzamp+2drkj9YuKF+2vGK0difVRpI6y0NKTbnwSB61 EznaGiOHDi1+aBcujZ0cMP20+r1iXBDd89+mko6bpMAyyG28takdsDfxXO6Jk8MBjlfC TapiYcIo16ESt/NvNaq3pAMc6BaHIs3IpHahA= X-Google-DKIM-Signature: v=1; a=rsa-sha256; c=relaxed/relaxed; d=1e100.net; s=20230601; t=1752012833; x=1752617633; h=references:in-reply-to:cc:to:from:subject:message-id:date :x-gm-message-state:from:to:cc:subject:date:message-id:reply-to; bh=sY39JTpkvYbriJr3E4Fa+T3GqretoIV1YctIbNf/hZo=; b=pFWNcfOo3ZUYaz3yTkpPzjoiIhd2MBUQ4Fdl+DgoaOpD1F1lJTWFuGUvJXZEIe+YkR 9wuhN4MLAdB+HTrCKCMHS+a8yIZE7X9HWScn+Qfc2qY4gCdwLf2qgRsYyytGmQYzTWeA wRC+J7z7bpK71zjl6mBkbGH9AazgK/xbDHGcj0m40ffw6YMZWPXJCIXNv2K7fO2QKR9W nSh2T6fXl0iuDDcJ3Nhv6FaHDf+yXMa6/CNBQdCbGvtANPFQrQOXUu8hziXdRM+g3Tb/ Zxxer3gawDyPKYYHaBF1E6LvPxhpVbfAGBNyDiVtHm9LqLz/KdvsI1KWa9bZ6vQDuH+Q yCwg== X-Gm-Message-State: AOJu0Yz9uuS0Hiq3B+3MBwe2y0u+l6MarPfbX7ONG9zdm+Z0PFDeCGq7 Ep9C5KiZSABf2Ra8vWLE9YefwYVdjSDq4KixoQyKrkmpPgr7wFy5nM31AjXRlpJKUOCcu45MnMK eKft0su3UwYA8lCDr3LDGS6qeC8fLMCKuMpVoHfY5lAhuSgbrZCx7em4qAcfU X-Gm-Gg: ASbGncscdNW82/B1ruiCNqWfPBH6Vlhv3QjBWFmEn2uLhRWIv9+THWY99MRUw4ytjR8 2qRfzxDOqyyDXOeAtS1jIGi6u+rgMmppIhh1FwG+G+WnHezt6IZCejsuY+Bv2OHSN4bcdESZGeL RL+eq/G3A9ogXm7TmSL10rMYbFeuv5xL55wl0ugssbJynVoxAB8sJV9dG4rdFdzMxQ2tHFYTA0L pynA/xzBRcwPO2im9WdzygcjslH/tt3Cvp+OMzdU515yc2451pQkl5oHgcQmM9zgY2N+ldKHa6Y f0dzunS0CDKN0SiPZRyxkh4Hu6NVnQ4sg+tREaO5o0JnnAE= X-Google-Smtp-Source: AGHT+IEyVMGMsUsL0HArQSpB1I9Ahovs+o3LdiLtT4jMkC7WS9hlHC2gl0HBXOb4tDQFNrzYkTdffe2qAK2p X-Received: by 2002:a17:90b:314a:b0:314:2892:b1e0 with SMTP id 98e67ed59e1d1-31c2fe00005mr254726a91.34.1752012833382; Tue, 08 Jul 2025 15:13:53 -0700 (PDT) Received: from postal.iol.unh.edu (postal.iol.unh.edu. [2606:4100:3880:1234::84]) by smtp-relay.gmail.com with ESMTPS id d9443c01a7336-23c844e13adsm5558795ad.76.2025.07.08.15.13.53 (version=TLS1_2 cipher=ECDHE-ECDSA-AES128-GCM-SHA256 bits=128/128); Tue, 08 Jul 2025 15:13:53 -0700 (PDT) X-Relaying-Domain: iol.unh.edu Date: Tue, 08 Jul 2025 15:13:53 -0700 (PDT) Message-ID: <686d9821.170a0220.1b8a83.cba5SMTPIN_ADDED_MISSING@mx.google.com> Received: from [172.21.0.5] (unknown [172.18.0.240]) by postal.iol.unh.edu (Postfix) with ESMTP id 94DF0604D420; Tue, 8 Jul 2025 18:13:52 -0400 (EDT) Subject: |SUCCESS| pw154996 [PATCH] [v1] net/iavf: fix VLAN strip disabling f From: dpdklab@iol.unh.edu To: Test Report Cc: dpdk-test-reports@iol.unh.edu In-Reply-To: <20250703084234.8037-1-amiyaranjan.mohakud@gmail.com> References: <20250703084234.8037-1-amiyaranjan.mohakud@gmail.com> Content-Type: text/plain X-BeenThere: test-report@dpdk.org X-Mailman-Version: 2.1.29 Precedence: list List-Id: automatic DPDK test reports List-Unsubscribe: , List-Archive: List-Post: List-Help: List-Subscribe: , Errors-To: test-report-bounces@dpdk.org Test-Label: iol-unit-amd64-testing Test-Status: SUCCESS http://dpdk.org/patch/154996 _Testing PASS_ Submitter: Amiya Ranjan Mohakud Date: Thursday, July 03 2025 08:42:34 DPDK git baseline: Repo:dpdk Branch: master CommitID:a6b10031d251fcc7dadede461f7e1d005024b139 154996 --> testing pass Upstream job id: Generic-Unit-Test-DPDK#353752 Test environment and result as below: +-------------------------------+----------------+ | Environment | dpdk_unit_test | +===============================+================+ | CentOS Stream 10 | PASS | +-------------------------------+----------------+ | CentOS Stream 9 | PASS | +-------------------------------+----------------+ | Debian GNU/Linux 12 | PASS | +-------------------------------+----------------+ | Fedora Linux 40 | PASS | +-------------------------------+----------------+ | Fedora Linux 41 | PASS | +-------------------------------+----------------+ | Red Hat Enterprise Linux 9.5 | PASS | +-------------------------------+----------------+ | Red Hat Enterprise Linux 8.10 | PASS | +-------------------------------+----------------+ | Ubuntu 24.04 | PASS | +-------------------------------+----------------+ | Ubuntu 22.04 | PASS | +-------------------------------+----------------+ | Ubuntu 20.04 | PASS | +-------------------------------+----------------+ CentOS Stream 10 Kernel: 5.15 Compiler: gcc gcc (GCC) 14.2.1 20250110 (Red Hat 14.2.1-8) CentOS Stream 9 Kernel: 5.15 Compiler: gcc gcc (GCC) 11.5.0 20240719 (Red Hat 11.5.0-7) Debian GNU/Linux 12 Kernel: 5.15 Compiler: gcc gcc (Debian 12.2.0-14+deb12u1) 12.2.0 Fedora Linux 40 Kernel: 5.15 Compiler: gcc gcc (GCC) 14.2.1 20240912 (Red Hat 14.2.1-3) Fedora Linux 41 Kernel: 5.15 Compiler: gcc gcc (GCC) 14.3.1 20250523 (Red Hat 14.3.1-1) Red Hat Enterprise Linux 9.5 Kernel: 5.15 Compiler: gcc gcc (GCC) 11.5.0 20240719 (Red Hat 11.5.0-2) Red Hat Enterprise Linux 8.10 Kernel: 5.15 Compiler: gcc gcc (GCC) 8.5.0 20210514 (Red Hat 8.5.0-22) Ubuntu 24.04 Kernel: 5.15 Compiler: gcc gcc (Ubuntu 13.3.0-6ubuntu2~24.04) 13.3.0 Ubuntu 22.04 Kernel: 5.15 Compiler: gcc gcc (Ubuntu 11.4.0-1ubuntu1~22.04) 11.4.0 Ubuntu 20.04 Kernel: 5.15 Compiler: gcc gcc (Ubuntu 9.4.0-1ubuntu1~20.04.2) 9.4.0 To view detailed results, visit: https://lab.dpdk.org/results/dashboard/patchsets/33579/ UNH-IOL DPDK Community Lab To manage your email subscriptions, visit: https://lab.dpdk.org/results/dashboard/preferences/subscriptions/