From mboxrd@z Thu Jan 1 00:00:00 1970 Return-Path: Received: from mails.dpdk.org (mails.dpdk.org [217.70.189.124]) by inbox.dpdk.org (Postfix) with ESMTP id 2BB6846A8B for ; Wed, 9 Jul 2025 00:40:07 +0200 (CEST) Received: from mails.dpdk.org (localhost [127.0.0.1]) by mails.dpdk.org (Postfix) with ESMTP id 0AFAF4013F; Wed, 9 Jul 2025 00:40:07 +0200 (CEST) Received: from mail-il1-f225.google.com (mail-il1-f225.google.com [209.85.166.225]) by mails.dpdk.org (Postfix) with ESMTP id 304F34013F for ; Wed, 9 Jul 2025 00:40:06 +0200 (CEST) Received: by mail-il1-f225.google.com with SMTP id e9e14a558f8ab-3df3854e622so1033135ab.1 for ; Tue, 08 Jul 2025 15:40:06 -0700 (PDT) DKIM-Signature: v=1; a=rsa-sha256; c=relaxed/relaxed; d=iol.unh.edu; s=unh-iol; t=1752014405; x=1752619205; darn=dpdk.org; h=references:in-reply-to:cc:to:from:subject:message-id:date:from:to :cc:subject:date:message-id:reply-to; bh=eKEZyCXO2Gb6LuXZTg/So5SGv8hhjaewiEUBNYnrpjc=; b=SsPVtQcf/GFb6hXFFTFMqFCRrDOxF0rKN+ndMm2YqrhjM4YTfvcY4f0Iya7dJ5l3v8 +txDK79vMhaojfmZ1ZojMgXsVewaXQ5Uvmo3rBvgQRG9Fkjj6OVK2IIyCVvLb/MnxxvV 8dfBdfCAELPqTpLxOdubXVkm9lbka7JOFjNHo= X-Google-DKIM-Signature: v=1; a=rsa-sha256; c=relaxed/relaxed; d=1e100.net; s=20230601; t=1752014405; x=1752619205; h=references:in-reply-to:cc:to:from:subject:message-id:date :x-gm-message-state:from:to:cc:subject:date:message-id:reply-to; bh=eKEZyCXO2Gb6LuXZTg/So5SGv8hhjaewiEUBNYnrpjc=; b=a02Pdbuyp4iwZzzrpIsy75pAPF8+QWXPuZbSkY/8yYLO3HYkOM0z+ZXmE0diIjq+BX Xy6cmuu4My4q6uZRVFMKiDlxQcMKXCESo8E2a6QGcnku5wLVlqeledplOouQ7hoCvjt3 3VdJnPw7H/5cNGYsXoZ20K0b/ByQOKwNZRrZ8/N9//5ltpTsvXrp6SUf2cSIH8Yng64B oz4TZJNlJkc0utd/fMcFbcA8JRzpvIWbVW84CgG/k31pgX0YfDTT7NOFUxGKggdTdON8 6CtuHD4nd0aUVI2N2DgpPqsSThtF9Hwt3xrnogQHTybhmTt9hdRW0dLCcs0gt1GcFTDL fb5w== X-Gm-Message-State: AOJu0YwpkJDcbrw8AXrvV/HkpPvYgJPUZ4qrqGIqyNWDWDHLgo8ODL0D 9VRHov92lcry22ktne5VVZJZoTMX2aMKNwjFUzK836yEhyMLexhbYtBhffXbb+XICoYW3v/EyUN 38vzWn501rR2tvNPtBK0ga2WTFvSfNHADYtHwz+xQBXxafgMCcEFgLnnnHLXl X-Gm-Gg: ASbGncu0Ox1bAppyn0ltOBbQ3kkGS7UkF7lRKUrFUDJ0WDpQa3rMDJVMMxf++q3LV+4 tbtlwEnKBa/CuTAGuFbu7gTN9CEwP2Qilz4c1QRrv/NP8i2Lr+NZlOr+DRGZUUHUY151xCOVQS6 PGXr0zToZGDJkP8Dhn9yegW9uA3n0k8NKkQW9Ve4tqQ8CKmuWPKDW9+KZsPEw1y3DnzlbnRx5DY EMRtDe1Iy4EHgl1zKjsGbMHuXv6QWtELBoJY0yfIXlQLvfVAgOYtOzojy05+l6iE+dR+zg+GKEc RBR1PAklrrXXIusxEJuBNF2fHQzSIiF8zDGO948ZhgWnYpQ= X-Google-Smtp-Source: AGHT+IF9IvAunWcQ5w+/KCCeZ46343BbNhJ9FZhbceQJhkb9kaY2Tq0wbi1qkSswEmwTxwPUVZdlRH5p16JM X-Received: by 2002:a05:6e02:112:b0:3dd:bf91:23f7 with SMTP id e9e14a558f8ab-3e154e51b43mr41157895ab.7.1752014405413; Tue, 08 Jul 2025 15:40:05 -0700 (PDT) Received: from postal.iol.unh.edu (postal.iol.unh.edu. [2606:4100:3880:1234::84]) by smtp-relay.gmail.com with ESMTPS id 8926c6da1cb9f-503b5b77e63sm408549173.38.2025.07.08.15.40.05 (version=TLS1_2 cipher=ECDHE-ECDSA-AES128-GCM-SHA256 bits=128/128); Tue, 08 Jul 2025 15:40:05 -0700 (PDT) X-Relaying-Domain: iol.unh.edu Date: Tue, 08 Jul 2025 15:40:05 -0700 (PDT) Message-ID: <686d9e45.050a0220.1c6644.5629SMTPIN_ADDED_MISSING@mx.google.com> Received: from [172.21.0.6] (unknown [172.18.0.240]) by postal.iol.unh.edu (Postfix) with ESMTP id E36726051830; Tue, 8 Jul 2025 18:40:04 -0400 (EDT) Subject: |WARNING| pw154998 [PATCH] [v2] net/iavf: fix VLAN strip disabling f From: dpdklab@iol.unh.edu To: Test Report Cc: dpdk-test-reports@iol.unh.edu In-Reply-To: <20250703101758.9973-1-amiyaranjan.mohakud@gmail.com> References: <20250703101758.9973-1-amiyaranjan.mohakud@gmail.com> Content-Type: text/plain X-BeenThere: test-report@dpdk.org X-Mailman-Version: 2.1.29 Precedence: list List-Id: automatic DPDK test reports List-Unsubscribe: , List-Archive: List-Post: List-Help: List-Subscribe: , Errors-To: test-report-bounces@dpdk.org Test-Label: iol-compile-amd64-testing Test-Status: WARNING http://dpdk.org/patch/154998 _Testing issues_ Submitter: Amiya Ranjan Mohakud Date: Thursday, July 03 2025 10:17:58 DPDK git baseline: Repo:dpdk Branch: master CommitID:a6b10031d251fcc7dadede461f7e1d005024b139 154998 --> testing issues Upstream job id: Windows-Compile-DPDK-Native#29657 Test environment and result as below: +-------------------------------+-------------------+--------------------+-------------------+------------------+-------------------------+----------------------+ | Environment | dpdk_msvc_compile | dpdk_meson_compile | dpdk_compile_spdk | dpdk_compile_ovs | dpdk_llvm_clang_compile | dpdk_mingw64_compile | +===============================+===================+====================+===================+==================+=========================+======================+ | Windows Server 2022 | PASS | SKIPPED | SKIPPED | SKIPPED | PASS | PASS | +-------------------------------+-------------------+--------------------+-------------------+------------------+-------------------------+----------------------+ | FreeBSD 14.2 | SKIPPED | PASS | SKIPPED | SKIPPED | SKIPPED | SKIPPED | +-------------------------------+-------------------+--------------------+-------------------+------------------+-------------------------+----------------------+ | CentOS Stream 9 | SKIPPED | PASS | PASS | SKIPPED | SKIPPED | SKIPPED | +-------------------------------+-------------------+--------------------+-------------------+------------------+-------------------------+----------------------+ | CentOS Stream 10 | SKIPPED | PASS | SKIPPED | SKIPPED | SKIPPED | SKIPPED | +-------------------------------+-------------------+--------------------+-------------------+------------------+-------------------------+----------------------+ | Debian GNU/Linux 12 | SKIPPED | PASS | PASS | SKIPPED | SKIPPED | SKIPPED | +-------------------------------+-------------------+--------------------+-------------------+------------------+-------------------------+----------------------+ | Fedora Linux 40 | SKIPPED | PASS | PASS | SKIPPED | SKIPPED | SKIPPED | +-------------------------------+-------------------+--------------------+-------------------+------------------+-------------------------+----------------------+ | Fedora Linux 41 | SKIPPED | PASS | PASS | PASS | SKIPPED | SKIPPED | +-------------------------------+-------------------+--------------------+-------------------+------------------+-------------------------+----------------------+ | openSUSE Leap 15.6 | SKIPPED | PASS | SKIPPED | SKIPPED | SKIPPED | SKIPPED | +-------------------------------+-------------------+--------------------+-------------------+------------------+-------------------------+----------------------+ | Red Hat Enterprise Linux 8.10 | SKIPPED | PASS | SKIPPED | SKIPPED | SKIPPED | SKIPPED | +-------------------------------+-------------------+--------------------+-------------------+------------------+-------------------------+----------------------+ | Ubuntu 22.04 | SKIPPED | PASS | PASS | SKIPPED | SKIPPED | SKIPPED | +-------------------------------+-------------------+--------------------+-------------------+------------------+-------------------------+----------------------+ | Ubuntu 24.04 | SKIPPED | PASS | PASS | PASS | SKIPPED | SKIPPED | +-------------------------------+-------------------+--------------------+-------------------+------------------+-------------------------+----------------------+ | Alpine Linux 3.22.0 | SKIPPED | PASS | SKIPPED | SKIPPED | SKIPPED | SKIPPED | +-------------------------------+-------------------+--------------------+-------------------+------------------+-------------------------+----------------------+ | Ubuntu 20.04 | SKIPPED | PASS | SKIPPED | SKIPPED | SKIPPED | SKIPPED | +-------------------------------+-------------------+--------------------+-------------------+------------------+-------------------------+----------------------+ | Red Hat Enterprise Linux 9.5 | SKIPPED | PASS | SKIPPED | SKIPPED | SKIPPED | SKIPPED | +-------------------------------+-------------------+--------------------+-------------------+------------------+-------------------------+----------------------+ Windows Server 2022 Kernel: 10.0.20348.2031 Compiler: clang 15.0.7, gcc 14.1.0 (MinGW), and MSVC VS 19.39.33521 FreeBSD 14.2 Kernel: 14.2-RELEASE Compiler: clang 18.1.6 CentOS Stream 9 Kernel: 5.15 Compiler: gcc gcc (GCC) 11.5.0 20240719 (Red Hat 11.5.0-7) CentOS Stream 10 Kernel: 5.15 Compiler: gcc gcc (GCC) 14.2.1 20250110 (Red Hat 14.2.1-8) Debian GNU/Linux 12 Kernel: 5.15 Compiler: gcc gcc (Debian 12.2.0-14+deb12u1) 12.2.0 Fedora Linux 40 Kernel: 5.15 Compiler: clang gcc (GCC) 14.2.1 20240912 (Red Hat 14.2.1-3) Fedora Linux 41 Kernel: 5.15 Compiler: clang gcc (GCC) 14.3.1 20250523 (Red Hat 14.3.1-1) openSUSE Leap 15.6 Kernel: 5.15 Compiler: gcc gcc (SUSE Linux) 7.5.0 Red Hat Enterprise Linux 8.10 Kernel: 5.15 Compiler: gcc gcc (GCC) 8.5.0 20210514 (Red Hat 8.5.0-22) Ubuntu 22.04 Kernel: 5.15 Compiler: gcc gcc (Ubuntu 11.4.0-1ubuntu1~22.04) 11.4.0 Ubuntu 24.04 Kernel: 5.15 Compiler: gcc gcc (Ubuntu 13.3.0-6ubuntu2~24.04) 13.3.0 Alpine Linux 3.22.0 Kernel: 5.15 Compiler: gcc gcc (Alpine 14.2.0) 14.2.0 Ubuntu 20.04 Kernel: 4.19 Compiler: gcc gcc (Ubuntu 9.4.0-1ubuntu1~20.04.2) 9.4.0 Red Hat Enterprise Linux 9.5 Kernel: 5.15 Compiler: gcc gcc (GCC) 11.5.0 20240719 (Red Hat 11.5.0-2) To view detailed results, visit: https://lab.dpdk.org/results/dashboard/patchsets/33581/ UNH-IOL DPDK Community Lab To manage your email subscriptions, visit: https://lab.dpdk.org/results/dashboard/preferences/subscriptions/