From mboxrd@z Thu Jan 1 00:00:00 1970 Return-Path: Received: from mails.dpdk.org (mails.dpdk.org [217.70.189.124]) by inbox.dpdk.org (Postfix) with ESMTP id 27A5546A8B for ; Wed, 9 Jul 2025 00:40:16 +0200 (CEST) Received: from mails.dpdk.org (localhost [127.0.0.1]) by mails.dpdk.org (Postfix) with ESMTP id 21D564013F; Wed, 9 Jul 2025 00:40:16 +0200 (CEST) Received: from mail-qv1-f100.google.com (mail-qv1-f100.google.com [209.85.219.100]) by mails.dpdk.org (Postfix) with ESMTP id 49A284013F for ; Wed, 9 Jul 2025 00:40:14 +0200 (CEST) Received: by mail-qv1-f100.google.com with SMTP id 6a1803df08f44-6fac7147cb8so86909916d6.1 for ; Tue, 08 Jul 2025 15:40:14 -0700 (PDT) DKIM-Signature: v=1; a=rsa-sha256; c=relaxed/relaxed; d=iol.unh.edu; s=unh-iol; t=1752014413; x=1752619213; darn=dpdk.org; h=references:in-reply-to:cc:to:from:subject:message-id:date:from:to :cc:subject:date:message-id:reply-to; bh=N7jNj5qysjT+/+q+HhL9hzgT7VRGBfSRti6OJ2LJi2I=; b=KS7ewE57UxwD+bVLHz2a/cMaj+Yrole5ssVEW5engBMvGvKmrKCkCkHTWboamRTnQw SnQvMmDUPx1bpXndeawSqWB0nUBcYNBpjE7KX1jEc2UKhgHHmymfVktUsiZBPhrhj8P5 6tWQJEZvJccZTfpVQ+2F746ZnJ993U+Xm+xyw= X-Google-DKIM-Signature: v=1; a=rsa-sha256; c=relaxed/relaxed; d=1e100.net; s=20230601; t=1752014413; x=1752619213; h=references:in-reply-to:cc:to:from:subject:message-id:date :x-gm-message-state:from:to:cc:subject:date:message-id:reply-to; bh=N7jNj5qysjT+/+q+HhL9hzgT7VRGBfSRti6OJ2LJi2I=; b=JYTgOlF85/HNvzXgN+5GPqAAcjRxek+rnqsxDSkk1HQ4xC0QQz5eB6OhEdllYApYZv AwI8pdABDktO0SpK5jafvjlJ6h6jvYhdAJTW2DEAbK1aNqzrEGluObKwgoZq6CT2pwmp vk8I3oBvbsUVqAiOMKSoslGlBdKSgfsftYz2mxV3/ApzUftShxRkLTKgxFKllH6AWR9+ pLJSOVnLGDo5UQ7Dv1E+GNHj2z+DZZOMsQ/FbO13LfHR3CLsrdb646YezPwlCa4LhoqD zH2CbIE+N+5euYrEwIs1kfw1zsvd9+1G4OLkDDaf02Aqnt2HISFSl3ww0EF/YyA7on46 jihA== X-Gm-Message-State: AOJu0Ywjif/ZA3Ur92rwoGQDMmdnYhzcMTRc1WHfP8UWzXfFcHEPJOOj 2KbCDKxCgmBP3w9dHT+yMz/LTThVIYxDZDcB+/4T1aqOtOepBV3IFlFNsbJcMJvwT3SPQ8h7LbZ 8uL43Be62MNqI813n6kQ824321YF/zvwa6imD78HktrufNrUHXZ0mmAdcnZZa X-Gm-Gg: ASbGncu9chPbVtkN2ExDgGJVtYzYdEkusI2W1GaOAlbcSUcf0xMKahc+8oK3UtMGQbi bBkMFGHBOTqhV+oz1Z7e+/EMeZTnMYTzuaMUGt5gkbtMd2TF1eP6nXCUzXQXO1XhF9UQlSlRjYP 3NuSOjj7m29GgEGnKc8iCqkfSE47AXO830Ka9vSOXdUYIg0W1qvTdHsxb61cAOw8Q3aGpqoL2cU gpivCf1f9pC2z4Hopta90rSR8L7ueLHyoDt4bZkJYejCkhWt4X/rwXNHc/PRMq2JkzoLolVM5n+ BlLzzA29g5lNg2dhmElOod3mKQVJhuJ1DLZ68zbkYiEMVKg= X-Google-Smtp-Source: AGHT+IEt1B+xlTi6cP8yALFhfhuwMg1DD+HoZhMxkuWwLr6gtrB1tGNARRPaKnEaBh6cs+lyDKwp3Wej9On7 X-Received: by 2002:a05:6214:27c8:b0:702:d6e6:a062 with SMTP id 6a1803df08f44-7048b94bb75mr3998626d6.22.1752014413678; Tue, 08 Jul 2025 15:40:13 -0700 (PDT) Received: from postal.iol.unh.edu (postal.iol.unh.edu. [2606:4100:3880:1234::84]) by smtp-relay.gmail.com with ESMTPS id 6a1803df08f44-702c4cca425sm5871446d6.22.2025.07.08.15.40.13 (version=TLS1_2 cipher=ECDHE-ECDSA-AES128-GCM-SHA256 bits=128/128); Tue, 08 Jul 2025 15:40:13 -0700 (PDT) X-Relaying-Domain: iol.unh.edu Date: Tue, 08 Jul 2025 15:40:13 -0700 (PDT) Message-ID: <686d9e4d.050a0220.3e807.e799SMTPIN_ADDED_MISSING@mx.google.com> Received: from [172.21.0.8] (unknown [172.18.0.240]) by postal.iol.unh.edu (Postfix) with ESMTP id 709686051830; Tue, 8 Jul 2025 18:40:13 -0400 (EDT) Subject: |SUCCESS| pw155078 [PATCH] [v3] net/mlx5: remove use of sizeof(rte_v From: dpdklab@iol.unh.edu To: Test Report Cc: dpdk-test-reports@iol.unh.edu In-Reply-To: <1751987516-30482-1-git-send-email-andremue@linux.microsoft.com> References: <1751987516-30482-1-git-send-email-andremue@linux.microsoft.com> Content-Type: text/plain X-BeenThere: test-report@dpdk.org X-Mailman-Version: 2.1.29 Precedence: list List-Id: automatic DPDK test reports List-Unsubscribe: , List-Archive: List-Post: List-Help: List-Subscribe: , Errors-To: test-report-bounces@dpdk.org Test-Label: iol-compile-arm64-testing Test-Status: SUCCESS http://dpdk.org/patch/155078 _Testing PASS_ Submitter: Andre Muezerie Date: Tuesday, July 08 2025 15:11:56 DPDK git baseline: Repo:dpdk Branch: master CommitID:e2888614268cbf0abcc7cd72ad97ff4e4901d0a5 155078 --> testing pass Upstream job id: Generic-DPDK-Compile-Meson#406699 Test environment and result as below: +------------------------------+--------------------+ | Environment | dpdk_meson_compile | +==============================+====================+ | Debian GNU/Linux 12 | PASS | +------------------------------+--------------------+ | Red Hat Enterprise Linux 9.5 | PASS | +------------------------------+--------------------+ | Ubuntu 20.04 | PASS | +------------------------------+--------------------+ | Fedora Linux 40 | PASS | +------------------------------+--------------------+ | Fedora Linux 41 | PASS | +------------------------------+--------------------+ | Ubuntu 22.04 | PASS | +------------------------------+--------------------+ | CentOS Stream 9 | PASS | +------------------------------+--------------------+ | Ubuntu 24.04 | PASS | +------------------------------+--------------------+ | CentOS Stream 10 | PASS | +------------------------------+--------------------+ Debian GNU/Linux 12 Kernel: 5.4 Compiler: gcc gcc (Debian 12.2.0-14+deb12u1) 12.2.0 Red Hat Enterprise Linux 9.5 Kernel: 5.4 Compiler: gcc gcc (GCC) 11.5.0 20240719 (Red Hat 11.5.0-2) Ubuntu 20.04 Kernel: 5.4 Compiler: gcc gcc (Ubuntu 9.4.0-1ubuntu1~20.04.2) 9.4.0 Fedora Linux 40 Kernel: 5.4 Compiler: gcc gcc (GCC) 14.2.1 20240912 (Red Hat 14.2.1-3) Fedora Linux 41 Kernel: 5.4 Compiler: gcc gcc (GCC) 14.3.1 20250523 (Red Hat 14.3.1-1) Ubuntu 22.04 Kernel: 5.4 Compiler: gcc gcc (Ubuntu 11.4.0-1ubuntu1~22.04) 11.4.0 CentOS Stream 9 Kernel: 5.4 Compiler: gcc gcc (GCC) 11.5.0 20240719 (Red Hat 11.5.0-7) Ubuntu 24.04 Kernel: 5.4 Compiler: gcc gcc (Ubuntu 13.3.0-6ubuntu2~24.04) 13.3.0 CentOS Stream 10 Kernel: 5.4 Compiler: gcc gcc (GCC) 14.2.1 20250110 (Red Hat 14.2.1-8) To view detailed results, visit: https://lab.dpdk.org/results/dashboard/patchsets/33615/ UNH-IOL DPDK Community Lab To manage your email subscriptions, visit: https://lab.dpdk.org/results/dashboard/preferences/subscriptions/