automatic DPDK test reports
 help / color / mirror / Atom feed
From: dpdklab@iol.unh.edu
To: Test Report <test-report@dpdk.org>
Cc: dpdk-test-reports@iol.unh.edu
Subject: |PENDING| pw154996 [PATCH] [v1] net/iavf: fix VLAN strip disabling f
Date: Tue, 08 Jul 2025 16:13:15 -0700 (PDT)	[thread overview]
Message-ID: <686da60b.630a0220.d371b.fa34SMTPIN_ADDED_MISSING@mx.google.com> (raw)
In-Reply-To: <20250703084234.8037-1-amiyaranjan.mohakud@gmail.com>

Test-Label: iol-compile-arm64-testing
Test-Status: PENDING
http://dpdk.org/patch/154996

_Testing pending_

Submitter: Amiya Ranjan Mohakud <amiyaranjan.mohakud@gmail.com>
Date: Thursday, July 03 2025 08:42:34 
DPDK git baseline: Repo:dpdk
  Branch: master
  CommitID:a6b10031d251fcc7dadede461f7e1d005024b139

154996 --> testing pending

Upstream job id: Generic-DPDK-Compile-Meson#406823

Test environment and result as below:

+---------------------+--------------------+
|     Environment     | dpdk_meson_compile |
+=====================+====================+
| Ubuntu 20.04        | PEND               |
+---------------------+--------------------+
| Fedora Linux 40     | PEND               |
+---------------------+--------------------+
| Fedora Linux 41     | PEND               |
+---------------------+--------------------+
| Ubuntu 22.04        | PEND               |
+---------------------+--------------------+
| CentOS Stream 9     | PEND               |
+---------------------+--------------------+
| CentOS Stream 10    | PEND               |
+---------------------+--------------------+
| Debian GNU/Linux 12 | PEND               |
+---------------------+--------------------+


Ubuntu 20.04
	Kernel: 5.15
	Compiler: aarch64-linux-gnu-gcc gcc (Ubuntu 9.4.0-1ubuntu1~20.04.2) 9.4.0

Fedora Linux 40
	Kernel: 5.4
	Compiler: clang gcc (GCC) 14.2.1 20240912 (Red Hat 14.2.1-3)

Fedora Linux 41
	Kernel: 5.4
	Compiler: gcc gcc (GCC) 14.3.1 20250523 (Red Hat 14.3.1-1)

Ubuntu 22.04
	Kernel: 5.4
	Compiler: gcc gcc (Ubuntu 11.4.0-1ubuntu1~22.04) 11.4.0

CentOS Stream 9
	Kernel: 5.4
	Compiler: gcc gcc (GCC) 11.5.0 20240719 (Red Hat 11.5.0-7)

CentOS Stream 10
	Kernel: 5.4
	Compiler: gcc gcc (GCC) 14.2.1 20250110 (Red Hat 14.2.1-8)

Debian GNU/Linux 12
	Kernel: 5.4
	Compiler: gcc gcc (Debian 12.2.0-14+deb12u1) 12.2.0

To view detailed results, visit:
https://lab.dpdk.org/results/dashboard/patchsets/33579/

UNH-IOL DPDK Community Lab

To manage your email subscriptions, visit: 
https://lab.dpdk.org/results/dashboard/preferences/subscriptions/

  parent reply	other threads:[~2025-07-08 23:13 UTC|newest]

Thread overview: 22+ messages / expand[flat|nested]  mbox.gz  Atom feed  top
     [not found] <20250703084234.8037-1-amiyaranjan.mohakud@gmail.com>
2025-07-03  8:09 ` |SUCCESS| pw154996 [PATCH v1] net/iavf: fix VLAN strip disabling for v2 capability qemudev
2025-07-03  8:13 ` qemudev
2025-07-03  8:41 ` |WARNING| " checkpatch
2025-07-03 10:03 ` |SUCCESS| " 0-day Robot
2025-07-08 20:53 ` |SUCCESS| pw154996 [PATCH] [v1] net/iavf: fix VLAN strip disabling f dpdklab
2025-07-08 21:13 ` dpdklab
2025-07-08 21:32 ` dpdklab
2025-07-08 22:13 ` dpdklab
2025-07-08 22:13 ` dpdklab
2025-07-08 22:38 ` |PENDING| " dpdklab
2025-07-08 23:13 ` dpdklab [this message]
2025-07-09  0:03 ` |SUCCESS| " dpdklab
2025-07-09  0:25 ` |WARNING| " dpdklab
2025-07-09  0:48 ` |SUCCESS| " dpdklab
2025-07-09  0:49 ` |WARNING| " dpdklab
2025-07-09  0:50 ` dpdklab
2025-07-09  1:17 ` dpdklab
2025-07-09  1:42 ` dpdklab
2025-07-09  2:39 ` |SUCCESS| " dpdklab
2025-07-09  3:39 ` dpdklab
2025-07-09  4:17 ` dpdklab
2025-07-09 15:08 ` dpdklab

Reply instructions:

You may reply publicly to this message via plain-text email
using any one of the following methods:

* Save the following mbox file, import it into your mail client,
  and reply-to-all from there: mbox

  Avoid top-posting and favor interleaved quoting:
  https://en.wikipedia.org/wiki/Posting_style#Interleaved_style

* Reply using the --to, --cc, and --in-reply-to
  switches of git-send-email(1):

  git send-email \
    --in-reply-to=686da60b.630a0220.d371b.fa34SMTPIN_ADDED_MISSING@mx.google.com \
    --to=dpdklab@iol.unh.edu \
    --cc=dpdk-test-reports@iol.unh.edu \
    --cc=test-report@dpdk.org \
    /path/to/YOUR_REPLY

  https://kernel.org/pub/software/scm/git/docs/git-send-email.html

* If your mail client supports setting the In-Reply-To header
  via mailto: links, try the mailto: link
Be sure your reply has a Subject: header at the top and a blank line before the message body.
This is a public inbox, see mirroring instructions
for how to clone and mirror all data and code used for this inbox;
as well as URLs for NNTP newsgroup(s).