* |SUCCESS| pw154979-154986 [v7 8/8] bus/dpaa: optimize qman enqueue check
[not found] <20250703052558.3700573-9-vanshika.shukla@nxp.com>
@ 2025-07-03 4:53 ` qemudev
2025-07-03 4:58 ` qemudev
` (22 subsequent siblings)
23 siblings, 0 replies; 24+ messages in thread
From: qemudev @ 2025-07-03 4:53 UTC (permalink / raw)
To: test-report
Test-Label: loongarch-compilation
Test-Status: SUCCESS
http://dpdk.org/patch/154986
_Compilation OK_
Submitter: Vanshika Shukla <vanshika.shukla@nxp.com>
Date: Thu, 3 Jul 2025 10:55:51 +0530
DPDK git baseline: Repo:dpdk-next-net
Branch: main
CommitID: b18c543ec30729ccc7708a6e064a1f9db5d8c11f
154979-154986 --> meson & ninja build successfully
Test environment and result as below:
+---------------------+----------------+
| Environment | compilation |
+---------------------+----------------+
| Loongnix-Server 8.3 | PASS |
+---------------------+----------------+
Loongnix-Server 8.3
Kernel: 4.19.190+
Compiler: gcc 8.3
^ permalink raw reply [flat|nested] 24+ messages in thread
* |SUCCESS| pw154979-154986 [v7 8/8] bus/dpaa: optimize qman enqueue check
[not found] <20250703052558.3700573-9-vanshika.shukla@nxp.com>
2025-07-03 4:53 ` |SUCCESS| pw154979-154986 [v7 8/8] bus/dpaa: optimize qman enqueue check qemudev
@ 2025-07-03 4:58 ` qemudev
2025-07-03 5:26 ` |SUCCESS| pw154986 " checkpatch
` (21 subsequent siblings)
23 siblings, 0 replies; 24+ messages in thread
From: qemudev @ 2025-07-03 4:58 UTC (permalink / raw)
To: test-report
Test-Label: loongarch-unit-testing
Test-Status: SUCCESS
http://dpdk.org/patch/154986
_Unit Testing PASS_
Submitter: Vanshika Shukla <vanshika.shukla@nxp.com>
Date: Thu, 3 Jul 2025 10:55:51 +0530
DPDK git baseline: Repo:dpdk-next-net
Branch: main
CommitID: b18c543ec30729ccc7708a6e064a1f9db5d8c11f
154979-154986 --> testing pass
Test environment and result as below:
+---------------------+----------------+
| Environment | dpdk_unit_test |
+---------------------+----------------+
| Loongnix-Server 8.3 | PASS |
+---------------------+----------------+
Loongnix-Server 8.3
Kernel: 4.19.190+
Compiler: gcc 8.3
Test result details:
1/121 DPDK:fast-tests / acl_autotest OK 3.19s
2/121 DPDK:fast-tests / alarm_autotest OK 1.49s
3/121 DPDK:fast-tests / argparse_autotest OK 0.51s
4/121 DPDK:fast-tests / atomic_autotest OK 7.26s
5/121 DPDK:fast-tests / bitcount_autotest OK 0.31s
6/121 DPDK:fast-tests / bitmap_autotest OK 0.31s
7/121 DPDK:fast-tests / bitops_autotest OK 1.81s
8/121 DPDK:fast-tests / bitratestats_autotest OK 0.54s
9/121 DPDK:fast-tests / bitset_autotest OK 3.24s
10/121 DPDK:fast-tests / bpf_autotest OK 0.52s
11/121 DPDK:fast-tests / bpf_convert_autotest OK 0.52s
12/121 DPDK:fast-tests / byteorder_autotest OK 0.53s
13/121 DPDK:fast-tests / cfgfile_autotest OK 0.52s
14/121 DPDK:fast-tests / cksum_autotest OK 0.52s
15/121 DPDK:fast-tests / cmdline_autotest OK 0.52s
16/121 DPDK:fast-tests / common_autotest OK 1.40s
17/121 DPDK:fast-tests / compressdev_autotest SKIP 0.07s exit status 77
18/121 DPDK:fast-tests / cpuflags_autotest OK 0.48s
19/121 DPDK:fast-tests / crc_autotest OK 0.48s
20/121 DPDK:fast-tests / user_delay_us OK 0.48s
21/121 DPDK:fast-tests / debug_autotest OK 16.63s
22/121 DPDK:fast-tests / devargs_autotest OK 0.47s
23/121 DPDK:fast-tests / dispatcher_autotest OK 2.53s
24/121 DPDK:fast-tests / distributor_autotest OK 1.21s
25/121 DPDK:fast-tests / eal_flags_c_opt_autotest OK 0.82s
26/121 DPDK:fast-tests / eal_flags_main_opt_autotest OK 0.23s
27/121 DPDK:fast-tests / eal_flags_n_opt_autotest OK 0.21s
28/121 DPDK:fast-tests / eal_flags_hpet_autotest OK 0.14s
29/121 DPDK:fast-tests / eal_flags_no_huge_autotest OK 0.23s
30/121 DPDK:fast-tests / eal_flags_a_opt_autotest OK 0.31s
31/121 DPDK:fast-tests / eal_flags_b_opt_autotest OK 0.26s
32/121 DPDK:fast-tests / eal_flags_vdev_opt_autotest OK 0.20s
33/121 DPDK:fast-tests / eal_flags_r_opt_autotest OK 0.19s
34/121 DPDK:fast-tests / eal_flags_mem_autotest OK 0.61s
35/121 DPDK:fast-tests / eal_flags_file_prefix_autotest OK 22.28s
36/121 DPDK:fast-tests / eal_flags_misc_autotest OK 1.09s
37/121 DPDK:fast-tests / eal_fs_autotest OK 0.48s
38/121 DPDK:fast-tests / errno_autotest OK 0.48s
39/121 DPDK:fast-tests / ethdev_link_status OK 0.48s
40/121 DPDK:fast-tests / event_eth_tx_adapter_autotest OK 1.69s
41/121 DPDK:fast-tests / event_ring_autotest OK 0.48s
42/121 DPDK:fast-tests / event_vector_adapter_autotest OK 0.84s
43/121 DPDK:fast-tests / eventdev_common_autotest OK 0.47s
44/121 DPDK:fast-tests / eventdev_selftest_sw OK 7.40s
45/121 DPDK:fast-tests / fbarray_autotest OK 0.48s
46/121 DPDK:fast-tests / fib_autotest OK 1.31s
47/121 DPDK:fast-tests / fib6_autotest OK 1.11s
48/121 DPDK:fast-tests / func_reentrancy_autotest OK 2.26s
49/121 DPDK:fast-tests / graph_autotest OK 0.48s
50/121 DPDK:fast-tests / node_list_dump OK 0.48s
51/121 DPDK:fast-tests / graph_feature_arc_autotest OK 0.49s
52/121 DPDK:fast-tests / hash_autotest OK 1.11s
53/121 DPDK:fast-tests / hash_readwrite_func_autotest OK 6.38s
54/121 DPDK:fast-tests / interrupt_autotest OK 1.78s
55/121 DPDK:fast-tests / ipfrag_autotest OK 0.08s
56/121 DPDK:fast-tests / ipsec_autotest SKIP 0.48s exit status 77
57/121 DPDK:fast-tests / kvargs_autotest OK 0.49s
58/121 DPDK:fast-tests / latencystats_autotest OK 0.49s
59/121 DPDK:fast-tests / lcore_var_autotest OK 0.62s
60/121 DPDK:fast-tests / lcores_autotest OK 5.29s
61/121 DPDK:fast-tests / logs_autotest OK 0.48s
62/121 DPDK:fast-tests / lpm_autotest OK 2.54s
63/121 DPDK:fast-tests / lpm6_autotest OK 5.68s
64/121 DPDK:fast-tests / malloc_autotest OK 60.24s
65/121 DPDK:fast-tests / mbuf_autotest OK 5.17s
66/121 DPDK:fast-tests / mcslock_autotest OK 2.90s
67/121 DPDK:fast-tests / member_autotest OK 1.69s
68/121 DPDK:fast-tests / memcpy_autotest OK 7.34s
69/121 DPDK:fast-tests / memory_autotest OK 0.09s
70/121 DPDK:fast-tests / mempool_autotest OK 0.43s
71/121 DPDK:fast-tests / memzone_autotest OK 0.14s
72/121 DPDK:fast-tests / meter_autotest OK 0.48s
73/121 DPDK:fast-tests / metrics_autotest OK 0.48s
74/121 DPDK:fast-tests / multiprocess_autotest OK 0.20s
75/121 DPDK:fast-tests / net_ether_autotest OK 1.14s
76/121 DPDK:fast-tests / net_ipv6_autotest OK 0.48s
77/121 DPDK:fast-tests / pcapng_autotest OK 7.34s
78/121 DPDK:fast-tests / pdcp_autotest SKIP 0.07s exit status 77
79/121 DPDK:fast-tests / pdump_autotest OK 0.59s
80/121 DPDK:fast-tests / per_lcore_autotest OK 0.58s
81/121 DPDK:fast-tests / pflock_autotest OK 1.29s
82/121 DPDK:fast-tests / pie_autotest OK 0.48s
83/121 DPDK:fast-tests / ring_pmd_autotest OK 0.48s
84/121 DPDK:fast-tests / power_autotest OK 0.48s
85/121 DPDK:fast-tests / power_cpufreq_autotest SKIP 0.07s exit status 77
86/121 DPDK:fast-tests / power_intel_uncore_autotest SKIP 0.48s exit status 77
87/121 DPDK:fast-tests / power_kvm_vm_autotest SKIP 0.07s exit status 77
88/121 DPDK:fast-tests / prefetch_autotest OK 0.48s
89/121 DPDK:fast-tests / ptr_compress_autotest OK 0.48s
90/121 DPDK:fast-tests / rawdev_autotest OK 0.48s
91/121 DPDK:fast-tests / rcu_qsbr_autotest OK 1.00s
92/121 DPDK:fast-tests / reorder_autotest OK 0.54s
93/121 DPDK:fast-tests / rib_autotest OK 9.14s
94/121 DPDK:fast-tests / rib6_autotest OK 9.13s
95/121 DPDK:fast-tests / ring_autotest OK 0.51s
96/121 DPDK:fast-tests / rwlock_test1_autotest OK 1.23s
97/121 DPDK:fast-tests / rwlock_rda_autotest OK 5.49s
98/121 DPDK:fast-tests / rwlock_rds_wrm_autotest OK 5.49s
99/121 DPDK:fast-tests / rwlock_rde_wro_autotest OK 5.49s
100/121 DPDK:fast-tests / sched_autotest OK 0.48s
101/121 DPDK:fast-tests / security_autotest OK 0.07s
102/121 DPDK:fast-tests / seqlock_autotest OK 2.48s
103/121 DPDK:fast-tests / service_autotest OK 3.19s
104/121 DPDK:fast-tests / soring_autotest OK 0.49s
105/121 DPDK:fast-tests / spinlock_autotest OK 0.56s
106/121 DPDK:fast-tests / stack_autotest OK 0.87s
107/121 DPDK:fast-tests / stack_lf_autotest SKIP 0.06s exit status 77
108/121 DPDK:fast-tests / string_autotest OK 0.48s
109/121 DPDK:fast-tests / table_autotest OK 7.70s
110/121 DPDK:fast-tests / tailq_autotest OK 0.48s
111/121 DPDK:fast-tests / telemetry_data_autotest OK 0.49s
112/121 DPDK:fast-tests / telemetry_json_autotest OK 0.48s
113/121 DPDK:fast-tests / thash_autotest OK 0.50s
114/121 DPDK:fast-tests / threads_autotest OK 0.67s
115/121 DPDK:fast-tests / ticketlock_autotest OK 0.66s
116/121 DPDK:fast-tests / timer_autotest OK 3.97s
117/121 DPDK:fast-tests / trace_autotest OK 0.48s
118/121 DPDK:fast-tests / trace_autotest_with_traces OK 0.49s
119/121 DPDK:fast-tests / vdev_autotest OK 0.48s
120/121 DPDK:fast-tests / version_autotest OK 0.48s
121/121 DPDK:fast-tests / telemetry_all OK 1.40s
Ok: 114
Expected Fail: 0
Fail: 0
Unexpected Pass: 0
Skipped: 7
Timeout: 0
^ permalink raw reply [flat|nested] 24+ messages in thread
* |SUCCESS| pw154986 [v7 8/8] bus/dpaa: optimize qman enqueue check
[not found] <20250703052558.3700573-9-vanshika.shukla@nxp.com>
2025-07-03 4:53 ` |SUCCESS| pw154979-154986 [v7 8/8] bus/dpaa: optimize qman enqueue check qemudev
2025-07-03 4:58 ` qemudev
@ 2025-07-03 5:26 ` checkpatch
2025-07-08 22:28 ` |SUCCESS| pw154979-154986 [PATCH] [v7,8/8] bus/dpaa: optimize qman e dpdklab
` (20 subsequent siblings)
23 siblings, 0 replies; 24+ messages in thread
From: checkpatch @ 2025-07-03 5:26 UTC (permalink / raw)
To: test-report
Test-Label: checkpatch
Test-Status: SUCCESS
http://dpdk.org/patch/154986
_coding style OK_
^ permalink raw reply [flat|nested] 24+ messages in thread
* |SUCCESS| pw154979-154986 [PATCH] [v7,8/8] bus/dpaa: optimize qman e
[not found] <20250703052558.3700573-9-vanshika.shukla@nxp.com>
` (2 preceding siblings ...)
2025-07-03 5:26 ` |SUCCESS| pw154986 " checkpatch
@ 2025-07-08 22:28 ` dpdklab
2025-07-08 22:50 ` dpdklab
` (19 subsequent siblings)
23 siblings, 0 replies; 24+ messages in thread
From: dpdklab @ 2025-07-08 22:28 UTC (permalink / raw)
To: Test Report; +Cc: dpdk-test-reports
Test-Label: iol-intel-Functional
Test-Status: SUCCESS
http://dpdk.org/patch/154986
_Functional Testing PASS_
Submitter: Vanshika Shukla <vanshika.shukla@nxp.com>
Date: Thursday, July 03 2025 05:25:58
DPDK git baseline: Repo:dpdk
Branch: master
CommitID:ba982f9a1ca9b96ed0394b764f1523d482e963a2
154979-154986 --> functional testing pass
Upstream job id: Template-DTS-Pipeline#235807
Test environment and result as below:
Ubuntu 24.04
Kernel: 6.8
Compiler: gcc gcc (Ubuntu 13.3.0-6ubuntu2~24.04) 13.3.0
NIC: Intel Corporation 4xxx Series QAT 0 Mbps
Aggregate Results by Test Suite
+----------------------------+--------+
| Test Suite | Result |
+============================+========+
| crypto_perf_cryptodev_perf | PASS |
+----------------------------+--------+
To view detailed results, visit:
https://lab.dpdk.org/results/dashboard/patchsets/33576/
UNH-IOL DPDK Community Lab
To manage your email subscriptions, visit:
https://lab.dpdk.org/results/dashboard/preferences/subscriptions/
^ permalink raw reply [flat|nested] 24+ messages in thread
* |SUCCESS| pw154979-154986 [PATCH] [v7,8/8] bus/dpaa: optimize qman e
[not found] <20250703052558.3700573-9-vanshika.shukla@nxp.com>
` (3 preceding siblings ...)
2025-07-08 22:28 ` |SUCCESS| pw154979-154986 [PATCH] [v7,8/8] bus/dpaa: optimize qman e dpdklab
@ 2025-07-08 22:50 ` dpdklab
2025-07-08 22:50 ` dpdklab
` (18 subsequent siblings)
23 siblings, 0 replies; 24+ messages in thread
From: dpdklab @ 2025-07-08 22:50 UTC (permalink / raw)
To: Test Report; +Cc: dpdk-test-reports
Test-Label: iol-intel-Functional
Test-Status: SUCCESS
http://dpdk.org/patch/154986
_Functional Testing PASS_
Submitter: Vanshika Shukla <vanshika.shukla@nxp.com>
Date: Thursday, July 03 2025 05:25:58
DPDK git baseline: Repo:dpdk
Branch: master
CommitID:ba982f9a1ca9b96ed0394b764f1523d482e963a2
154979-154986 --> functional testing pass
Upstream job id: Template-DTS-Pipeline#235802
Test environment and result as below:
Ubuntu 24.04
Kernel: 6.8
Compiler: gcc gcc (Ubuntu 13.3.0-6ubuntu2~24.04) 13.3.0
NIC: Intel Corporation 4xxx Series QAT 0 Mbps
Aggregate Results by Test Suite
+----------------------------+--------+
| Test Suite | Result |
+============================+========+
| crypto_perf_cryptodev_perf | PASS |
+----------------------------+--------+
Ubuntu 22.04
Kernel: 5.15
Compiler: gcc gcc (Ubuntu 11.4.0-1ubuntu1~22.04) 11.4.0
NIC: Intel Corporation QAT 8970 0 Mbps
Aggregate Results by Test Suite
+----------------------------+--------+
| Test Suite | Result |
+============================+========+
| crypto_perf_cryptodev_perf | PASS |
+----------------------------+--------+
To view detailed results, visit:
https://lab.dpdk.org/results/dashboard/patchsets/33576/
UNH-IOL DPDK Community Lab
To manage your email subscriptions, visit:
https://lab.dpdk.org/results/dashboard/preferences/subscriptions/
^ permalink raw reply [flat|nested] 24+ messages in thread
* |SUCCESS| pw154979-154986 [PATCH] [v7,8/8] bus/dpaa: optimize qman e
[not found] <20250703052558.3700573-9-vanshika.shukla@nxp.com>
` (4 preceding siblings ...)
2025-07-08 22:50 ` dpdklab
@ 2025-07-08 22:50 ` dpdklab
2025-07-08 22:59 ` dpdklab
` (17 subsequent siblings)
23 siblings, 0 replies; 24+ messages in thread
From: dpdklab @ 2025-07-08 22:50 UTC (permalink / raw)
To: Test Report; +Cc: dpdk-test-reports
Test-Label: iol-intel-Functional
Test-Status: SUCCESS
http://dpdk.org/patch/154986
_Functional Testing PASS_
Submitter: Vanshika Shukla <vanshika.shukla@nxp.com>
Date: Thursday, July 03 2025 05:25:58
DPDK git baseline: Repo:dpdk
Branch: master
CommitID:ba982f9a1ca9b96ed0394b764f1523d482e963a2
154979-154986 --> functional testing pass
Upstream job id: Template-DTS-Pipeline#235805
Test environment and result as below:
Ubuntu 24.04
Kernel: 6.8
Compiler: gcc gcc (Ubuntu 13.3.0-6ubuntu2~24.04) 13.3.0
NIC: Intel Corporation 4xxx Series QAT 0 Mbps
Aggregate Results by Test Suite
+----------------------------+--------+
| Test Suite | Result |
+============================+========+
| crypto_perf_cryptodev_perf | PASS |
+----------------------------+--------+
Ubuntu 22.04
Kernel: 5.15
Compiler: gcc gcc (Ubuntu 11.4.0-1ubuntu1~22.04) 11.4.0
NIC: Intel Corporation QAT 8970 0 Mbps
Aggregate Results by Test Suite
+----------------------------+--------+
| Test Suite | Result |
+============================+========+
| crypto_perf_cryptodev_perf | PASS |
+----------------------------+--------+
To view detailed results, visit:
https://lab.dpdk.org/results/dashboard/patchsets/33576/
UNH-IOL DPDK Community Lab
To manage your email subscriptions, visit:
https://lab.dpdk.org/results/dashboard/preferences/subscriptions/
^ permalink raw reply [flat|nested] 24+ messages in thread
* |SUCCESS| pw154979-154986 [PATCH] [v7,8/8] bus/dpaa: optimize qman e
[not found] <20250703052558.3700573-9-vanshika.shukla@nxp.com>
` (5 preceding siblings ...)
2025-07-08 22:50 ` dpdklab
@ 2025-07-08 22:59 ` dpdklab
2025-07-08 23:42 ` |PENDING| " dpdklab
` (16 subsequent siblings)
23 siblings, 0 replies; 24+ messages in thread
From: dpdklab @ 2025-07-08 22:59 UTC (permalink / raw)
To: Ali Alnubani, Test Report; +Cc: dpdk-test-reports
Test-Label: iol-mellanox-Performance
Test-Status: SUCCESS
http://dpdk.org/patch/154986
_Performance Testing PASS_
Submitter: Vanshika Shukla <vanshika.shukla@nxp.com>
Date: Thursday, July 03 2025 05:25:58
DPDK git baseline: Repo:dpdk
Branch: master
CommitID:ba982f9a1ca9b96ed0394b764f1523d482e963a2
154979-154986 --> performance testing pass
Upstream job id: Template-DTS-Pipeline#235795
Test environment and result as below:
Ubuntu 24.04
Kernel: 6.8
Compiler: gcc gcc (Ubuntu 13.3.0-6ubuntu2~24.04) 13.3.0
NIC: NVIDIA Mellanox ConnectX-7 100000 Mbps
Fail/Total: 0/6
Detail performance results:
+------------+---------+----------+-------------+------------------------------+
| frame_size | txd/rxd | num_cpus | num_threads | throughput difference from |
| | | | | expected |
+============+=========+==========+=============+==============================+
| 64 | 1024 | 1 | 1 | 0.8% |
+------------+---------+----------+-------------+------------------------------+
| 128 | 1024 | 1 | 1 | 0.1% |
+------------+---------+----------+-------------+------------------------------+
| 256 | 1024 | 1 | 1 | 0.6% |
+------------+---------+----------+-------------+------------------------------+
| 512 | 1024 | 1 | 1 | 0.3% |
+------------+---------+----------+-------------+------------------------------+
| 1024 | 1024 | 1 | 1 | -0.0% |
+------------+---------+----------+-------------+------------------------------+
| 1518 | 1024 | 1 | 1 | -0.1% |
+------------+---------+----------+-------------+------------------------------+
Ubuntu 24.04
Kernel: 6.8
Compiler: gcc gcc (Ubuntu 13.3.0-6ubuntu2~24.04) 13.3.0
NIC: Mellanox ConnectX-6 Lx 25000 Mbps
Fail/Total: 0/6
Detail performance results:
+------------+---------+----------+-------------+------------------------------+
| frame_size | txd/rxd | num_cpus | num_threads | throughput difference from |
| | | | | expected |
+============+=========+==========+=============+==============================+
| 64 | 1024 | 1 | 1 | 0.1% |
+------------+---------+----------+-------------+------------------------------+
| 128 | 1024 | 1 | 1 | 0.1% |
+------------+---------+----------+-------------+------------------------------+
| 256 | 1024 | 1 | 1 | 0.1% |
+------------+---------+----------+-------------+------------------------------+
| 512 | 1024 | 1 | 1 | 0.1% |
+------------+---------+----------+-------------+------------------------------+
| 1024 | 1024 | 1 | 1 | -0.1% |
+------------+---------+----------+-------------+------------------------------+
| 1518 | 1024 | 1 | 1 | -0.2% |
+------------+---------+----------+-------------+------------------------------+
To view detailed results, visit:
https://lab.dpdk.org/results/dashboard/patchsets/33576/
UNH-IOL DPDK Community Lab
To manage your email subscriptions, visit:
https://lab.dpdk.org/results/dashboard/preferences/subscriptions/
^ permalink raw reply [flat|nested] 24+ messages in thread
* |PENDING| pw154979-154986 [PATCH] [v7,8/8] bus/dpaa: optimize qman e
[not found] <20250703052558.3700573-9-vanshika.shukla@nxp.com>
` (6 preceding siblings ...)
2025-07-08 22:59 ` dpdklab
@ 2025-07-08 23:42 ` dpdklab
2025-07-08 23:42 ` dpdklab
` (15 subsequent siblings)
23 siblings, 0 replies; 24+ messages in thread
From: dpdklab @ 2025-07-08 23:42 UTC (permalink / raw)
To: Test Report; +Cc: dpdk-test-reports
Test-Label: iol-unit-arm64-testing
Test-Status: PENDING
http://dpdk.org/patch/154986
_Testing pending_
Submitter: Vanshika Shukla <vanshika.shukla@nxp.com>
Date: Thursday, July 03 2025 05:25:58
DPDK git baseline: Repo:dpdk
Branch: master
CommitID:ba982f9a1ca9b96ed0394b764f1523d482e963a2
154979-154986 --> testing pending
Upstream job id: Generic-Unit-Test-DPDK#353791
Test environment and result as below:
+------------------------------+--------------+------------------------------+---------------------------+----------------+
| Environment | lpm_autotest | cryptodev_sw_snow3g_autotest | cryptodev_sw_zuc_autotest | dpdk_unit_test |
+==============================+==============+==============================+===========================+================+
| Ubuntu 20.04 | PASS | SKIPPED | SKIPPED | PEND |
+------------------------------+--------------+------------------------------+---------------------------+----------------+
| Debian 12 (arm) | SKIPPED | PEND | PEND | SKIPPED |
+------------------------------+--------------+------------------------------+---------------------------+----------------+
| Fedora Linux 40 | SKIPPED | SKIPPED | SKIPPED | PEND |
+------------------------------+--------------+------------------------------+---------------------------+----------------+
| CentOS Stream 10 | SKIPPED | SKIPPED | SKIPPED | PEND |
+------------------------------+--------------+------------------------------+---------------------------+----------------+
| Fedora Linux 41 | SKIPPED | SKIPPED | SKIPPED | PEND |
+------------------------------+--------------+------------------------------+---------------------------+----------------+
| Debian GNU/Linux 12 | SKIPPED | SKIPPED | SKIPPED | PEND |
+------------------------------+--------------+------------------------------+---------------------------+----------------+
| CentOS Stream 9 | SKIPPED | SKIPPED | SKIPPED | PEND |
+------------------------------+--------------+------------------------------+---------------------------+----------------+
| Ubuntu 22.04 | SKIPPED | SKIPPED | SKIPPED | PEND |
+------------------------------+--------------+------------------------------+---------------------------+----------------+
| Red Hat Enterprise Linux 9.5 | SKIPPED | SKIPPED | SKIPPED | PEND |
+------------------------------+--------------+------------------------------+---------------------------+----------------+
| Ubuntu 24.04 | SKIPPED | SKIPPED | SKIPPED | PEND |
+------------------------------+--------------+------------------------------+---------------------------+----------------+
Ubuntu 20.04
Kernel: 5.4
Compiler: gcc gcc (Ubuntu 9.4.0-1ubuntu1~20.04.2) 9.4.0
Debian 12 (arm)
Kernel: Depends on container host
Compiler: gcc (Debian 12.2.0-14) 12.2.0
Fedora Linux 40
Kernel: 5.4
Compiler: clang gcc (GCC) 14.2.1 20240912 (Red Hat 14.2.1-3)
CentOS Stream 10
Kernel: 5.4
Compiler: gcc gcc (GCC) 14.2.1 20250110 (Red Hat 14.2.1-8)
Fedora Linux 41
Kernel: 5.4
Compiler: gcc gcc (GCC) 14.3.1 20250523 (Red Hat 14.3.1-1)
Debian GNU/Linux 12
Kernel: 5.4
Compiler: gcc gcc (Debian 12.2.0-14+deb12u1) 12.2.0
CentOS Stream 9
Kernel: 5.4
Compiler: gcc gcc (GCC) 11.5.0 20240719 (Red Hat 11.5.0-7)
Ubuntu 22.04
Kernel: 5.4
Compiler: gcc gcc (Ubuntu 11.4.0-1ubuntu1~22.04) 11.4.0
Red Hat Enterprise Linux 9.5
Kernel: 5.4
Compiler: gcc gcc (GCC) 11.5.0 20240719 (Red Hat 11.5.0-2)
Ubuntu 24.04
Kernel: 5.4
Compiler: gcc gcc (Ubuntu 13.3.0-6ubuntu2~24.04) 13.3.0
To view detailed results, visit:
https://lab.dpdk.org/results/dashboard/patchsets/33576/
UNH-IOL DPDK Community Lab
To manage your email subscriptions, visit:
https://lab.dpdk.org/results/dashboard/preferences/subscriptions/
^ permalink raw reply [flat|nested] 24+ messages in thread
* |PENDING| pw154979-154986 [PATCH] [v7,8/8] bus/dpaa: optimize qman e
[not found] <20250703052558.3700573-9-vanshika.shukla@nxp.com>
` (7 preceding siblings ...)
2025-07-08 23:42 ` |PENDING| " dpdklab
@ 2025-07-08 23:42 ` dpdklab
2025-07-09 0:02 ` dpdklab
` (14 subsequent siblings)
23 siblings, 0 replies; 24+ messages in thread
From: dpdklab @ 2025-07-08 23:42 UTC (permalink / raw)
To: Test Report; +Cc: dpdk-test-reports
Test-Label: iol-compile-amd64-testing
Test-Status: PENDING
http://dpdk.org/patch/154986
_Testing pending_
Submitter: Vanshika Shukla <vanshika.shukla@nxp.com>
Date: Thursday, July 03 2025 05:25:58
DPDK git baseline: Repo:dpdk
Branch: master
CommitID:ba982f9a1ca9b96ed0394b764f1523d482e963a2
154979-154986 --> testing pending
Upstream job id: Generic-VM-DPDK-Compile-Meson#37031
Test environment and result as below:
+---------------------+--------------------+-------------------+------------------+
| Environment | dpdk_meson_compile | dpdk_compile_spdk | dpdk_compile_ovs |
+=====================+====================+===================+==================+
| CentOS Stream 9 | PEND | PEND | SKIPPED |
+---------------------+--------------------+-------------------+------------------+
| Debian GNU/Linux 12 | PEND | PEND | SKIPPED |
+---------------------+--------------------+-------------------+------------------+
| CentOS Stream 10 | PEND | SKIPPED | SKIPPED |
+---------------------+--------------------+-------------------+------------------+
| Fedora Linux 40 | PEND | PEND | SKIPPED |
+---------------------+--------------------+-------------------+------------------+
| Fedora Linux 41 | PEND | PEND | PEND |
+---------------------+--------------------+-------------------+------------------+
| openSUSE Leap 15.6 | PEND | SKIPPED | SKIPPED |
+---------------------+--------------------+-------------------+------------------+
| Ubuntu 24.04 | PEND | PEND | PEND |
+---------------------+--------------------+-------------------+------------------+
| Ubuntu 22.04 | PEND | PEND | SKIPPED |
+---------------------+--------------------+-------------------+------------------+
| Ubuntu 20.04 | PASS | SKIPPED | SKIPPED |
+---------------------+--------------------+-------------------+------------------+
CentOS Stream 9
Kernel: 5.15
Compiler: gcc gcc (GCC) 11.5.0 20240719 (Red Hat 11.5.0-7)
Debian GNU/Linux 12
Kernel: 5.15
Compiler: gcc gcc (Debian 12.2.0-14+deb12u1) 12.2.0
CentOS Stream 10
Kernel: 5.15
Compiler: gcc gcc (GCC) 14.2.1 20250110 (Red Hat 14.2.1-8)
Fedora Linux 40
Kernel: 5.15
Compiler: clang gcc (GCC) 14.2.1 20240912 (Red Hat 14.2.1-3)
Fedora Linux 41
Kernel: 5.15
Compiler: clang gcc (GCC) 14.3.1 20250523 (Red Hat 14.3.1-1)
openSUSE Leap 15.6
Kernel: 5.15
Compiler: gcc gcc (SUSE Linux) 7.5.0
Ubuntu 24.04
Kernel: 5.15
Compiler: gcc gcc (Ubuntu 13.3.0-6ubuntu2~24.04) 13.3.0
Ubuntu 22.04
Kernel: 5.15
Compiler: gcc gcc (Ubuntu 11.4.0-1ubuntu1~22.04) 11.4.0
Ubuntu 20.04
Kernel: 5.15
Compiler: gcc gcc (Ubuntu 9.4.0-1ubuntu1~20.04.2) 9.4.0
To view detailed results, visit:
https://lab.dpdk.org/results/dashboard/patchsets/33576/
UNH-IOL DPDK Community Lab
To manage your email subscriptions, visit:
https://lab.dpdk.org/results/dashboard/preferences/subscriptions/
^ permalink raw reply [flat|nested] 24+ messages in thread
* |PENDING| pw154979-154986 [PATCH] [v7,8/8] bus/dpaa: optimize qman e
[not found] <20250703052558.3700573-9-vanshika.shukla@nxp.com>
` (8 preceding siblings ...)
2025-07-08 23:42 ` dpdklab
@ 2025-07-09 0:02 ` dpdklab
2025-07-09 0:24 ` |SUCCESS| " dpdklab
` (13 subsequent siblings)
23 siblings, 0 replies; 24+ messages in thread
From: dpdklab @ 2025-07-09 0:02 UTC (permalink / raw)
To: Test Report; +Cc: dpdk-test-reports
Test-Label: iol-abi-testing
Test-Status: PENDING
http://dpdk.org/patch/154986
_Testing pending_
Submitter: Vanshika Shukla <vanshika.shukla@nxp.com>
Date: Thursday, July 03 2025 05:25:58
DPDK git baseline: Repo:dpdk
Branch: master
CommitID:ba982f9a1ca9b96ed0394b764f1523d482e963a2
154979-154986 --> testing pending
Upstream job id: Generic-DPDK-Compile-ABI#133589
Test environment and result as below:
+-------------------------------+----------+
| Environment | abi_test |
+===============================+==========+
| CentOS Stream 9 | PASS |
+-------------------------------+----------+
| Fedora Linux 40 | PEND |
+-------------------------------+----------+
| Debian GNU/Linux 12 | PEND |
+-------------------------------+----------+
| Fedora Linux 41 | PEND |
+-------------------------------+----------+
| Red Hat Enterprise Linux 8.10 | PEND |
+-------------------------------+----------+
| openSUSE Leap 15.6 | PEND |
+-------------------------------+----------+
| Red Hat Enterprise Linux 9.5 | PEND |
+-------------------------------+----------+
| Ubuntu 22.04 | PEND |
+-------------------------------+----------+
| CentOS Stream 10 | PEND |
+-------------------------------+----------+
| Ubuntu 24.04 | PEND |
+-------------------------------+----------+
CentOS Stream 9
Kernel: 5.15
Compiler: gcc gcc (GCC) 11.5.0 20240719 (Red Hat 11.5.0-7)
Fedora Linux 40
Kernel: 5.15
Compiler: gcc gcc (GCC) 14.2.1 20240912 (Red Hat 14.2.1-3)
Debian GNU/Linux 12
Kernel: 5.15
Compiler: gcc gcc (Debian 12.2.0-14+deb12u1) 12.2.0
Fedora Linux 41
Kernel: 5.15
Compiler: clang gcc (GCC) 14.3.1 20250523 (Red Hat 14.3.1-1)
Red Hat Enterprise Linux 8.10
Kernel: 5.15
Compiler: gcc gcc (GCC) 8.5.0 20210514 (Red Hat 8.5.0-22)
openSUSE Leap 15.6
Kernel: 5.15
Compiler: gcc gcc (SUSE Linux) 7.5.0
Red Hat Enterprise Linux 9.5
Kernel: 5.15
Compiler: gcc gcc (GCC) 11.5.0 20240719 (Red Hat 11.5.0-2)
Ubuntu 22.04
Kernel: 5.15
Compiler: gcc gcc (Ubuntu 11.4.0-1ubuntu1~22.04) 11.4.0
CentOS Stream 10
Kernel: 5.15
Compiler: gcc gcc (GCC) 14.2.1 20250110 (Red Hat 14.2.1-8)
Ubuntu 24.04
Kernel: 5.15
Compiler: gcc gcc (Ubuntu 13.3.0-6ubuntu2~24.04) 13.3.0
To view detailed results, visit:
https://lab.dpdk.org/results/dashboard/patchsets/33576/
UNH-IOL DPDK Community Lab
To manage your email subscriptions, visit:
https://lab.dpdk.org/results/dashboard/preferences/subscriptions/
^ permalink raw reply [flat|nested] 24+ messages in thread
* |SUCCESS| pw154979-154986 [PATCH] [v7,8/8] bus/dpaa: optimize qman e
[not found] <20250703052558.3700573-9-vanshika.shukla@nxp.com>
` (9 preceding siblings ...)
2025-07-09 0:02 ` dpdklab
@ 2025-07-09 0:24 ` dpdklab
2025-07-09 1:07 ` |WARNING| " dpdklab
` (12 subsequent siblings)
23 siblings, 0 replies; 24+ messages in thread
From: dpdklab @ 2025-07-09 0:24 UTC (permalink / raw)
To: Test Report; +Cc: dpdk-test-reports
Test-Label: iol-unit-amd64-testing
Test-Status: SUCCESS
http://dpdk.org/patch/154986
_Testing PASS_
Submitter: Vanshika Shukla <vanshika.shukla@nxp.com>
Date: Thursday, July 03 2025 05:25:58
DPDK git baseline: Repo:dpdk
Branch: master
CommitID:ba982f9a1ca9b96ed0394b764f1523d482e963a2
154979-154986 --> testing pass
Upstream job id: Generic-Unit-Test-DPDK#353806
Test environment and result as below:
+-------------------------------+----------------+
| Environment | dpdk_unit_test |
+===============================+================+
| Fedora Linux 40 | PASS |
+-------------------------------+----------------+
| Red Hat Enterprise Linux 8.10 | PASS |
+-------------------------------+----------------+
| Red Hat Enterprise Linux 9.5 | PASS |
+-------------------------------+----------------+
| CentOS Stream 10 | PASS |
+-------------------------------+----------------+
| Ubuntu 24.04 | PASS |
+-------------------------------+----------------+
| Fedora Linux 41 | PASS |
+-------------------------------+----------------+
| CentOS Stream 9 | PASS |
+-------------------------------+----------------+
| Debian GNU/Linux 12 | PASS |
+-------------------------------+----------------+
| Ubuntu 22.04 | PASS |
+-------------------------------+----------------+
| Ubuntu 20.04 | PASS |
+-------------------------------+----------------+
Fedora Linux 40
Kernel: 5.15
Compiler: clang gcc (GCC) 14.2.1 20240912 (Red Hat 14.2.1-3)
Red Hat Enterprise Linux 8.10
Kernel: 5.15
Compiler: gcc gcc (GCC) 8.5.0 20210514 (Red Hat 8.5.0-22)
Red Hat Enterprise Linux 9.5
Kernel: 5.15
Compiler: gcc gcc (GCC) 11.5.0 20240719 (Red Hat 11.5.0-2)
CentOS Stream 10
Kernel: 5.15
Compiler: gcc gcc (GCC) 14.2.1 20250110 (Red Hat 14.2.1-8)
Ubuntu 24.04
Kernel: 5.15
Compiler: gcc gcc (Ubuntu 13.3.0-6ubuntu2~24.04) 13.3.0
Fedora Linux 41
Kernel: 5.15
Compiler: gcc gcc (GCC) 14.3.1 20250523 (Red Hat 14.3.1-1)
CentOS Stream 9
Kernel: 5.15
Compiler: gcc gcc (GCC) 11.5.0 20240719 (Red Hat 11.5.0-7)
Debian GNU/Linux 12
Kernel: 5.15
Compiler: gcc gcc (Debian 12.2.0-14+deb12u1) 12.2.0
Ubuntu 22.04
Kernel: 5.15
Compiler: gcc gcc (Ubuntu 11.4.0-1ubuntu1~22.04) 11.4.0
Ubuntu 20.04
Kernel: 5.15
Compiler: gcc gcc (Ubuntu 9.4.0-1ubuntu1~20.04.2) 9.4.0
To view detailed results, visit:
https://lab.dpdk.org/results/dashboard/patchsets/33576/
UNH-IOL DPDK Community Lab
To manage your email subscriptions, visit:
https://lab.dpdk.org/results/dashboard/preferences/subscriptions/
^ permalink raw reply [flat|nested] 24+ messages in thread
* |WARNING| pw154979-154986 [PATCH] [v7,8/8] bus/dpaa: optimize qman e
[not found] <20250703052558.3700573-9-vanshika.shukla@nxp.com>
` (10 preceding siblings ...)
2025-07-09 0:24 ` |SUCCESS| " dpdklab
@ 2025-07-09 1:07 ` dpdklab
2025-07-09 1:08 ` dpdklab
` (11 subsequent siblings)
23 siblings, 0 replies; 24+ messages in thread
From: dpdklab @ 2025-07-09 1:07 UTC (permalink / raw)
To: Test Report; +Cc: dpdk-test-reports
Test-Label: iol-compile-amd64-testing
Test-Status: WARNING
http://dpdk.org/patch/154986
_Testing issues_
Submitter: Vanshika Shukla <vanshika.shukla@nxp.com>
Date: Thursday, July 03 2025 05:25:58
DPDK git baseline: Repo:dpdk
Branch: master
CommitID:ba982f9a1ca9b96ed0394b764f1523d482e963a2
154979-154986 --> testing issues
Upstream job id: Generic-DPDK-Compile-Meson#406848
Test environment and result as below:
+-------------------------------+--------------------+-------------------+------------------+-------------------+
| Environment | dpdk_meson_compile | dpdk_compile_spdk | dpdk_compile_ovs | dpdk_msvc_compile |
+===============================+====================+===================+==================+===================+
| CentOS Stream 9 | PASS | PASS | SKIPPED | SKIPPED |
+-------------------------------+--------------------+-------------------+------------------+-------------------+
| Debian GNU/Linux 12 | PASS | PASS | SKIPPED | SKIPPED |
+-------------------------------+--------------------+-------------------+------------------+-------------------+
| CentOS Stream 10 | PASS | SKIPPED | SKIPPED | SKIPPED |
+-------------------------------+--------------------+-------------------+------------------+-------------------+
| Fedora Linux 40 | PASS | PASS | SKIPPED | SKIPPED |
+-------------------------------+--------------------+-------------------+------------------+-------------------+
| Fedora Linux 41 | PASS | PASS | PASS | SKIPPED |
+-------------------------------+--------------------+-------------------+------------------+-------------------+
| openSUSE Leap 15.6 | PEND | SKIPPED | SKIPPED | SKIPPED |
+-------------------------------+--------------------+-------------------+------------------+-------------------+
| Ubuntu 24.04 | PASS | PASS | PASS | SKIPPED |
+-------------------------------+--------------------+-------------------+------------------+-------------------+
| Ubuntu 22.04 | PASS | PASS | SKIPPED | SKIPPED |
+-------------------------------+--------------------+-------------------+------------------+-------------------+
| Ubuntu 20.04 | PASS | SKIPPED | SKIPPED | SKIPPED |
+-------------------------------+--------------------+-------------------+------------------+-------------------+
| FreeBSD 14.2 | PASS | SKIPPED | SKIPPED | SKIPPED |
+-------------------------------+--------------------+-------------------+------------------+-------------------+
| Red Hat Enterprise Linux 9.5 | PASS | SKIPPED | SKIPPED | SKIPPED |
+-------------------------------+--------------------+-------------------+------------------+-------------------+
| Alpine Linux 3.22.0 | PASS | SKIPPED | SKIPPED | SKIPPED |
+-------------------------------+--------------------+-------------------+------------------+-------------------+
| Red Hat Enterprise Linux 8.10 | PASS | SKIPPED | SKIPPED | SKIPPED |
+-------------------------------+--------------------+-------------------+------------------+-------------------+
| Windows Server 2022 | SKIPPED | SKIPPED | SKIPPED | PASS |
+-------------------------------+--------------------+-------------------+------------------+-------------------+
CentOS Stream 9
Kernel: 5.15
Compiler: gcc gcc (GCC) 11.5.0 20240719 (Red Hat 11.5.0-7)
Debian GNU/Linux 12
Kernel: 5.15
Compiler: gcc gcc (Debian 12.2.0-14+deb12u1) 12.2.0
CentOS Stream 10
Kernel: 5.15
Compiler: gcc gcc (GCC) 14.2.1 20250110 (Red Hat 14.2.1-8)
Fedora Linux 40
Kernel: 5.15
Compiler: clang gcc (GCC) 14.2.1 20240912 (Red Hat 14.2.1-3)
Fedora Linux 41
Kernel: 5.15
Compiler: clang gcc (GCC) 14.3.1 20250523 (Red Hat 14.3.1-1)
openSUSE Leap 15.6
Kernel: 5.15
Compiler: gcc gcc (SUSE Linux) 7.5.0
Ubuntu 24.04
Kernel: 5.15
Compiler: gcc gcc (Ubuntu 13.3.0-6ubuntu2~24.04) 13.3.0
Ubuntu 22.04
Kernel: 5.15
Compiler: gcc gcc (Ubuntu 11.4.0-1ubuntu1~22.04) 11.4.0
Ubuntu 20.04
Kernel: 5.15
Compiler: gcc gcc (Ubuntu 9.4.0-1ubuntu1~20.04.2) 9.4.0
FreeBSD 14.2
Kernel: 14.2-RELEASE
Compiler: clang 18.1.6
Red Hat Enterprise Linux 9.5
Kernel: 5.15
Compiler: gcc gcc (GCC) 11.5.0 20240719 (Red Hat 11.5.0-2)
Alpine Linux 3.22.0
Kernel: 5.15
Compiler: gcc gcc (Alpine 14.2.0) 14.2.0
Red Hat Enterprise Linux 8.10
Kernel: 5.15
Compiler: gcc gcc (GCC) 8.5.0 20210514 (Red Hat 8.5.0-22)
Windows Server 2022
Kernel: 10.0.20348.2031
Compiler: clang 15.0.7, gcc 14.1.0 (MinGW), and MSVC VS 19.39.33521
To view detailed results, visit:
https://lab.dpdk.org/results/dashboard/patchsets/33576/
UNH-IOL DPDK Community Lab
To manage your email subscriptions, visit:
https://lab.dpdk.org/results/dashboard/preferences/subscriptions/
^ permalink raw reply [flat|nested] 24+ messages in thread
* |WARNING| pw154979-154986 [PATCH] [v7,8/8] bus/dpaa: optimize qman e
[not found] <20250703052558.3700573-9-vanshika.shukla@nxp.com>
` (11 preceding siblings ...)
2025-07-09 1:07 ` |WARNING| " dpdklab
@ 2025-07-09 1:08 ` dpdklab
2025-07-09 1:08 ` dpdklab
` (10 subsequent siblings)
23 siblings, 0 replies; 24+ messages in thread
From: dpdklab @ 2025-07-09 1:08 UTC (permalink / raw)
To: Test Report; +Cc: dpdk-test-reports
Test-Label: iol-compile-amd64-testing
Test-Status: WARNING
http://dpdk.org/patch/154986
_Testing issues_
Submitter: Vanshika Shukla <vanshika.shukla@nxp.com>
Date: Thursday, July 03 2025 05:25:58
DPDK git baseline: Repo:dpdk
Branch: master
CommitID:ba982f9a1ca9b96ed0394b764f1523d482e963a2
154979-154986 --> testing issues
Upstream job id: Generic-DPDK-Compile-Meson#406850
Test environment and result as below:
+-------------------------------+--------------------+-------------------+------------------+-------------------+
| Environment | dpdk_meson_compile | dpdk_compile_spdk | dpdk_compile_ovs | dpdk_msvc_compile |
+===============================+====================+===================+==================+===================+
| CentOS Stream 9 | PASS | PASS | SKIPPED | SKIPPED |
+-------------------------------+--------------------+-------------------+------------------+-------------------+
| Debian GNU/Linux 12 | PASS | PASS | SKIPPED | SKIPPED |
+-------------------------------+--------------------+-------------------+------------------+-------------------+
| CentOS Stream 10 | PASS | SKIPPED | SKIPPED | SKIPPED |
+-------------------------------+--------------------+-------------------+------------------+-------------------+
| Fedora Linux 40 | PASS | PASS | SKIPPED | SKIPPED |
+-------------------------------+--------------------+-------------------+------------------+-------------------+
| Fedora Linux 41 | PASS | PASS | PASS | SKIPPED |
+-------------------------------+--------------------+-------------------+------------------+-------------------+
| openSUSE Leap 15.6 | PEND | SKIPPED | SKIPPED | SKIPPED |
+-------------------------------+--------------------+-------------------+------------------+-------------------+
| Ubuntu 24.04 | PASS | PASS | PASS | SKIPPED |
+-------------------------------+--------------------+-------------------+------------------+-------------------+
| Ubuntu 22.04 | PASS | PASS | SKIPPED | SKIPPED |
+-------------------------------+--------------------+-------------------+------------------+-------------------+
| Ubuntu 20.04 | PASS | SKIPPED | SKIPPED | SKIPPED |
+-------------------------------+--------------------+-------------------+------------------+-------------------+
| FreeBSD 14.2 | PASS | SKIPPED | SKIPPED | SKIPPED |
+-------------------------------+--------------------+-------------------+------------------+-------------------+
| Red Hat Enterprise Linux 9.5 | PASS | SKIPPED | SKIPPED | SKIPPED |
+-------------------------------+--------------------+-------------------+------------------+-------------------+
| Alpine Linux 3.22.0 | PASS | SKIPPED | SKIPPED | SKIPPED |
+-------------------------------+--------------------+-------------------+------------------+-------------------+
| Red Hat Enterprise Linux 8.10 | PASS | SKIPPED | SKIPPED | SKIPPED |
+-------------------------------+--------------------+-------------------+------------------+-------------------+
| Windows Server 2022 | SKIPPED | SKIPPED | SKIPPED | PASS |
+-------------------------------+--------------------+-------------------+------------------+-------------------+
CentOS Stream 9
Kernel: 5.15
Compiler: gcc gcc (GCC) 11.5.0 20240719 (Red Hat 11.5.0-7)
Debian GNU/Linux 12
Kernel: 5.15
Compiler: gcc gcc (Debian 12.2.0-14+deb12u1) 12.2.0
CentOS Stream 10
Kernel: 5.15
Compiler: gcc gcc (GCC) 14.2.1 20250110 (Red Hat 14.2.1-8)
Fedora Linux 40
Kernel: 5.15
Compiler: clang gcc (GCC) 14.2.1 20240912 (Red Hat 14.2.1-3)
Fedora Linux 41
Kernel: 5.15
Compiler: clang gcc (GCC) 14.3.1 20250523 (Red Hat 14.3.1-1)
openSUSE Leap 15.6
Kernel: 5.15
Compiler: gcc gcc (SUSE Linux) 7.5.0
Ubuntu 24.04
Kernel: 5.15
Compiler: gcc gcc (Ubuntu 13.3.0-6ubuntu2~24.04) 13.3.0
Ubuntu 22.04
Kernel: 5.15
Compiler: gcc gcc (Ubuntu 11.4.0-1ubuntu1~22.04) 11.4.0
Ubuntu 20.04
Kernel: 5.15
Compiler: gcc gcc (Ubuntu 9.4.0-1ubuntu1~20.04.2) 9.4.0
FreeBSD 14.2
Kernel: 14.2-RELEASE
Compiler: clang 18.1.6
Red Hat Enterprise Linux 9.5
Kernel: 5.15
Compiler: gcc gcc (GCC) 11.5.0 20240719 (Red Hat 11.5.0-2)
Alpine Linux 3.22.0
Kernel: 5.15
Compiler: gcc gcc (Alpine 14.2.0) 14.2.0
Red Hat Enterprise Linux 8.10
Kernel: 5.15
Compiler: gcc gcc (GCC) 8.5.0 20210514 (Red Hat 8.5.0-22)
Windows Server 2022
Kernel: 10.0.20348.2031
Compiler: clang 15.0.7, gcc 14.1.0 (MinGW), and MSVC VS 19.39.33521
To view detailed results, visit:
https://lab.dpdk.org/results/dashboard/patchsets/33576/
UNH-IOL DPDK Community Lab
To manage your email subscriptions, visit:
https://lab.dpdk.org/results/dashboard/preferences/subscriptions/
^ permalink raw reply [flat|nested] 24+ messages in thread
* |WARNING| pw154979-154986 [PATCH] [v7,8/8] bus/dpaa: optimize qman e
[not found] <20250703052558.3700573-9-vanshika.shukla@nxp.com>
` (12 preceding siblings ...)
2025-07-09 1:08 ` dpdklab
@ 2025-07-09 1:08 ` dpdklab
2025-07-09 1:08 ` dpdklab
` (9 subsequent siblings)
23 siblings, 0 replies; 24+ messages in thread
From: dpdklab @ 2025-07-09 1:08 UTC (permalink / raw)
To: Test Report; +Cc: dpdk-test-reports
Test-Label: iol-compile-amd64-testing
Test-Status: WARNING
http://dpdk.org/patch/154986
_Testing issues_
Submitter: Vanshika Shukla <vanshika.shukla@nxp.com>
Date: Thursday, July 03 2025 05:25:58
DPDK git baseline: Repo:dpdk
Branch: master
CommitID:ba982f9a1ca9b96ed0394b764f1523d482e963a2
154979-154986 --> testing issues
Upstream job id: Generic-DPDK-Compile-Meson#406843
Test environment and result as below:
+-------------------------------+--------------------+-------------------+------------------+-------------------+
| Environment | dpdk_meson_compile | dpdk_compile_spdk | dpdk_compile_ovs | dpdk_msvc_compile |
+===============================+====================+===================+==================+===================+
| CentOS Stream 9 | PASS | PASS | SKIPPED | SKIPPED |
+-------------------------------+--------------------+-------------------+------------------+-------------------+
| Debian GNU/Linux 12 | PASS | PASS | SKIPPED | SKIPPED |
+-------------------------------+--------------------+-------------------+------------------+-------------------+
| CentOS Stream 10 | PASS | SKIPPED | SKIPPED | SKIPPED |
+-------------------------------+--------------------+-------------------+------------------+-------------------+
| Fedora Linux 40 | PASS | PASS | SKIPPED | SKIPPED |
+-------------------------------+--------------------+-------------------+------------------+-------------------+
| Fedora Linux 41 | PASS | PASS | PASS | SKIPPED |
+-------------------------------+--------------------+-------------------+------------------+-------------------+
| openSUSE Leap 15.6 | PEND | SKIPPED | SKIPPED | SKIPPED |
+-------------------------------+--------------------+-------------------+------------------+-------------------+
| Ubuntu 24.04 | PASS | PASS | PASS | SKIPPED |
+-------------------------------+--------------------+-------------------+------------------+-------------------+
| Ubuntu 22.04 | PASS | PASS | SKIPPED | SKIPPED |
+-------------------------------+--------------------+-------------------+------------------+-------------------+
| Ubuntu 20.04 | PASS | SKIPPED | SKIPPED | SKIPPED |
+-------------------------------+--------------------+-------------------+------------------+-------------------+
| FreeBSD 14.2 | PASS | SKIPPED | SKIPPED | SKIPPED |
+-------------------------------+--------------------+-------------------+------------------+-------------------+
| Red Hat Enterprise Linux 9.5 | PASS | SKIPPED | SKIPPED | SKIPPED |
+-------------------------------+--------------------+-------------------+------------------+-------------------+
| Alpine Linux 3.22.0 | PASS | SKIPPED | SKIPPED | SKIPPED |
+-------------------------------+--------------------+-------------------+------------------+-------------------+
| Red Hat Enterprise Linux 8.10 | PASS | SKIPPED | SKIPPED | SKIPPED |
+-------------------------------+--------------------+-------------------+------------------+-------------------+
| Windows Server 2022 | SKIPPED | SKIPPED | SKIPPED | PASS |
+-------------------------------+--------------------+-------------------+------------------+-------------------+
CentOS Stream 9
Kernel: 5.15
Compiler: gcc gcc (GCC) 11.5.0 20240719 (Red Hat 11.5.0-7)
Debian GNU/Linux 12
Kernel: 5.15
Compiler: gcc gcc (Debian 12.2.0-14+deb12u1) 12.2.0
CentOS Stream 10
Kernel: 5.15
Compiler: gcc gcc (GCC) 14.2.1 20250110 (Red Hat 14.2.1-8)
Fedora Linux 40
Kernel: 5.15
Compiler: clang gcc (GCC) 14.2.1 20240912 (Red Hat 14.2.1-3)
Fedora Linux 41
Kernel: 5.15
Compiler: clang gcc (GCC) 14.3.1 20250523 (Red Hat 14.3.1-1)
openSUSE Leap 15.6
Kernel: 5.15
Compiler: gcc gcc (SUSE Linux) 7.5.0
Ubuntu 24.04
Kernel: 5.15
Compiler: gcc gcc (Ubuntu 13.3.0-6ubuntu2~24.04) 13.3.0
Ubuntu 22.04
Kernel: 5.15
Compiler: gcc gcc (Ubuntu 11.4.0-1ubuntu1~22.04) 11.4.0
Ubuntu 20.04
Kernel: 5.15
Compiler: gcc gcc (Ubuntu 9.4.0-1ubuntu1~20.04.2) 9.4.0
FreeBSD 14.2
Kernel: 14.2-RELEASE
Compiler: clang 18.1.6
Red Hat Enterprise Linux 9.5
Kernel: 5.15
Compiler: gcc gcc (GCC) 11.5.0 20240719 (Red Hat 11.5.0-2)
Alpine Linux 3.22.0
Kernel: 5.15
Compiler: gcc gcc (Alpine 14.2.0) 14.2.0
Red Hat Enterprise Linux 8.10
Kernel: 5.15
Compiler: gcc gcc (GCC) 8.5.0 20210514 (Red Hat 8.5.0-22)
Windows Server 2022
Kernel: 10.0.20348.2031
Compiler: clang 15.0.7, gcc 14.1.0 (MinGW), and MSVC VS 19.39.33521
To view detailed results, visit:
https://lab.dpdk.org/results/dashboard/patchsets/33576/
UNH-IOL DPDK Community Lab
To manage your email subscriptions, visit:
https://lab.dpdk.org/results/dashboard/preferences/subscriptions/
^ permalink raw reply [flat|nested] 24+ messages in thread
* |WARNING| pw154979-154986 [PATCH] [v7,8/8] bus/dpaa: optimize qman e
[not found] <20250703052558.3700573-9-vanshika.shukla@nxp.com>
` (13 preceding siblings ...)
2025-07-09 1:08 ` dpdklab
@ 2025-07-09 1:08 ` dpdklab
2025-07-09 1:08 ` dpdklab
` (8 subsequent siblings)
23 siblings, 0 replies; 24+ messages in thread
From: dpdklab @ 2025-07-09 1:08 UTC (permalink / raw)
To: Test Report; +Cc: dpdk-test-reports
Test-Label: iol-compile-amd64-testing
Test-Status: WARNING
http://dpdk.org/patch/154986
_Testing issues_
Submitter: Vanshika Shukla <vanshika.shukla@nxp.com>
Date: Thursday, July 03 2025 05:25:58
DPDK git baseline: Repo:dpdk
Branch: master
CommitID:ba982f9a1ca9b96ed0394b764f1523d482e963a2
154979-154986 --> testing issues
Upstream job id: Generic-DPDK-Compile-Meson#406846
Test environment and result as below:
+-------------------------------+--------------------+-------------------+------------------+-------------------+
| Environment | dpdk_meson_compile | dpdk_compile_spdk | dpdk_compile_ovs | dpdk_msvc_compile |
+===============================+====================+===================+==================+===================+
| CentOS Stream 9 | PASS | PASS | SKIPPED | SKIPPED |
+-------------------------------+--------------------+-------------------+------------------+-------------------+
| Debian GNU/Linux 12 | PASS | PASS | SKIPPED | SKIPPED |
+-------------------------------+--------------------+-------------------+------------------+-------------------+
| CentOS Stream 10 | PASS | SKIPPED | SKIPPED | SKIPPED |
+-------------------------------+--------------------+-------------------+------------------+-------------------+
| Fedora Linux 40 | PASS | PASS | SKIPPED | SKIPPED |
+-------------------------------+--------------------+-------------------+------------------+-------------------+
| Fedora Linux 41 | PASS | PASS | PASS | SKIPPED |
+-------------------------------+--------------------+-------------------+------------------+-------------------+
| openSUSE Leap 15.6 | PEND | SKIPPED | SKIPPED | SKIPPED |
+-------------------------------+--------------------+-------------------+------------------+-------------------+
| Ubuntu 24.04 | PASS | PASS | PASS | SKIPPED |
+-------------------------------+--------------------+-------------------+------------------+-------------------+
| Ubuntu 22.04 | PASS | PASS | SKIPPED | SKIPPED |
+-------------------------------+--------------------+-------------------+------------------+-------------------+
| Ubuntu 20.04 | PASS | SKIPPED | SKIPPED | SKIPPED |
+-------------------------------+--------------------+-------------------+------------------+-------------------+
| FreeBSD 14.2 | PASS | SKIPPED | SKIPPED | SKIPPED |
+-------------------------------+--------------------+-------------------+------------------+-------------------+
| Red Hat Enterprise Linux 9.5 | PASS | SKIPPED | SKIPPED | SKIPPED |
+-------------------------------+--------------------+-------------------+------------------+-------------------+
| Alpine Linux 3.22.0 | PASS | SKIPPED | SKIPPED | SKIPPED |
+-------------------------------+--------------------+-------------------+------------------+-------------------+
| Red Hat Enterprise Linux 8.10 | PASS | SKIPPED | SKIPPED | SKIPPED |
+-------------------------------+--------------------+-------------------+------------------+-------------------+
| Windows Server 2022 | SKIPPED | SKIPPED | SKIPPED | PASS |
+-------------------------------+--------------------+-------------------+------------------+-------------------+
CentOS Stream 9
Kernel: 5.15
Compiler: gcc gcc (GCC) 11.5.0 20240719 (Red Hat 11.5.0-7)
Debian GNU/Linux 12
Kernel: 5.15
Compiler: gcc gcc (Debian 12.2.0-14+deb12u1) 12.2.0
CentOS Stream 10
Kernel: 5.15
Compiler: gcc gcc (GCC) 14.2.1 20250110 (Red Hat 14.2.1-8)
Fedora Linux 40
Kernel: 5.15
Compiler: clang gcc (GCC) 14.2.1 20240912 (Red Hat 14.2.1-3)
Fedora Linux 41
Kernel: 5.15
Compiler: clang gcc (GCC) 14.3.1 20250523 (Red Hat 14.3.1-1)
openSUSE Leap 15.6
Kernel: 5.15
Compiler: gcc gcc (SUSE Linux) 7.5.0
Ubuntu 24.04
Kernel: 5.15
Compiler: gcc gcc (Ubuntu 13.3.0-6ubuntu2~24.04) 13.3.0
Ubuntu 22.04
Kernel: 5.15
Compiler: gcc gcc (Ubuntu 11.4.0-1ubuntu1~22.04) 11.4.0
Ubuntu 20.04
Kernel: 5.15
Compiler: gcc gcc (Ubuntu 9.4.0-1ubuntu1~20.04.2) 9.4.0
FreeBSD 14.2
Kernel: 14.2-RELEASE
Compiler: clang 18.1.6
Red Hat Enterprise Linux 9.5
Kernel: 5.15
Compiler: gcc gcc (GCC) 11.5.0 20240719 (Red Hat 11.5.0-2)
Alpine Linux 3.22.0
Kernel: 5.15
Compiler: gcc gcc (Alpine 14.2.0) 14.2.0
Red Hat Enterprise Linux 8.10
Kernel: 5.15
Compiler: gcc gcc (GCC) 8.5.0 20210514 (Red Hat 8.5.0-22)
Windows Server 2022
Kernel: 10.0.20348.2031
Compiler: clang 15.0.7, gcc 14.1.0 (MinGW), and MSVC VS 19.39.33521
To view detailed results, visit:
https://lab.dpdk.org/results/dashboard/patchsets/33576/
UNH-IOL DPDK Community Lab
To manage your email subscriptions, visit:
https://lab.dpdk.org/results/dashboard/preferences/subscriptions/
^ permalink raw reply [flat|nested] 24+ messages in thread
* |WARNING| pw154979-154986 [PATCH] [v7,8/8] bus/dpaa: optimize qman e
[not found] <20250703052558.3700573-9-vanshika.shukla@nxp.com>
` (14 preceding siblings ...)
2025-07-09 1:08 ` dpdklab
@ 2025-07-09 1:08 ` dpdklab
2025-07-09 1:08 ` dpdklab
` (7 subsequent siblings)
23 siblings, 0 replies; 24+ messages in thread
From: dpdklab @ 2025-07-09 1:08 UTC (permalink / raw)
To: Test Report; +Cc: dpdk-test-reports
Test-Label: iol-compile-amd64-testing
Test-Status: WARNING
http://dpdk.org/patch/154986
_Testing issues_
Submitter: Vanshika Shukla <vanshika.shukla@nxp.com>
Date: Thursday, July 03 2025 05:25:58
DPDK git baseline: Repo:dpdk
Branch: master
CommitID:ba982f9a1ca9b96ed0394b764f1523d482e963a2
154979-154986 --> testing issues
Upstream job id: Generic-DPDK-Compile-Meson#406845
Test environment and result as below:
+-------------------------------+--------------------+-------------------+------------------+-------------------+
| Environment | dpdk_meson_compile | dpdk_compile_spdk | dpdk_compile_ovs | dpdk_msvc_compile |
+===============================+====================+===================+==================+===================+
| CentOS Stream 9 | PASS | PASS | SKIPPED | SKIPPED |
+-------------------------------+--------------------+-------------------+------------------+-------------------+
| Debian GNU/Linux 12 | PASS | PASS | SKIPPED | SKIPPED |
+-------------------------------+--------------------+-------------------+------------------+-------------------+
| CentOS Stream 10 | PASS | SKIPPED | SKIPPED | SKIPPED |
+-------------------------------+--------------------+-------------------+------------------+-------------------+
| Fedora Linux 40 | PASS | PASS | SKIPPED | SKIPPED |
+-------------------------------+--------------------+-------------------+------------------+-------------------+
| Fedora Linux 41 | PASS | PASS | PASS | SKIPPED |
+-------------------------------+--------------------+-------------------+------------------+-------------------+
| openSUSE Leap 15.6 | PEND | SKIPPED | SKIPPED | SKIPPED |
+-------------------------------+--------------------+-------------------+------------------+-------------------+
| Ubuntu 24.04 | PASS | PASS | PASS | SKIPPED |
+-------------------------------+--------------------+-------------------+------------------+-------------------+
| Ubuntu 22.04 | PASS | PASS | SKIPPED | SKIPPED |
+-------------------------------+--------------------+-------------------+------------------+-------------------+
| Ubuntu 20.04 | PASS | SKIPPED | SKIPPED | SKIPPED |
+-------------------------------+--------------------+-------------------+------------------+-------------------+
| FreeBSD 14.2 | PASS | SKIPPED | SKIPPED | SKIPPED |
+-------------------------------+--------------------+-------------------+------------------+-------------------+
| Red Hat Enterprise Linux 9.5 | PASS | SKIPPED | SKIPPED | SKIPPED |
+-------------------------------+--------------------+-------------------+------------------+-------------------+
| Alpine Linux 3.22.0 | PASS | SKIPPED | SKIPPED | SKIPPED |
+-------------------------------+--------------------+-------------------+------------------+-------------------+
| Red Hat Enterprise Linux 8.10 | PASS | SKIPPED | SKIPPED | SKIPPED |
+-------------------------------+--------------------+-------------------+------------------+-------------------+
| Windows Server 2022 | SKIPPED | SKIPPED | SKIPPED | PASS |
+-------------------------------+--------------------+-------------------+------------------+-------------------+
CentOS Stream 9
Kernel: 5.15
Compiler: gcc gcc (GCC) 11.5.0 20240719 (Red Hat 11.5.0-7)
Debian GNU/Linux 12
Kernel: 5.15
Compiler: gcc gcc (Debian 12.2.0-14+deb12u1) 12.2.0
CentOS Stream 10
Kernel: 5.15
Compiler: gcc gcc (GCC) 14.2.1 20250110 (Red Hat 14.2.1-8)
Fedora Linux 40
Kernel: 5.15
Compiler: clang gcc (GCC) 14.2.1 20240912 (Red Hat 14.2.1-3)
Fedora Linux 41
Kernel: 5.15
Compiler: clang gcc (GCC) 14.3.1 20250523 (Red Hat 14.3.1-1)
openSUSE Leap 15.6
Kernel: 5.15
Compiler: gcc gcc (SUSE Linux) 7.5.0
Ubuntu 24.04
Kernel: 5.15
Compiler: gcc gcc (Ubuntu 13.3.0-6ubuntu2~24.04) 13.3.0
Ubuntu 22.04
Kernel: 5.15
Compiler: gcc gcc (Ubuntu 11.4.0-1ubuntu1~22.04) 11.4.0
Ubuntu 20.04
Kernel: 5.15
Compiler: gcc gcc (Ubuntu 9.4.0-1ubuntu1~20.04.2) 9.4.0
FreeBSD 14.2
Kernel: 14.2-RELEASE
Compiler: clang 18.1.6
Red Hat Enterprise Linux 9.5
Kernel: 5.15
Compiler: gcc gcc (GCC) 11.5.0 20240719 (Red Hat 11.5.0-2)
Alpine Linux 3.22.0
Kernel: 5.15
Compiler: gcc gcc (Alpine 14.2.0) 14.2.0
Red Hat Enterprise Linux 8.10
Kernel: 5.15
Compiler: gcc gcc (GCC) 8.5.0 20210514 (Red Hat 8.5.0-22)
Windows Server 2022
Kernel: 10.0.20348.2031
Compiler: clang 15.0.7, gcc 14.1.0 (MinGW), and MSVC VS 19.39.33521
To view detailed results, visit:
https://lab.dpdk.org/results/dashboard/patchsets/33576/
UNH-IOL DPDK Community Lab
To manage your email subscriptions, visit:
https://lab.dpdk.org/results/dashboard/preferences/subscriptions/
^ permalink raw reply [flat|nested] 24+ messages in thread
* |WARNING| pw154979-154986 [PATCH] [v7,8/8] bus/dpaa: optimize qman e
[not found] <20250703052558.3700573-9-vanshika.shukla@nxp.com>
` (15 preceding siblings ...)
2025-07-09 1:08 ` dpdklab
@ 2025-07-09 1:08 ` dpdklab
2025-07-09 1:33 ` |SUCCESS| " dpdklab
` (6 subsequent siblings)
23 siblings, 0 replies; 24+ messages in thread
From: dpdklab @ 2025-07-09 1:08 UTC (permalink / raw)
To: Test Report; +Cc: dpdk-test-reports
Test-Label: iol-compile-amd64-testing
Test-Status: WARNING
http://dpdk.org/patch/154986
_Testing issues_
Submitter: Vanshika Shukla <vanshika.shukla@nxp.com>
Date: Thursday, July 03 2025 05:25:58
DPDK git baseline: Repo:dpdk
Branch: master
CommitID:ba982f9a1ca9b96ed0394b764f1523d482e963a2
154979-154986 --> testing issues
Upstream job id: Generic-DPDK-Compile-Meson#406851
Test environment and result as below:
+-------------------------------+--------------------+-------------------+------------------+-------------------+
| Environment | dpdk_meson_compile | dpdk_compile_spdk | dpdk_compile_ovs | dpdk_msvc_compile |
+===============================+====================+===================+==================+===================+
| CentOS Stream 9 | PASS | PASS | SKIPPED | SKIPPED |
+-------------------------------+--------------------+-------------------+------------------+-------------------+
| Debian GNU/Linux 12 | PASS | PASS | SKIPPED | SKIPPED |
+-------------------------------+--------------------+-------------------+------------------+-------------------+
| CentOS Stream 10 | PASS | SKIPPED | SKIPPED | SKIPPED |
+-------------------------------+--------------------+-------------------+------------------+-------------------+
| Fedora Linux 40 | PASS | PASS | SKIPPED | SKIPPED |
+-------------------------------+--------------------+-------------------+------------------+-------------------+
| Fedora Linux 41 | PASS | PASS | PASS | SKIPPED |
+-------------------------------+--------------------+-------------------+------------------+-------------------+
| openSUSE Leap 15.6 | PEND | SKIPPED | SKIPPED | SKIPPED |
+-------------------------------+--------------------+-------------------+------------------+-------------------+
| Ubuntu 24.04 | PASS | PASS | PASS | SKIPPED |
+-------------------------------+--------------------+-------------------+------------------+-------------------+
| Ubuntu 22.04 | PASS | PASS | SKIPPED | SKIPPED |
+-------------------------------+--------------------+-------------------+------------------+-------------------+
| Ubuntu 20.04 | PASS | SKIPPED | SKIPPED | SKIPPED |
+-------------------------------+--------------------+-------------------+------------------+-------------------+
| FreeBSD 14.2 | PASS | SKIPPED | SKIPPED | SKIPPED |
+-------------------------------+--------------------+-------------------+------------------+-------------------+
| Red Hat Enterprise Linux 9.5 | PASS | SKIPPED | SKIPPED | SKIPPED |
+-------------------------------+--------------------+-------------------+------------------+-------------------+
| Alpine Linux 3.22.0 | PASS | SKIPPED | SKIPPED | SKIPPED |
+-------------------------------+--------------------+-------------------+------------------+-------------------+
| Red Hat Enterprise Linux 8.10 | PASS | SKIPPED | SKIPPED | SKIPPED |
+-------------------------------+--------------------+-------------------+------------------+-------------------+
| Windows Server 2022 | SKIPPED | SKIPPED | SKIPPED | PASS |
+-------------------------------+--------------------+-------------------+------------------+-------------------+
CentOS Stream 9
Kernel: 5.15
Compiler: gcc gcc (GCC) 11.5.0 20240719 (Red Hat 11.5.0-7)
Debian GNU/Linux 12
Kernel: 5.15
Compiler: gcc gcc (Debian 12.2.0-14+deb12u1) 12.2.0
CentOS Stream 10
Kernel: 5.15
Compiler: gcc gcc (GCC) 14.2.1 20250110 (Red Hat 14.2.1-8)
Fedora Linux 40
Kernel: 5.15
Compiler: clang gcc (GCC) 14.2.1 20240912 (Red Hat 14.2.1-3)
Fedora Linux 41
Kernel: 5.15
Compiler: clang gcc (GCC) 14.3.1 20250523 (Red Hat 14.3.1-1)
openSUSE Leap 15.6
Kernel: 5.15
Compiler: gcc gcc (SUSE Linux) 7.5.0
Ubuntu 24.04
Kernel: 5.15
Compiler: gcc gcc (Ubuntu 13.3.0-6ubuntu2~24.04) 13.3.0
Ubuntu 22.04
Kernel: 5.15
Compiler: gcc gcc (Ubuntu 11.4.0-1ubuntu1~22.04) 11.4.0
Ubuntu 20.04
Kernel: 5.15
Compiler: gcc gcc (Ubuntu 9.4.0-1ubuntu1~20.04.2) 9.4.0
FreeBSD 14.2
Kernel: 14.2-RELEASE
Compiler: clang 18.1.6
Red Hat Enterprise Linux 9.5
Kernel: 5.15
Compiler: gcc gcc (GCC) 11.5.0 20240719 (Red Hat 11.5.0-2)
Alpine Linux 3.22.0
Kernel: 5.15
Compiler: gcc gcc (Alpine 14.2.0) 14.2.0
Red Hat Enterprise Linux 8.10
Kernel: 5.15
Compiler: gcc gcc (GCC) 8.5.0 20210514 (Red Hat 8.5.0-22)
Windows Server 2022
Kernel: 10.0.20348.2031
Compiler: clang 15.0.7, gcc 14.1.0 (MinGW), and MSVC VS 19.39.33521
To view detailed results, visit:
https://lab.dpdk.org/results/dashboard/patchsets/33576/
UNH-IOL DPDK Community Lab
To manage your email subscriptions, visit:
https://lab.dpdk.org/results/dashboard/preferences/subscriptions/
^ permalink raw reply [flat|nested] 24+ messages in thread
* |SUCCESS| pw154979-154986 [PATCH] [v7,8/8] bus/dpaa: optimize qman e
[not found] <20250703052558.3700573-9-vanshika.shukla@nxp.com>
` (16 preceding siblings ...)
2025-07-09 1:08 ` dpdklab
@ 2025-07-09 1:33 ` dpdklab
2025-07-09 1:41 ` dpdklab
` (5 subsequent siblings)
23 siblings, 0 replies; 24+ messages in thread
From: dpdklab @ 2025-07-09 1:33 UTC (permalink / raw)
To: Test Report; +Cc: dpdk-test-reports
Test-Label: iol-unit-arm64-testing
Test-Status: SUCCESS
http://dpdk.org/patch/154986
_Testing PASS_
Submitter: Vanshika Shukla <vanshika.shukla@nxp.com>
Date: Thursday, July 03 2025 05:25:58
DPDK git baseline: Repo:dpdk
Branch: master
CommitID:ba982f9a1ca9b96ed0394b764f1523d482e963a2
154979-154986 --> testing pass
Upstream job id: Generic-Unit-Test-DPDK#353807
Test environment and result as below:
+------------------------------+--------------+------------------------------+---------------------------+----------------+
| Environment | lpm_autotest | cryptodev_sw_snow3g_autotest | cryptodev_sw_zuc_autotest | dpdk_unit_test |
+==============================+==============+==============================+===========================+================+
| Ubuntu 20.04 | PASS | SKIPPED | SKIPPED | PASS |
+------------------------------+--------------+------------------------------+---------------------------+----------------+
| Debian 12 (arm) | SKIPPED | PASS | PASS | SKIPPED |
+------------------------------+--------------+------------------------------+---------------------------+----------------+
| Fedora Linux 40 | SKIPPED | SKIPPED | SKIPPED | PASS |
+------------------------------+--------------+------------------------------+---------------------------+----------------+
| CentOS Stream 10 | SKIPPED | SKIPPED | SKIPPED | PASS |
+------------------------------+--------------+------------------------------+---------------------------+----------------+
| Fedora Linux 41 | SKIPPED | SKIPPED | SKIPPED | PASS |
+------------------------------+--------------+------------------------------+---------------------------+----------------+
| Debian GNU/Linux 12 | SKIPPED | SKIPPED | SKIPPED | PASS |
+------------------------------+--------------+------------------------------+---------------------------+----------------+
| CentOS Stream 9 | SKIPPED | SKIPPED | SKIPPED | PASS |
+------------------------------+--------------+------------------------------+---------------------------+----------------+
| Ubuntu 22.04 | SKIPPED | SKIPPED | SKIPPED | PASS |
+------------------------------+--------------+------------------------------+---------------------------+----------------+
| Red Hat Enterprise Linux 9.5 | SKIPPED | SKIPPED | SKIPPED | PASS |
+------------------------------+--------------+------------------------------+---------------------------+----------------+
| Ubuntu 24.04 | SKIPPED | SKIPPED | SKIPPED | PASS |
+------------------------------+--------------+------------------------------+---------------------------+----------------+
Ubuntu 20.04
Kernel: 5.4
Compiler: gcc gcc (Ubuntu 9.4.0-1ubuntu1~20.04.2) 9.4.0
Debian 12 (arm)
Kernel: Depends on container host
Compiler: gcc (Debian 12.2.0-14) 12.2.0
Fedora Linux 40
Kernel: 5.4
Compiler: clang gcc (GCC) 14.2.1 20240912 (Red Hat 14.2.1-3)
CentOS Stream 10
Kernel: 5.4
Compiler: gcc gcc (GCC) 14.2.1 20250110 (Red Hat 14.2.1-8)
Fedora Linux 41
Kernel: 5.4
Compiler: gcc gcc (GCC) 14.3.1 20250523 (Red Hat 14.3.1-1)
Debian GNU/Linux 12
Kernel: 5.4
Compiler: gcc gcc (Debian 12.2.0-14+deb12u1) 12.2.0
CentOS Stream 9
Kernel: 5.4
Compiler: gcc gcc (GCC) 11.5.0 20240719 (Red Hat 11.5.0-7)
Ubuntu 22.04
Kernel: 5.4
Compiler: gcc gcc (Ubuntu 11.4.0-1ubuntu1~22.04) 11.4.0
Red Hat Enterprise Linux 9.5
Kernel: 5.4
Compiler: gcc gcc (GCC) 11.5.0 20240719 (Red Hat 11.5.0-2)
Ubuntu 24.04
Kernel: 5.4
Compiler: gcc gcc (Ubuntu 13.3.0-6ubuntu2~24.04) 13.3.0
To view detailed results, visit:
https://lab.dpdk.org/results/dashboard/patchsets/33576/
UNH-IOL DPDK Community Lab
To manage your email subscriptions, visit:
https://lab.dpdk.org/results/dashboard/preferences/subscriptions/
^ permalink raw reply [flat|nested] 24+ messages in thread
* |SUCCESS| pw154979-154986 [PATCH] [v7,8/8] bus/dpaa: optimize qman e
[not found] <20250703052558.3700573-9-vanshika.shukla@nxp.com>
` (17 preceding siblings ...)
2025-07-09 1:33 ` |SUCCESS| " dpdklab
@ 2025-07-09 1:41 ` dpdklab
2025-07-09 1:41 ` |WARNING| " dpdklab
` (4 subsequent siblings)
23 siblings, 0 replies; 24+ messages in thread
From: dpdklab @ 2025-07-09 1:41 UTC (permalink / raw)
To: Test Report; +Cc: dpdk-test-reports
Test-Label: iol-abi-testing
Test-Status: SUCCESS
http://dpdk.org/patch/154986
_Testing PASS_
Submitter: Vanshika Shukla <vanshika.shukla@nxp.com>
Date: Thursday, July 03 2025 05:25:58
DPDK git baseline: Repo:dpdk
Branch: master
CommitID:ba982f9a1ca9b96ed0394b764f1523d482e963a2
154979-154986 --> testing pass
Upstream job id: Generic-DPDK-Compile-ABI#133590
Test environment and result as below:
+-------------------------------+----------+
| Environment | abi_test |
+===============================+==========+
| CentOS Stream 9 | PASS |
+-------------------------------+----------+
| Fedora Linux 40 | PASS |
+-------------------------------+----------+
| Debian GNU/Linux 12 | PASS |
+-------------------------------+----------+
| Fedora Linux 41 | PASS |
+-------------------------------+----------+
| Red Hat Enterprise Linux 8.10 | PASS |
+-------------------------------+----------+
| openSUSE Leap 15.6 | PASS |
+-------------------------------+----------+
| Red Hat Enterprise Linux 9.5 | PASS |
+-------------------------------+----------+
| Ubuntu 22.04 | PASS |
+-------------------------------+----------+
| CentOS Stream 10 | PASS |
+-------------------------------+----------+
| Ubuntu 24.04 | PASS |
+-------------------------------+----------+
CentOS Stream 9
Kernel: 5.15
Compiler: gcc gcc (GCC) 11.5.0 20240719 (Red Hat 11.5.0-7)
Fedora Linux 40
Kernel: 5.15
Compiler: gcc gcc (GCC) 14.2.1 20240912 (Red Hat 14.2.1-3)
Debian GNU/Linux 12
Kernel: 5.15
Compiler: gcc gcc (Debian 12.2.0-14+deb12u1) 12.2.0
Fedora Linux 41
Kernel: 5.15
Compiler: clang gcc (GCC) 14.3.1 20250523 (Red Hat 14.3.1-1)
Red Hat Enterprise Linux 8.10
Kernel: 5.15
Compiler: gcc gcc (GCC) 8.5.0 20210514 (Red Hat 8.5.0-22)
openSUSE Leap 15.6
Kernel: 5.15
Compiler: gcc gcc (SUSE Linux) 7.5.0
Red Hat Enterprise Linux 9.5
Kernel: 5.15
Compiler: gcc gcc (GCC) 11.5.0 20240719 (Red Hat 11.5.0-2)
Ubuntu 22.04
Kernel: 5.15
Compiler: gcc gcc (Ubuntu 11.4.0-1ubuntu1~22.04) 11.4.0
CentOS Stream 10
Kernel: 5.15
Compiler: gcc gcc (GCC) 14.2.1 20250110 (Red Hat 14.2.1-8)
Ubuntu 24.04
Kernel: 5.15
Compiler: gcc gcc (Ubuntu 13.3.0-6ubuntu2~24.04) 13.3.0
To view detailed results, visit:
https://lab.dpdk.org/results/dashboard/patchsets/33576/
UNH-IOL DPDK Community Lab
To manage your email subscriptions, visit:
https://lab.dpdk.org/results/dashboard/preferences/subscriptions/
^ permalink raw reply [flat|nested] 24+ messages in thread
* |WARNING| pw154979-154986 [PATCH] [v7,8/8] bus/dpaa: optimize qman e
[not found] <20250703052558.3700573-9-vanshika.shukla@nxp.com>
` (18 preceding siblings ...)
2025-07-09 1:41 ` dpdklab
@ 2025-07-09 1:41 ` dpdklab
2025-07-09 2:11 ` dpdklab
` (3 subsequent siblings)
23 siblings, 0 replies; 24+ messages in thread
From: dpdklab @ 2025-07-09 1:41 UTC (permalink / raw)
To: Test Report; +Cc: dpdk-test-reports
Test-Label: iol-compile-amd64-testing
Test-Status: WARNING
http://dpdk.org/patch/154986
_Testing issues_
Submitter: Vanshika Shukla <vanshika.shukla@nxp.com>
Date: Thursday, July 03 2025 05:25:58
DPDK git baseline: Repo:dpdk
Branch: master
CommitID:ba982f9a1ca9b96ed0394b764f1523d482e963a2
154979-154986 --> testing issues
Upstream job id: Generic-DPDK-Compile-Meson#406842
Test environment and result as below:
+-------------------------------+--------------------+-------------------+------------------+-------------------+
| Environment | dpdk_meson_compile | dpdk_compile_spdk | dpdk_compile_ovs | dpdk_msvc_compile |
+===============================+====================+===================+==================+===================+
| CentOS Stream 9 | PASS | PASS | SKIPPED | SKIPPED |
+-------------------------------+--------------------+-------------------+------------------+-------------------+
| Debian GNU/Linux 12 | PASS | PASS | SKIPPED | SKIPPED |
+-------------------------------+--------------------+-------------------+------------------+-------------------+
| CentOS Stream 10 | PASS | SKIPPED | SKIPPED | SKIPPED |
+-------------------------------+--------------------+-------------------+------------------+-------------------+
| Fedora Linux 40 | PASS | PASS | SKIPPED | SKIPPED |
+-------------------------------+--------------------+-------------------+------------------+-------------------+
| Fedora Linux 41 | PASS | PASS | PASS | SKIPPED |
+-------------------------------+--------------------+-------------------+------------------+-------------------+
| openSUSE Leap 15.6 | PASS | SKIPPED | SKIPPED | SKIPPED |
+-------------------------------+--------------------+-------------------+------------------+-------------------+
| Ubuntu 24.04 | PASS | PASS | PASS | SKIPPED |
+-------------------------------+--------------------+-------------------+------------------+-------------------+
| Ubuntu 22.04 | PASS | PASS | SKIPPED | SKIPPED |
+-------------------------------+--------------------+-------------------+------------------+-------------------+
| Ubuntu 20.04 | PASS | SKIPPED | SKIPPED | SKIPPED |
+-------------------------------+--------------------+-------------------+------------------+-------------------+
| FreeBSD 14.2 | PASS | SKIPPED | SKIPPED | SKIPPED |
+-------------------------------+--------------------+-------------------+------------------+-------------------+
| Red Hat Enterprise Linux 9.5 | PASS | SKIPPED | SKIPPED | SKIPPED |
+-------------------------------+--------------------+-------------------+------------------+-------------------+
| Alpine Linux 3.22.0 | PASS | SKIPPED | SKIPPED | SKIPPED |
+-------------------------------+--------------------+-------------------+------------------+-------------------+
| Red Hat Enterprise Linux 8.10 | PASS | SKIPPED | SKIPPED | SKIPPED |
+-------------------------------+--------------------+-------------------+------------------+-------------------+
| Windows Server 2022 | SKIPPED | SKIPPED | SKIPPED | PASS |
+-------------------------------+--------------------+-------------------+------------------+-------------------+
CentOS Stream 9
Kernel: 5.15
Compiler: gcc gcc (GCC) 11.5.0 20240719 (Red Hat 11.5.0-7)
Debian GNU/Linux 12
Kernel: 5.15
Compiler: gcc gcc (Debian 12.2.0-14+deb12u1) 12.2.0
CentOS Stream 10
Kernel: 5.15
Compiler: gcc gcc (GCC) 14.2.1 20250110 (Red Hat 14.2.1-8)
Fedora Linux 40
Kernel: 5.15
Compiler: clang gcc (GCC) 14.2.1 20240912 (Red Hat 14.2.1-3)
Fedora Linux 41
Kernel: 5.15
Compiler: clang gcc (GCC) 14.3.1 20250523 (Red Hat 14.3.1-1)
openSUSE Leap 15.6
Kernel: 5.15
Compiler: gcc gcc (SUSE Linux) 7.5.0
Ubuntu 24.04
Kernel: 5.15
Compiler: gcc gcc (Ubuntu 13.3.0-6ubuntu2~24.04) 13.3.0
Ubuntu 22.04
Kernel: 5.15
Compiler: gcc gcc (Ubuntu 11.4.0-1ubuntu1~22.04) 11.4.0
Ubuntu 20.04
Kernel: 5.15
Compiler: gcc gcc (Ubuntu 9.4.0-1ubuntu1~20.04.2) 9.4.0
FreeBSD 14.2
Kernel: 14.2-RELEASE
Compiler: clang 18.1.6
Red Hat Enterprise Linux 9.5
Kernel: 5.15
Compiler: gcc gcc (GCC) 11.5.0 20240719 (Red Hat 11.5.0-2)
Alpine Linux 3.22.0
Kernel: 5.15
Compiler: gcc gcc (Alpine 14.2.0) 14.2.0
Red Hat Enterprise Linux 8.10
Kernel: 5.15
Compiler: gcc gcc (GCC) 8.5.0 20210514 (Red Hat 8.5.0-22)
Windows Server 2022
Kernel: 10.0.20348.2031
Compiler: clang 15.0.7, gcc 14.1.0 (MinGW), and MSVC VS 19.39.33521
To view detailed results, visit:
https://lab.dpdk.org/results/dashboard/patchsets/33576/
UNH-IOL DPDK Community Lab
To manage your email subscriptions, visit:
https://lab.dpdk.org/results/dashboard/preferences/subscriptions/
^ permalink raw reply [flat|nested] 24+ messages in thread
* |WARNING| pw154979-154986 [PATCH] [v7,8/8] bus/dpaa: optimize qman e
[not found] <20250703052558.3700573-9-vanshika.shukla@nxp.com>
` (19 preceding siblings ...)
2025-07-09 1:41 ` |WARNING| " dpdklab
@ 2025-07-09 2:11 ` dpdklab
2025-07-09 2:58 ` dpdklab
` (2 subsequent siblings)
23 siblings, 0 replies; 24+ messages in thread
From: dpdklab @ 2025-07-09 2:11 UTC (permalink / raw)
To: Test Report; +Cc: dpdk-test-reports
Test-Label: iol-compile-amd64-testing
Test-Status: WARNING
http://dpdk.org/patch/154986
_Testing issues_
Submitter: Vanshika Shukla <vanshika.shukla@nxp.com>
Date: Thursday, July 03 2025 05:25:58
DPDK git baseline: Repo:dpdk
Branch: master
CommitID:ba982f9a1ca9b96ed0394b764f1523d482e963a2
154979-154986 --> testing issues
Upstream job id: Windows-Compile-DPDK-Native#29662
Test environment and result as below:
+-------------------------------+--------------------+-------------------+------------------+-------------------+-------------------------+
| Environment | dpdk_meson_compile | dpdk_compile_spdk | dpdk_compile_ovs | dpdk_msvc_compile | dpdk_llvm_clang_compile |
+===============================+====================+===================+==================+===================+=========================+
| CentOS Stream 9 | PASS | PASS | SKIPPED | SKIPPED | SKIPPED |
+-------------------------------+--------------------+-------------------+------------------+-------------------+-------------------------+
| Debian GNU/Linux 12 | PASS | PASS | SKIPPED | SKIPPED | SKIPPED |
+-------------------------------+--------------------+-------------------+------------------+-------------------+-------------------------+
| CentOS Stream 10 | PASS | SKIPPED | SKIPPED | SKIPPED | SKIPPED |
+-------------------------------+--------------------+-------------------+------------------+-------------------+-------------------------+
| Fedora Linux 40 | PASS | PASS | SKIPPED | SKIPPED | SKIPPED |
+-------------------------------+--------------------+-------------------+------------------+-------------------+-------------------------+
| Fedora Linux 41 | PASS | PASS | PASS | SKIPPED | SKIPPED |
+-------------------------------+--------------------+-------------------+------------------+-------------------+-------------------------+
| openSUSE Leap 15.6 | PASS | SKIPPED | SKIPPED | SKIPPED | SKIPPED |
+-------------------------------+--------------------+-------------------+------------------+-------------------+-------------------------+
| Ubuntu 24.04 | PASS | PASS | PASS | SKIPPED | SKIPPED |
+-------------------------------+--------------------+-------------------+------------------+-------------------+-------------------------+
| Ubuntu 22.04 | PASS | PASS | SKIPPED | SKIPPED | SKIPPED |
+-------------------------------+--------------------+-------------------+------------------+-------------------+-------------------------+
| Ubuntu 20.04 | PASS | SKIPPED | SKIPPED | SKIPPED | SKIPPED |
+-------------------------------+--------------------+-------------------+------------------+-------------------+-------------------------+
| FreeBSD 14.2 | PASS | SKIPPED | SKIPPED | SKIPPED | SKIPPED |
+-------------------------------+--------------------+-------------------+------------------+-------------------+-------------------------+
| Red Hat Enterprise Linux 9.5 | PASS | SKIPPED | SKIPPED | SKIPPED | SKIPPED |
+-------------------------------+--------------------+-------------------+------------------+-------------------+-------------------------+
| Alpine Linux 3.22.0 | PASS | SKIPPED | SKIPPED | SKIPPED | SKIPPED |
+-------------------------------+--------------------+-------------------+------------------+-------------------+-------------------------+
| Red Hat Enterprise Linux 8.10 | PASS | SKIPPED | SKIPPED | SKIPPED | SKIPPED |
+-------------------------------+--------------------+-------------------+------------------+-------------------+-------------------------+
| Windows Server 2022 | SKIPPED | SKIPPED | SKIPPED | PASS | PASS |
+-------------------------------+--------------------+-------------------+------------------+-------------------+-------------------------+
CentOS Stream 9
Kernel: 5.15
Compiler: gcc gcc (GCC) 11.5.0 20240719 (Red Hat 11.5.0-7)
Debian GNU/Linux 12
Kernel: 5.15
Compiler: gcc gcc (Debian 12.2.0-14+deb12u1) 12.2.0
CentOS Stream 10
Kernel: 5.15
Compiler: gcc gcc (GCC) 14.2.1 20250110 (Red Hat 14.2.1-8)
Fedora Linux 40
Kernel: 5.15
Compiler: clang gcc (GCC) 14.2.1 20240912 (Red Hat 14.2.1-3)
Fedora Linux 41
Kernel: 5.15
Compiler: clang gcc (GCC) 14.3.1 20250523 (Red Hat 14.3.1-1)
openSUSE Leap 15.6
Kernel: 5.15
Compiler: gcc gcc (SUSE Linux) 7.5.0
Ubuntu 24.04
Kernel: 5.15
Compiler: gcc gcc (Ubuntu 13.3.0-6ubuntu2~24.04) 13.3.0
Ubuntu 22.04
Kernel: 5.15
Compiler: gcc gcc (Ubuntu 11.4.0-1ubuntu1~22.04) 11.4.0
Ubuntu 20.04
Kernel: 5.15
Compiler: gcc gcc (Ubuntu 9.4.0-1ubuntu1~20.04.2) 9.4.0
FreeBSD 14.2
Kernel: 14.2-RELEASE
Compiler: clang 18.1.6
Red Hat Enterprise Linux 9.5
Kernel: 5.15
Compiler: gcc gcc (GCC) 11.5.0 20240719 (Red Hat 11.5.0-2)
Alpine Linux 3.22.0
Kernel: 5.15
Compiler: gcc gcc (Alpine 14.2.0) 14.2.0
Red Hat Enterprise Linux 8.10
Kernel: 5.15
Compiler: gcc gcc (GCC) 8.5.0 20210514 (Red Hat 8.5.0-22)
Windows Server 2022
Kernel: 10.0.20348.2031
Compiler: clang 15.0.7, gcc 14.1.0 (MinGW), and MSVC VS 19.39.33521
To view detailed results, visit:
https://lab.dpdk.org/results/dashboard/patchsets/33576/
UNH-IOL DPDK Community Lab
To manage your email subscriptions, visit:
https://lab.dpdk.org/results/dashboard/preferences/subscriptions/
^ permalink raw reply [flat|nested] 24+ messages in thread
* |WARNING| pw154979-154986 [PATCH] [v7,8/8] bus/dpaa: optimize qman e
[not found] <20250703052558.3700573-9-vanshika.shukla@nxp.com>
` (20 preceding siblings ...)
2025-07-09 2:11 ` dpdklab
@ 2025-07-09 2:58 ` dpdklab
2025-07-09 3:46 ` |SUCCESS| " dpdklab
2025-07-09 6:26 ` dpdklab
23 siblings, 0 replies; 24+ messages in thread
From: dpdklab @ 2025-07-09 2:58 UTC (permalink / raw)
To: Test Report; +Cc: dpdk-test-reports
Test-Label: iol-compile-amd64-testing
Test-Status: WARNING
http://dpdk.org/patch/154986
_Testing issues_
Submitter: Vanshika Shukla <vanshika.shukla@nxp.com>
Date: Thursday, July 03 2025 05:25:58
DPDK git baseline: Repo:dpdk
Branch: master
CommitID:ba982f9a1ca9b96ed0394b764f1523d482e963a2
154979-154986 --> testing issues
Upstream job id: Windows-Compile-DPDK-Native#29663
Test environment and result as below:
+-------------------------------+--------------------+-------------------+------------------+-------------------+-------------------------+----------------------+
| Environment | dpdk_meson_compile | dpdk_compile_spdk | dpdk_compile_ovs | dpdk_msvc_compile | dpdk_llvm_clang_compile | dpdk_mingw64_compile |
+===============================+====================+===================+==================+===================+=========================+======================+
| CentOS Stream 9 | PASS | PASS | SKIPPED | SKIPPED | SKIPPED | SKIPPED |
+-------------------------------+--------------------+-------------------+------------------+-------------------+-------------------------+----------------------+
| Debian GNU/Linux 12 | PASS | PASS | SKIPPED | SKIPPED | SKIPPED | SKIPPED |
+-------------------------------+--------------------+-------------------+------------------+-------------------+-------------------------+----------------------+
| CentOS Stream 10 | PASS | SKIPPED | SKIPPED | SKIPPED | SKIPPED | SKIPPED |
+-------------------------------+--------------------+-------------------+------------------+-------------------+-------------------------+----------------------+
| Fedora Linux 40 | PASS | PASS | SKIPPED | SKIPPED | SKIPPED | SKIPPED |
+-------------------------------+--------------------+-------------------+------------------+-------------------+-------------------------+----------------------+
| Fedora Linux 41 | PASS | PASS | PASS | SKIPPED | SKIPPED | SKIPPED |
+-------------------------------+--------------------+-------------------+------------------+-------------------+-------------------------+----------------------+
| openSUSE Leap 15.6 | PASS | SKIPPED | SKIPPED | SKIPPED | SKIPPED | SKIPPED |
+-------------------------------+--------------------+-------------------+------------------+-------------------+-------------------------+----------------------+
| Ubuntu 24.04 | PASS | PASS | PASS | SKIPPED | SKIPPED | SKIPPED |
+-------------------------------+--------------------+-------------------+------------------+-------------------+-------------------------+----------------------+
| Ubuntu 22.04 | PASS | PASS | SKIPPED | SKIPPED | SKIPPED | SKIPPED |
+-------------------------------+--------------------+-------------------+------------------+-------------------+-------------------------+----------------------+
| Ubuntu 20.04 | PASS | SKIPPED | SKIPPED | SKIPPED | SKIPPED | SKIPPED |
+-------------------------------+--------------------+-------------------+------------------+-------------------+-------------------------+----------------------+
| FreeBSD 14.2 | PASS | SKIPPED | SKIPPED | SKIPPED | SKIPPED | SKIPPED |
+-------------------------------+--------------------+-------------------+------------------+-------------------+-------------------------+----------------------+
| Red Hat Enterprise Linux 9.5 | PASS | SKIPPED | SKIPPED | SKIPPED | SKIPPED | SKIPPED |
+-------------------------------+--------------------+-------------------+------------------+-------------------+-------------------------+----------------------+
| Alpine Linux 3.22.0 | PASS | SKIPPED | SKIPPED | SKIPPED | SKIPPED | SKIPPED |
+-------------------------------+--------------------+-------------------+------------------+-------------------+-------------------------+----------------------+
| Red Hat Enterprise Linux 8.10 | PASS | SKIPPED | SKIPPED | SKIPPED | SKIPPED | SKIPPED |
+-------------------------------+--------------------+-------------------+------------------+-------------------+-------------------------+----------------------+
| Windows Server 2022 | SKIPPED | SKIPPED | SKIPPED | PASS | PASS | PASS |
+-------------------------------+--------------------+-------------------+------------------+-------------------+-------------------------+----------------------+
CentOS Stream 9
Kernel: 5.15
Compiler: gcc gcc (GCC) 11.5.0 20240719 (Red Hat 11.5.0-7)
Debian GNU/Linux 12
Kernel: 5.15
Compiler: gcc gcc (Debian 12.2.0-14+deb12u1) 12.2.0
CentOS Stream 10
Kernel: 5.15
Compiler: gcc gcc (GCC) 14.2.1 20250110 (Red Hat 14.2.1-8)
Fedora Linux 40
Kernel: 5.15
Compiler: clang gcc (GCC) 14.2.1 20240912 (Red Hat 14.2.1-3)
Fedora Linux 41
Kernel: 5.15
Compiler: clang gcc (GCC) 14.3.1 20250523 (Red Hat 14.3.1-1)
openSUSE Leap 15.6
Kernel: 5.15
Compiler: gcc gcc (SUSE Linux) 7.5.0
Ubuntu 24.04
Kernel: 5.15
Compiler: gcc gcc (Ubuntu 13.3.0-6ubuntu2~24.04) 13.3.0
Ubuntu 22.04
Kernel: 5.15
Compiler: gcc gcc (Ubuntu 11.4.0-1ubuntu1~22.04) 11.4.0
Ubuntu 20.04
Kernel: 5.15
Compiler: gcc gcc (Ubuntu 9.4.0-1ubuntu1~20.04.2) 9.4.0
FreeBSD 14.2
Kernel: 14.2-RELEASE
Compiler: clang 18.1.6
Red Hat Enterprise Linux 9.5
Kernel: 5.15
Compiler: gcc gcc (GCC) 11.5.0 20240719 (Red Hat 11.5.0-2)
Alpine Linux 3.22.0
Kernel: 5.15
Compiler: gcc gcc (Alpine 14.2.0) 14.2.0
Red Hat Enterprise Linux 8.10
Kernel: 5.15
Compiler: gcc gcc (GCC) 8.5.0 20210514 (Red Hat 8.5.0-22)
Windows Server 2022
Kernel: 10.0.20348.2031
Compiler: clang 15.0.7, gcc 14.1.0 (MinGW), and MSVC VS 19.39.33521
To view detailed results, visit:
https://lab.dpdk.org/results/dashboard/patchsets/33576/
UNH-IOL DPDK Community Lab
To manage your email subscriptions, visit:
https://lab.dpdk.org/results/dashboard/preferences/subscriptions/
^ permalink raw reply [flat|nested] 24+ messages in thread
* |SUCCESS| pw154979-154986 [PATCH] [v7,8/8] bus/dpaa: optimize qman e
[not found] <20250703052558.3700573-9-vanshika.shukla@nxp.com>
` (21 preceding siblings ...)
2025-07-09 2:58 ` dpdklab
@ 2025-07-09 3:46 ` dpdklab
2025-07-09 6:26 ` dpdklab
23 siblings, 0 replies; 24+ messages in thread
From: dpdklab @ 2025-07-09 3:46 UTC (permalink / raw)
To: Test Report; +Cc: dpdk-test-reports
Test-Label: iol-compile-arm64-testing
Test-Status: SUCCESS
http://dpdk.org/patch/154986
_Testing PASS_
Submitter: Vanshika Shukla <vanshika.shukla@nxp.com>
Date: Thursday, July 03 2025 05:25:58
DPDK git baseline: Repo:dpdk
Branch: master
CommitID:ba982f9a1ca9b96ed0394b764f1523d482e963a2
154979-154986 --> testing pass
Upstream job id: Generic-DPDK-Compile-Meson#406859
Test environment and result as below:
+------------------------------+--------------------+
| Environment | dpdk_meson_compile |
+==============================+====================+
| Ubuntu 20.04 | PASS |
+------------------------------+--------------------+
| Fedora Linux 40 | PASS |
+------------------------------+--------------------+
| Red Hat Enterprise Linux 9.5 | PASS |
+------------------------------+--------------------+
| Debian GNU/Linux 12 | PASS |
+------------------------------+--------------------+
| Fedora Linux 41 | PASS |
+------------------------------+--------------------+
| CentOS Stream 10 | PASS |
+------------------------------+--------------------+
| CentOS Stream 9 | PASS |
+------------------------------+--------------------+
| Ubuntu 24.04 | PASS |
+------------------------------+--------------------+
| Ubuntu 22.04 | PASS |
+------------------------------+--------------------+
Ubuntu 20.04
Kernel: 5.15
Compiler: aarch64-linux-gnu-gcc gcc (Ubuntu 9.4.0-1ubuntu1~20.04.2) 9.4.0
Fedora Linux 40
Kernel: 5.4
Compiler: gcc gcc (GCC) 14.2.1 20240912 (Red Hat 14.2.1-3)
Red Hat Enterprise Linux 9.5
Kernel: 5.4
Compiler: gcc gcc (GCC) 11.5.0 20240719 (Red Hat 11.5.0-2)
Debian GNU/Linux 12
Kernel: 5.4
Compiler: gcc gcc (Debian 12.2.0-14+deb12u1) 12.2.0
Fedora Linux 41
Kernel: 5.4
Compiler: gcc gcc (GCC) 14.3.1 20250523 (Red Hat 14.3.1-1)
CentOS Stream 10
Kernel: 5.4
Compiler: gcc gcc (GCC) 14.2.1 20250110 (Red Hat 14.2.1-8)
CentOS Stream 9
Kernel: 5.4
Compiler: gcc gcc (GCC) 11.5.0 20240719 (Red Hat 11.5.0-7)
Ubuntu 24.04
Kernel: 5.4
Compiler: gcc gcc (Ubuntu 13.3.0-6ubuntu2~24.04) 13.3.0
Ubuntu 22.04
Kernel: 5.4
Compiler: gcc gcc (Ubuntu 11.4.0-1ubuntu1~22.04) 11.4.0
To view detailed results, visit:
https://lab.dpdk.org/results/dashboard/patchsets/33576/
UNH-IOL DPDK Community Lab
To manage your email subscriptions, visit:
https://lab.dpdk.org/results/dashboard/preferences/subscriptions/
^ permalink raw reply [flat|nested] 24+ messages in thread
* |SUCCESS| pw154979-154986 [PATCH] [v7,8/8] bus/dpaa: optimize qman e
[not found] <20250703052558.3700573-9-vanshika.shukla@nxp.com>
` (22 preceding siblings ...)
2025-07-09 3:46 ` |SUCCESS| " dpdklab
@ 2025-07-09 6:26 ` dpdklab
23 siblings, 0 replies; 24+ messages in thread
From: dpdklab @ 2025-07-09 6:26 UTC (permalink / raw)
To: Test Report; +Cc: dpdk-test-reports
Test-Label: iol-unit-amd64-testing
Test-Status: SUCCESS
http://dpdk.org/patch/154986
_Testing PASS_
Submitter: Vanshika Shukla <vanshika.shukla@nxp.com>
Date: Thursday, July 03 2025 05:25:58
DPDK git baseline: Repo:dpdk
Branch: master
CommitID:ba982f9a1ca9b96ed0394b764f1523d482e963a2
154979-154986 --> testing pass
Upstream job id: Generic-VM-Unit-Test-DPDK#29816
Test environment and result as below:
+-------------------------------+----------------+
| Environment | dpdk_unit_test |
+===============================+================+
| Fedora Linux 40 | PASS |
+-------------------------------+----------------+
| Red Hat Enterprise Linux 8.10 | PASS |
+-------------------------------+----------------+
| Red Hat Enterprise Linux 9.5 | PASS |
+-------------------------------+----------------+
| CentOS Stream 10 | PASS |
+-------------------------------+----------------+
| Ubuntu 24.04 | PASS |
+-------------------------------+----------------+
| Fedora Linux 41 | PASS |
+-------------------------------+----------------+
| CentOS Stream 9 | PASS |
+-------------------------------+----------------+
| Debian GNU/Linux 12 | PASS |
+-------------------------------+----------------+
| Ubuntu 22.04 | PASS |
+-------------------------------+----------------+
| Ubuntu 20.04 | PASS |
+-------------------------------+----------------+
| Windows Server 2022 | PASS |
+-------------------------------+----------------+
Fedora Linux 40
Kernel: 5.15
Compiler: clang gcc (GCC) 14.2.1 20240912 (Red Hat 14.2.1-3)
Red Hat Enterprise Linux 8.10
Kernel: 5.15
Compiler: gcc gcc (GCC) 8.5.0 20210514 (Red Hat 8.5.0-22)
Red Hat Enterprise Linux 9.5
Kernel: 5.15
Compiler: gcc gcc (GCC) 11.5.0 20240719 (Red Hat 11.5.0-2)
CentOS Stream 10
Kernel: 5.15
Compiler: gcc gcc (GCC) 14.2.1 20250110 (Red Hat 14.2.1-8)
Ubuntu 24.04
Kernel: 5.15
Compiler: gcc gcc (Ubuntu 13.3.0-6ubuntu2~24.04) 13.3.0
Fedora Linux 41
Kernel: 5.15
Compiler: gcc gcc (GCC) 14.3.1 20250523 (Red Hat 14.3.1-1)
CentOS Stream 9
Kernel: 5.15
Compiler: gcc gcc (GCC) 11.5.0 20240719 (Red Hat 11.5.0-7)
Debian GNU/Linux 12
Kernel: 5.15
Compiler: gcc gcc (Debian 12.2.0-14+deb12u1) 12.2.0
Ubuntu 22.04
Kernel: 5.15
Compiler: gcc gcc (Ubuntu 11.4.0-1ubuntu1~22.04) 11.4.0
Ubuntu 20.04
Kernel: 5.15
Compiler: gcc gcc (Ubuntu 9.4.0-1ubuntu1~20.04.2) 9.4.0
Windows Server 2022
Kernel: 10.0.20348.2031
Compiler: clang 15.0.7, gcc 14.1.0 (MinGW), and MSVC VS 19.39.33521
To view detailed results, visit:
https://lab.dpdk.org/results/dashboard/patchsets/33576/
UNH-IOL DPDK Community Lab
To manage your email subscriptions, visit:
https://lab.dpdk.org/results/dashboard/preferences/subscriptions/
^ permalink raw reply [flat|nested] 24+ messages in thread
end of thread, other threads:[~2025-07-09 6:26 UTC | newest]
Thread overview: 24+ messages (download: mbox.gz / follow: Atom feed)
-- links below jump to the message on this page --
[not found] <20250703052558.3700573-9-vanshika.shukla@nxp.com>
2025-07-03 4:53 ` |SUCCESS| pw154979-154986 [v7 8/8] bus/dpaa: optimize qman enqueue check qemudev
2025-07-03 4:58 ` qemudev
2025-07-03 5:26 ` |SUCCESS| pw154986 " checkpatch
2025-07-08 22:28 ` |SUCCESS| pw154979-154986 [PATCH] [v7,8/8] bus/dpaa: optimize qman e dpdklab
2025-07-08 22:50 ` dpdklab
2025-07-08 22:50 ` dpdklab
2025-07-08 22:59 ` dpdklab
2025-07-08 23:42 ` |PENDING| " dpdklab
2025-07-08 23:42 ` dpdklab
2025-07-09 0:02 ` dpdklab
2025-07-09 0:24 ` |SUCCESS| " dpdklab
2025-07-09 1:07 ` |WARNING| " dpdklab
2025-07-09 1:08 ` dpdklab
2025-07-09 1:08 ` dpdklab
2025-07-09 1:08 ` dpdklab
2025-07-09 1:08 ` dpdklab
2025-07-09 1:08 ` dpdklab
2025-07-09 1:33 ` |SUCCESS| " dpdklab
2025-07-09 1:41 ` dpdklab
2025-07-09 1:41 ` |WARNING| " dpdklab
2025-07-09 2:11 ` dpdklab
2025-07-09 2:58 ` dpdklab
2025-07-09 3:46 ` |SUCCESS| " dpdklab
2025-07-09 6:26 ` dpdklab
This is a public inbox, see mirroring instructions
for how to clone and mirror all data and code used for this inbox;
as well as URLs for NNTP newsgroup(s).