From mboxrd@z Thu Jan 1 00:00:00 1970 Return-Path: Received: from mails.dpdk.org (mails.dpdk.org [217.70.189.124]) by inbox.dpdk.org (Postfix) with ESMTP id F217346A8F for ; Wed, 9 Jul 2025 02:00:31 +0200 (CEST) Received: from mails.dpdk.org (localhost [127.0.0.1]) by mails.dpdk.org (Postfix) with ESMTP id DD73E40041; Wed, 9 Jul 2025 02:00:31 +0200 (CEST) Received: from mail-oa1-f97.google.com (mail-oa1-f97.google.com [209.85.160.97]) by mails.dpdk.org (Postfix) with ESMTP id 769EA40041 for ; Wed, 9 Jul 2025 02:00:31 +0200 (CEST) Received: by mail-oa1-f97.google.com with SMTP id 586e51a60fabf-2efdd5c22dfso3244968fac.3 for ; Tue, 08 Jul 2025 17:00:31 -0700 (PDT) DKIM-Signature: v=1; a=rsa-sha256; c=relaxed/relaxed; d=iol.unh.edu; s=unh-iol; t=1752019230; x=1752624030; darn=dpdk.org; h=references:in-reply-to:cc:to:from:subject:message-id:date:from:to :cc:subject:date:message-id:reply-to; bh=c5btYYxnaUlporTeWgEOih3XaH5HFHm6wVZ86dLG/zs=; b=BKQGDFa2nCqkxPOz/7EPr8Oey5uM/ZDEemKK12Rk4zsOd/Vn2zLZuoDgq+PpJE1Ezm LDu1beETzHhhKtUPmLRcaO4Mkreek1WEJOdfpH/P+VIJvQPOWx/K6ugcjERoMUITmcoo n3wOvjShGyLO3Lyjgr5xLC20x2xasF+p6ykpU= X-Google-DKIM-Signature: v=1; a=rsa-sha256; c=relaxed/relaxed; d=1e100.net; s=20230601; t=1752019230; x=1752624030; h=references:in-reply-to:cc:to:from:subject:message-id:date :x-gm-message-state:from:to:cc:subject:date:message-id:reply-to; bh=c5btYYxnaUlporTeWgEOih3XaH5HFHm6wVZ86dLG/zs=; b=xUbjubL9gV/V+i8mhwT+0e7t7WwXRpbqBOiHStVDwOQdiyVlsc5GYB65en2j1VVFF3 uKFwfKt/rBtwfS3jGZTYCzR4agFU//CaRQN3mt8A7m3HSq3Otz7JcqQST741ZmP/USUG tZl+1KGiP9IoStFNI9qVUzpMml8EuNE9UX0IcvO2eVwgWKALM3UFkeolNK7F2fpABusl MQKVEsrOcCUIPuim5/9/doRE24T6X6AN2p1TnhflKSAXVu+5MJiSCfh7zvApujWbsWu4 tRhAhSn+/aK9MgDx/fujgWthZFmrZvip3XkxaNOY3SlethLreMoga3RErIEy+6lf1FJJ xopw== X-Gm-Message-State: AOJu0Yx+yTyxbVy6Xbh5arg4oWJav427yomwsLDx9uZt4AbElEVAAaAf +Swx1HXSWoFPHfdGI8UzbkgXPMog8hqHrHvmhixP/vowGYOpJeaGAByzSxd5+juXYBiR+ZUloy8 ujAoNrmOfphBbfNwSs9kEnBDLskkWIGyWN9+BDgLHq+7p X-Gm-Gg: ASbGnctZqE4YjLFWcstMu9CClesXxVk5wJuTRqem/xQ/ZbmNTEWzdF3iDt2vnEZmNQv gNILg80aHxajRUb83Q7vdgPCDSe7w/FbBvQdVXraxVdCQRAdv50HzwnxzjyBaB/r5z6rgqa2sNp 7Wq6YIqBdQ3ziSCS/HHKnSNG2nzid9OPkTVEezop4C309LE+R/BgM8q4m0f52H8eVbvZ2RqoPko YGB/S1qT4HsqbUQbw1FKO8JWN+WeG4JlCRW4nvt9J10TKuxwpZCapvgy4b/No28dfd+tbWSgi4P 7aE6GTm4fwb9vvBlKI1O7jXpIH89Ub3VUBPHMhIIRpJ+KCyN2eE3Hpze0MLVaDxHQ03/ew== X-Google-Smtp-Source: AGHT+IEKEGNsqLCoMt3YfAxZzQXSWMuc9crzlwGbSyxAifIfrnW81ZkJJzthOjcqu9qHreACVbeBtj+ly+rq X-Received: by 2002:a05:6870:5cc6:b0:2c1:461f:309a with SMTP id 586e51a60fabf-2fef8487e01mr316988fac.8.1752019230624; Tue, 08 Jul 2025 17:00:30 -0700 (PDT) Received: from postal.iol.unh.edu (postal.iol.unh.edu. [132.177.123.84]) by smtp-relay.gmail.com with ESMTPS id 586e51a60fabf-2f78fe62738sm776977fac.11.2025.07.08.17.00.30 (version=TLS1_2 cipher=ECDHE-ECDSA-AES128-GCM-SHA256 bits=128/128); Tue, 08 Jul 2025 17:00:30 -0700 (PDT) X-Relaying-Domain: iol.unh.edu Date: Tue, 08 Jul 2025 17:00:30 -0700 (PDT) Message-ID: <686db11e.050a0220.c54a3.92beSMTPIN_ADDED_MISSING@mx.google.com> Received: from [172.21.0.6] (unknown [172.18.0.240]) by postal.iol.unh.edu (Postfix) with ESMTP id 1E6416051830; Tue, 8 Jul 2025 20:00:30 -0400 (EDT) Subject: |SUCCESS| pw154998 [PATCH] [v2] net/iavf: fix VLAN strip disabling f From: dpdklab@iol.unh.edu To: Test Report Cc: dpdk-test-reports@iol.unh.edu In-Reply-To: <20250703101758.9973-1-amiyaranjan.mohakud@gmail.com> References: <20250703101758.9973-1-amiyaranjan.mohakud@gmail.com> Content-Type: text/plain X-BeenThere: test-report@dpdk.org X-Mailman-Version: 2.1.29 Precedence: list List-Id: automatic DPDK test reports List-Unsubscribe: , List-Archive: List-Post: List-Help: List-Subscribe: , Errors-To: test-report-bounces@dpdk.org Test-Label: iol-unit-amd64-testing Test-Status: SUCCESS http://dpdk.org/patch/154998 _Testing PASS_ Submitter: Amiya Ranjan Mohakud Date: Thursday, July 03 2025 10:17:58 DPDK git baseline: Repo:dpdk Branch: master CommitID:a6b10031d251fcc7dadede461f7e1d005024b139 154998 --> testing pass Upstream job id: Generic-VM-Unit-Test-DPDK#29810 Test environment and result as below: +-------------------------------+----------------+ | Environment | dpdk_unit_test | +===============================+================+ | CentOS Stream 9 | PASS | +-------------------------------+----------------+ | CentOS Stream 10 | PASS | +-------------------------------+----------------+ | Fedora Linux 40 | PASS | +-------------------------------+----------------+ | Debian GNU/Linux 12 | PASS | +-------------------------------+----------------+ | Fedora Linux 41 | PASS | +-------------------------------+----------------+ | Red Hat Enterprise Linux 8.10 | PASS | +-------------------------------+----------------+ | Red Hat Enterprise Linux 9.5 | PASS | +-------------------------------+----------------+ | Ubuntu 20.04 | PASS | +-------------------------------+----------------+ | Ubuntu 22.04 | PASS | +-------------------------------+----------------+ | Ubuntu 24.04 | PASS | +-------------------------------+----------------+ | Windows Server 2022 | PASS | +-------------------------------+----------------+ CentOS Stream 9 Kernel: 5.15 Compiler: gcc gcc (GCC) 11.5.0 20240719 (Red Hat 11.5.0-7) CentOS Stream 10 Kernel: 5.15 Compiler: gcc gcc (GCC) 14.2.1 20250110 (Red Hat 14.2.1-8) Fedora Linux 40 Kernel: 5.15 Compiler: gcc gcc (GCC) 14.2.1 20240912 (Red Hat 14.2.1-3) Debian GNU/Linux 12 Kernel: 5.15 Compiler: gcc gcc (Debian 12.2.0-14+deb12u1) 12.2.0 Fedora Linux 41 Kernel: 5.15 Compiler: gcc gcc (GCC) 14.3.1 20250523 (Red Hat 14.3.1-1) Red Hat Enterprise Linux 8.10 Kernel: 5.15 Compiler: gcc gcc (GCC) 8.5.0 20210514 (Red Hat 8.5.0-22) Red Hat Enterprise Linux 9.5 Kernel: 5.15 Compiler: gcc gcc (GCC) 11.5.0 20240719 (Red Hat 11.5.0-2) Ubuntu 20.04 Kernel: 5.15 Compiler: gcc gcc (Ubuntu 9.4.0-1ubuntu1~20.04.2) 9.4.0 Ubuntu 22.04 Kernel: 5.15 Compiler: gcc gcc (Ubuntu 11.4.0-1ubuntu1~22.04) 11.4.0 Ubuntu 24.04 Kernel: 5.15 Compiler: gcc gcc (Ubuntu 13.3.0-6ubuntu2~24.04) 13.3.0 Windows Server 2022 Kernel: 10.0.20348.2031 Compiler: clang 15.0.7, gcc 14.1.0 (MinGW), and MSVC VS 19.39.33521 To view detailed results, visit: https://lab.dpdk.org/results/dashboard/patchsets/33581/ UNH-IOL DPDK Community Lab To manage your email subscriptions, visit: https://lab.dpdk.org/results/dashboard/preferences/subscriptions/