From mboxrd@z Thu Jan 1 00:00:00 1970 Return-Path: Received: from mails.dpdk.org (mails.dpdk.org [217.70.189.124]) by inbox.dpdk.org (Postfix) with ESMTP id 6551A46A86 for ; Wed, 9 Jul 2025 02:23:35 +0200 (CEST) Received: from mails.dpdk.org (localhost [127.0.0.1]) by mails.dpdk.org (Postfix) with ESMTP id 5EBD84013F; Wed, 9 Jul 2025 02:23:35 +0200 (CEST) Received: from mail-oa1-f100.google.com (mail-oa1-f100.google.com [209.85.160.100]) by mails.dpdk.org (Postfix) with ESMTP id 5D5FF4013F for ; Wed, 9 Jul 2025 02:23:34 +0200 (CEST) Received: by mail-oa1-f100.google.com with SMTP id 586e51a60fabf-2e95f0b6cb7so1661376fac.3 for ; Tue, 08 Jul 2025 17:23:34 -0700 (PDT) DKIM-Signature: v=1; a=rsa-sha256; c=relaxed/relaxed; d=iol.unh.edu; s=unh-iol; t=1752020613; x=1752625413; darn=dpdk.org; h=references:in-reply-to:cc:to:from:subject:message-id:date:from:to :cc:subject:date:message-id:reply-to; bh=hcLBDGgPb0uJmbqGZjghm7DI+OK6DLsQL7WDEHWv50U=; b=DcYQqUqWh8D+w92+A2B6JsvfjfALYpUJiAf09cLc+sd8JLN1KeQB4aiNJ5aQ8cpKPW n1NYH05qaxwonmQ74pdyqmRE6yqAaOzd3pC/NU/oN93C/oAytz7yTxLAJmXmRGD8RDTS /Ypo+5lzNaFPV4jIbfiyd3elPNTH+owozcYOM= X-Google-DKIM-Signature: v=1; a=rsa-sha256; c=relaxed/relaxed; d=1e100.net; s=20230601; t=1752020613; x=1752625413; h=references:in-reply-to:cc:to:from:subject:message-id:date :x-gm-message-state:from:to:cc:subject:date:message-id:reply-to; bh=hcLBDGgPb0uJmbqGZjghm7DI+OK6DLsQL7WDEHWv50U=; b=EHZBTUKCHr/VlnEdrsX5mNd1WN3CzyTiZMfJ4rhsVqN6kFEVsw2FKngTn0kYNCJECX 39p32fhQwt1ynF+jj8pjsRZ1uf0UbdujKjgG36c1RY2J1tlmqiCSyPQqEOeQGJvwlqEr HVkfh6jhVB4uNPD8deY8cBOEy+AIjbcb0nTHCShiiPDyNnmwi/5R84q95wwvby8kpg7P RWqflEawp0YicUiR/Mujap4O9VDNfcShU4bmb2b3T+f4PX487r/p2yj6h8JuMemb2wZ/ DlQ5Wd+BM03h+cwpT5pMsI0d/E2D6HBdDPak36ES/bXicRmVo9SoNHO1Xkm+uGt695nx tAOA== X-Gm-Message-State: AOJu0Yzslcre1CKqOcW0KdqRwYKuJTBxtKq9YGHgmF3rfjJ2tBD4Hlvh 4Fuftazd4d7wT56Ruquxe8On3GX1ZVbQzEoN6MbpjrG0Bhuvyx3H51RMEJcZrzDT85tanqKPvm2 JCmQNjoSmLdq7quTqeBHFwoG056vb7/rJ1i3Lr4FpvcuV X-Gm-Gg: ASbGncspLUSD+L2Tl0nLByfrQ9Ahpt/mCaBUARhOcJDJelFgzWUL5SWrp83BWPSmFzZ UqvnxlIH2i6Y2Ha9Fx7+uTg/0mCBUba7JEsEHqklN0lT5SHDOHNQ/tUS7YTrMaYFDVYZdDf3lBB sIr12fHhOUH1KQblxDon/cvSsjtEz1SkQNBTBXeaZVpJI8XFADdBAsP7mjjpBcVdj8juloCMNmm cuVJNyhe+eX5PcjDpE7MY2pyL0P+pwnTfmq3e70gqxPBaSzSrIsypKWKjy/TU4FL0fv5aAR574b uCjZM6+qP7XpalRcX8s7LA2yVCZPQDHl+er3qdSbGjffI4wh0DX3BcIE0Z/cNM5v0MubDQ== X-Google-Smtp-Source: AGHT+IGDCIgPfLLxiKqT/SSAd3tL1cGS9kJuu8nspUUcOrYf0TlUgcvEmw+wI8FYpmVJYay4zkIrmU+yrxb6 X-Received: by 2002:a05:6871:109:b0:2df:787a:d8f9 with SMTP id 586e51a60fabf-2fef879cd32mr329974fac.26.1752020613603; Tue, 08 Jul 2025 17:23:33 -0700 (PDT) Received: from postal.iol.unh.edu (postal.iol.unh.edu. [132.177.123.84]) by smtp-relay.gmail.com with ESMTPS id 586e51a60fabf-2f78fea9862sm702007fac.17.2025.07.08.17.23.33 (version=TLS1_2 cipher=ECDHE-ECDSA-AES128-GCM-SHA256 bits=128/128); Tue, 08 Jul 2025 17:23:33 -0700 (PDT) X-Relaying-Domain: iol.unh.edu Date: Tue, 08 Jul 2025 17:23:33 -0700 (PDT) Message-ID: <686db685.050a0220.119bb5.4bafSMTPIN_ADDED_MISSING@mx.google.com> Received: from [172.21.0.5] (unknown [172.18.0.240]) by postal.iol.unh.edu (Postfix) with ESMTP id 40C526051830; Tue, 8 Jul 2025 20:23:33 -0400 (EDT) Subject: |SUCCESS| pw154998 [PATCH] [v2] net/iavf: fix VLAN strip disabling f From: dpdklab@iol.unh.edu To: Test Report Cc: dpdk-test-reports@iol.unh.edu In-Reply-To: <20250703101758.9973-1-amiyaranjan.mohakud@gmail.com> References: <20250703101758.9973-1-amiyaranjan.mohakud@gmail.com> Content-Type: text/plain X-BeenThere: test-report@dpdk.org X-Mailman-Version: 2.1.29 Precedence: list List-Id: automatic DPDK test reports List-Unsubscribe: , List-Archive: List-Post: List-Help: List-Subscribe: , Errors-To: test-report-bounces@dpdk.org Test-Label: iol-unit-amd64-testing Test-Status: SUCCESS http://dpdk.org/patch/154998 _Testing PASS_ Submitter: Amiya Ranjan Mohakud Date: Thursday, July 03 2025 10:17:58 DPDK git baseline: Repo:dpdk Branch: master CommitID:a6b10031d251fcc7dadede461f7e1d005024b139 154998 --> testing pass Upstream job id: Generic-VM-Unit-Test-DPDK#29811 Test environment and result as below: +-------------------------------+----------------+ | Environment | dpdk_unit_test | +===============================+================+ | CentOS Stream 9 | PASS | +-------------------------------+----------------+ | CentOS Stream 10 | PASS | +-------------------------------+----------------+ | Fedora Linux 40 | PASS | +-------------------------------+----------------+ | Debian GNU/Linux 12 | PASS | +-------------------------------+----------------+ | Fedora Linux 41 | PASS | +-------------------------------+----------------+ | Red Hat Enterprise Linux 8.10 | PASS | +-------------------------------+----------------+ | Red Hat Enterprise Linux 9.5 | PASS | +-------------------------------+----------------+ | Ubuntu 20.04 | PASS | +-------------------------------+----------------+ | Ubuntu 22.04 | PASS | +-------------------------------+----------------+ | Ubuntu 24.04 | PASS | +-------------------------------+----------------+ | Windows Server 2022 | PASS | +-------------------------------+----------------+ CentOS Stream 9 Kernel: 5.15 Compiler: gcc gcc (GCC) 11.5.0 20240719 (Red Hat 11.5.0-7) CentOS Stream 10 Kernel: 5.15 Compiler: gcc gcc (GCC) 14.2.1 20250110 (Red Hat 14.2.1-8) Fedora Linux 40 Kernel: 5.15 Compiler: gcc gcc (GCC) 14.2.1 20240912 (Red Hat 14.2.1-3) Debian GNU/Linux 12 Kernel: 5.15 Compiler: gcc gcc (Debian 12.2.0-14+deb12u1) 12.2.0 Fedora Linux 41 Kernel: 5.15 Compiler: gcc gcc (GCC) 14.3.1 20250523 (Red Hat 14.3.1-1) Red Hat Enterprise Linux 8.10 Kernel: 5.15 Compiler: gcc gcc (GCC) 8.5.0 20210514 (Red Hat 8.5.0-22) Red Hat Enterprise Linux 9.5 Kernel: 5.15 Compiler: gcc gcc (GCC) 11.5.0 20240719 (Red Hat 11.5.0-2) Ubuntu 20.04 Kernel: 5.15 Compiler: gcc gcc (Ubuntu 9.4.0-1ubuntu1~20.04.2) 9.4.0 Ubuntu 22.04 Kernel: 5.15 Compiler: gcc gcc (Ubuntu 11.4.0-1ubuntu1~22.04) 11.4.0 Ubuntu 24.04 Kernel: 5.15 Compiler: gcc gcc (Ubuntu 13.3.0-6ubuntu2~24.04) 13.3.0 Windows Server 2022 Kernel: 10.0.20348.2031 Compiler: clang 15.0.7, gcc 14.1.0 (MinGW), and MSVC VS 19.39.33521 To view detailed results, visit: https://lab.dpdk.org/results/dashboard/patchsets/33581/ UNH-IOL DPDK Community Lab To manage your email subscriptions, visit: https://lab.dpdk.org/results/dashboard/preferences/subscriptions/