From mboxrd@z Thu Jan 1 00:00:00 1970 Return-Path: Received: from mails.dpdk.org (mails.dpdk.org [217.70.189.124]) by inbox.dpdk.org (Postfix) with ESMTP id 8768E46A8F for ; Wed, 9 Jul 2025 02:24:43 +0200 (CEST) Received: from mails.dpdk.org (localhost [127.0.0.1]) by mails.dpdk.org (Postfix) with ESMTP id 822114013F; Wed, 9 Jul 2025 02:24:43 +0200 (CEST) Received: from mail-pl1-f228.google.com (mail-pl1-f228.google.com [209.85.214.228]) by mails.dpdk.org (Postfix) with ESMTP id 1DF934013F for ; Wed, 9 Jul 2025 02:24:42 +0200 (CEST) Received: by mail-pl1-f228.google.com with SMTP id d9443c01a7336-23c8a5053c2so37772815ad.1 for ; Tue, 08 Jul 2025 17:24:42 -0700 (PDT) DKIM-Signature: v=1; a=rsa-sha256; c=relaxed/relaxed; d=iol.unh.edu; s=unh-iol; t=1752020681; x=1752625481; darn=dpdk.org; h=references:in-reply-to:cc:to:from:subject:message-id:date:from:to :cc:subject:date:message-id:reply-to; bh=kqwHQ842O/DtoVX5OiQ6ohc9f0XQpLQ7Bnv5u2nnnfY=; b=IE/Hm3x58RZvhCvlg0B+Ie7YTUqDfasHRxLIn1MPrBuEH4z6mxdq/nIPB0EO5tzErZ MzCIma1Atd/+uFCutPlBG6HRXgd2wxmz7vax+aCcTzkrKX6p21fOdxQe2tQuTWHV6pFt hIzyGIuL9UdLtFjrX6/Ps7EUyPUTYS+Q3zx+k= X-Google-DKIM-Signature: v=1; a=rsa-sha256; c=relaxed/relaxed; d=1e100.net; s=20230601; t=1752020681; x=1752625481; h=references:in-reply-to:cc:to:from:subject:message-id:date :x-gm-message-state:from:to:cc:subject:date:message-id:reply-to; bh=kqwHQ842O/DtoVX5OiQ6ohc9f0XQpLQ7Bnv5u2nnnfY=; b=vcrE3LG+3Wc7YbPbFbw2uydPUifm+yaWx41uHo8H2jr7socEIcEh6DjTnQd1IhFS1U bGzGGAxwhD57wFxOGCGPPv7T5X9Xr/RVgGitt73t6GS0FzY7cqFhy6R43rya3CGoEqKP E0pzdlODOX1rMlFrOpgkdtgh1WLLgZED207e+ZBNt1ZOIZaxKbeIYPftyLSCw9udMDzU mC7E8UTQdhUJZXFqc5WyO/Qd7gdys12LjeUHpf6SFw541nxwvo1XhQRRpnSpv8L3Qd8g Llvr355fJUDr21ezNNaPaUiG3y1rmFXYrNqJF1L6sn7yZKIlC8N2GDCPiS87LKzMKueH n11Q== X-Gm-Message-State: AOJu0YzLtShfbpVVORV9qZKMgtED1EhXGw0bPMOUyF2VbJXOBHbZhqvb H96dvqV4yY30bK/NukpYwyTsBMd8QtdWe8RZSQRK4wd93jlnVIJoOcWRu26Lu2bWplKomqnsgt7 3XSIUWqfN/7V0TJaqclVnE8K6fDve3Mk2YYPfGLxoi4o2GEJ1bXOD3Z6wyeKS X-Gm-Gg: ASbGncsL9TvPZN5WrCubASlCF1FXzOIo4HvFdTns5AaS/bpNyzNyDDb9bppBj/CG8F4 MWDUoJxbSsCMYamXhGzMEUwmX92vO0pvgAmN454AcL2xbjEysjr5aGABu3k0BLgUh43agMAhkKt PJUWqvylH3sjDijDyncwT1Pd4dh5u5s1efAFNsAfZ7mvxtu9qL7jWd1m7W5z8w2g2oCm2mSbFzX BFElqfU2NrPZ34BpskCXo244IVxIoZUe11NuiQHlX0rujaUlfNDzr1OfVvtGeU28BoVyljmvaNl VWcGGiMQpw+JIe5nth7MX2DGeEW/PMJalyFSFxnsTSQffaQ= X-Google-Smtp-Source: AGHT+IE7YhCp+F8s41S8r7hVcspiopH+vtJOeTG7PjVMCk6pSp8xtIQCHy1ZdpI2GfvFLV6rfWT7x44RpFik X-Received: by 2002:a17:902:d60d:b0:235:e76c:4353 with SMTP id d9443c01a7336-23ddb324c90mr7085275ad.51.1752020681240; Tue, 08 Jul 2025 17:24:41 -0700 (PDT) Received: from postal.iol.unh.edu (postal.iol.unh.edu. [2606:4100:3880:1234::84]) by smtp-relay.gmail.com with ESMTPS id d9443c01a7336-23c84508fbbsm5602165ad.104.2025.07.08.17.24.41 (version=TLS1_2 cipher=ECDHE-ECDSA-AES128-GCM-SHA256 bits=128/128); Tue, 08 Jul 2025 17:24:41 -0700 (PDT) X-Relaying-Domain: iol.unh.edu Date: Tue, 08 Jul 2025 17:24:41 -0700 (PDT) Message-ID: <686db6c9.170a0220.1eabaa.d610SMTPIN_ADDED_MISSING@mx.google.com> Received: from [172.21.0.5] (unknown [172.18.0.240]) by postal.iol.unh.edu (Postfix) with ESMTP id B087C6051830; Tue, 8 Jul 2025 20:24:40 -0400 (EDT) Subject: |SUCCESS| pw154979-154986 [PATCH] [v7,8/8] bus/dpaa: optimize qman e From: dpdklab@iol.unh.edu To: Test Report Cc: dpdk-test-reports@iol.unh.edu In-Reply-To: <20250703052558.3700573-9-vanshika.shukla@nxp.com> References: <20250703052558.3700573-9-vanshika.shukla@nxp.com> Content-Type: text/plain X-BeenThere: test-report@dpdk.org X-Mailman-Version: 2.1.29 Precedence: list List-Id: automatic DPDK test reports List-Unsubscribe: , List-Archive: List-Post: List-Help: List-Subscribe: , Errors-To: test-report-bounces@dpdk.org Test-Label: iol-unit-amd64-testing Test-Status: SUCCESS http://dpdk.org/patch/154986 _Testing PASS_ Submitter: Vanshika Shukla Date: Thursday, July 03 2025 05:25:58 DPDK git baseline: Repo:dpdk Branch: master CommitID:ba982f9a1ca9b96ed0394b764f1523d482e963a2 154979-154986 --> testing pass Upstream job id: Generic-Unit-Test-DPDK#353806 Test environment and result as below: +-------------------------------+----------------+ | Environment | dpdk_unit_test | +===============================+================+ | Fedora Linux 40 | PASS | +-------------------------------+----------------+ | Red Hat Enterprise Linux 8.10 | PASS | +-------------------------------+----------------+ | Red Hat Enterprise Linux 9.5 | PASS | +-------------------------------+----------------+ | CentOS Stream 10 | PASS | +-------------------------------+----------------+ | Ubuntu 24.04 | PASS | +-------------------------------+----------------+ | Fedora Linux 41 | PASS | +-------------------------------+----------------+ | CentOS Stream 9 | PASS | +-------------------------------+----------------+ | Debian GNU/Linux 12 | PASS | +-------------------------------+----------------+ | Ubuntu 22.04 | PASS | +-------------------------------+----------------+ | Ubuntu 20.04 | PASS | +-------------------------------+----------------+ Fedora Linux 40 Kernel: 5.15 Compiler: clang gcc (GCC) 14.2.1 20240912 (Red Hat 14.2.1-3) Red Hat Enterprise Linux 8.10 Kernel: 5.15 Compiler: gcc gcc (GCC) 8.5.0 20210514 (Red Hat 8.5.0-22) Red Hat Enterprise Linux 9.5 Kernel: 5.15 Compiler: gcc gcc (GCC) 11.5.0 20240719 (Red Hat 11.5.0-2) CentOS Stream 10 Kernel: 5.15 Compiler: gcc gcc (GCC) 14.2.1 20250110 (Red Hat 14.2.1-8) Ubuntu 24.04 Kernel: 5.15 Compiler: gcc gcc (Ubuntu 13.3.0-6ubuntu2~24.04) 13.3.0 Fedora Linux 41 Kernel: 5.15 Compiler: gcc gcc (GCC) 14.3.1 20250523 (Red Hat 14.3.1-1) CentOS Stream 9 Kernel: 5.15 Compiler: gcc gcc (GCC) 11.5.0 20240719 (Red Hat 11.5.0-7) Debian GNU/Linux 12 Kernel: 5.15 Compiler: gcc gcc (Debian 12.2.0-14+deb12u1) 12.2.0 Ubuntu 22.04 Kernel: 5.15 Compiler: gcc gcc (Ubuntu 11.4.0-1ubuntu1~22.04) 11.4.0 Ubuntu 20.04 Kernel: 5.15 Compiler: gcc gcc (Ubuntu 9.4.0-1ubuntu1~20.04.2) 9.4.0 To view detailed results, visit: https://lab.dpdk.org/results/dashboard/patchsets/33576/ UNH-IOL DPDK Community Lab To manage your email subscriptions, visit: https://lab.dpdk.org/results/dashboard/preferences/subscriptions/