From mboxrd@z Thu Jan 1 00:00:00 1970 Return-Path: Received: from mails.dpdk.org (mails.dpdk.org [217.70.189.124]) by inbox.dpdk.org (Postfix) with ESMTP id ABF7846A8F for ; Wed, 9 Jul 2025 02:25:43 +0200 (CEST) Received: from mails.dpdk.org (localhost [127.0.0.1]) by mails.dpdk.org (Postfix) with ESMTP id A37384013F; Wed, 9 Jul 2025 02:25:43 +0200 (CEST) Received: from mail-pf1-f227.google.com (mail-pf1-f227.google.com [209.85.210.227]) by mails.dpdk.org (Postfix) with ESMTP id B3C384013F for ; Wed, 9 Jul 2025 02:25:42 +0200 (CEST) Received: by mail-pf1-f227.google.com with SMTP id d2e1a72fcca58-739b3fe7ce8so4405357b3a.0 for ; Tue, 08 Jul 2025 17:25:42 -0700 (PDT) DKIM-Signature: v=1; a=rsa-sha256; c=relaxed/relaxed; d=iol.unh.edu; s=unh-iol; t=1752020742; x=1752625542; darn=dpdk.org; h=references:in-reply-to:cc:to:from:subject:message-id:date:from:to :cc:subject:date:message-id:reply-to; bh=GeAu5Nm2AeuatImREtCVQef/u4HKN1pGadxOXgDGc+E=; b=XDV0OIzvDaYXhemmoyNRNL9VpCdoQ5oe5LqmFMWw20iVvma+1c9X4nU6ynYboyuCgL d36No1fNmCMXSf2i8YA9vYwTWhUivm69wV2hLeM8/ZhiDHadgxAVx7iXyLe39f32pWvG fWUsVy9vpoFwH/1fPS1oKNnpApl61nb+EWpFs= X-Google-DKIM-Signature: v=1; a=rsa-sha256; c=relaxed/relaxed; d=1e100.net; s=20230601; t=1752020742; x=1752625542; h=references:in-reply-to:cc:to:from:subject:message-id:date :x-gm-message-state:from:to:cc:subject:date:message-id:reply-to; bh=GeAu5Nm2AeuatImREtCVQef/u4HKN1pGadxOXgDGc+E=; b=m+9kk1A0ZNmvBusTfOGcIg0tFrwkdgBUoVGQrqoczAoN+mPrGn12iHUZCukreD1+PD N9hJ+3ESFCwBCV8NYvp8KrDxvshZpzGd4jG05IMj5NaZ7pWXy1v8VGTh5ss+6zQ4P9Ae IEbSRWep036I5QwFKNcupgEHdA6DIXwJuPbTepb+hif5fbO4BP2wb6BTJBoZNTTXn2s2 Tj2/2E8NgIkyaE1UHHb6NfhE+xOAjqC952origTwS0o5xDMqwNXQvvdU7fTSoZXnpytE XWiPC/AY4eEwtNNJ2vHNC5j87DSmDEqfTfpoGH/BzqIESha81XmfG5DYcOpafGQEXtbt Ke3Q== X-Gm-Message-State: AOJu0YwBSlRagnwwW+eSFa5DxOonLl5YFdHvkMxkOKZx4Db2jeF11w8i U4q5OLBSwnFpGuvHyyuk0gCSPI8lBDWkG9OjE9EMN/mg/ihDOXUi1Ic5VQrJD2L2BdfC2tdcYUv LZ2/kKd9n991zPxBl4NtngGhWxU38VjH5UjHcuaYJy0uYH7Jki4HusWXY1b59 X-Gm-Gg: ASbGncsqyLY07JvSe+2wrTzNouBdlfTyEADOMf87SIfJvI/yH4SS1LeuFCe9tgJzjj2 1H5zl0E5qe+q4zUDm0nDm+ic1oYI28qXJyO3AsXnTdhLJ2m8Y4l4BPD53ur9643ygrkxxvY5+Vz OsbMcXNCQc7T7U06vS68fuAeSs8ov9ieT3BieP9dywY0y7tzrRZzljMmpb6V5CoYwvXWoWzvUVK fa+dy2Sl0LMRYrXePEssPlMnBujG9GXGDC+7IQmSxlMGtEdFO7GVis5TxW7GMqRrjaAxFGfnfPg gLM2lSCyZBr4BlEnSCsY4N4ttPolWDGWW0OWdCb90rIXtxc= X-Google-Smtp-Source: AGHT+IG7tR29RzBSAicu61U9NCPj1qT46evH/ntTbrDJ9dQQf0IvdpsgMpOBgsy37ugyhB0JOjNcUBiCghFI X-Received: by 2002:a05:6a00:39a7:b0:736:a8db:93bb with SMTP id d2e1a72fcca58-74ea64125demr745748b3a.5.1752020741742; Tue, 08 Jul 2025 17:25:41 -0700 (PDT) Received: from postal.iol.unh.edu (postal.iol.unh.edu. [2606:4100:3880:1234::84]) by smtp-relay.gmail.com with ESMTPS id d2e1a72fcca58-74ce3cfa60bsm661433b3a.16.2025.07.08.17.25.41 (version=TLS1_2 cipher=ECDHE-ECDSA-AES128-GCM-SHA256 bits=128/128); Tue, 08 Jul 2025 17:25:41 -0700 (PDT) X-Relaying-Domain: iol.unh.edu Date: Tue, 08 Jul 2025 17:25:41 -0700 (PDT) Message-ID: <686db705.050a0220.2b829f.26d5SMTPIN_ADDED_MISSING@mx.google.com> Received: from [172.21.0.7] (unknown [172.18.0.240]) by postal.iol.unh.edu (Postfix) with ESMTP id E855C6051830; Tue, 8 Jul 2025 20:25:40 -0400 (EDT) Subject: |WARNING| pw154996 [PATCH] [v1] net/iavf: fix VLAN strip disabling f From: dpdklab@iol.unh.edu To: Test Report Cc: dpdk-test-reports@iol.unh.edu In-Reply-To: <20250703084234.8037-1-amiyaranjan.mohakud@gmail.com> References: <20250703084234.8037-1-amiyaranjan.mohakud@gmail.com> Content-Type: text/plain X-BeenThere: test-report@dpdk.org X-Mailman-Version: 2.1.29 Precedence: list List-Id: automatic DPDK test reports List-Unsubscribe: , List-Archive: List-Post: List-Help: List-Subscribe: , Errors-To: test-report-bounces@dpdk.org Test-Label: iol-compile-amd64-testing Test-Status: WARNING http://dpdk.org/patch/154996 _Testing issues_ Submitter: Amiya Ranjan Mohakud Date: Thursday, July 03 2025 08:42:34 DPDK git baseline: Repo:dpdk Branch: master CommitID:a6b10031d251fcc7dadede461f7e1d005024b139 154996 --> testing issues Upstream job id: Generic-DPDK-Compile-Meson#406809 Test environment and result as below: +-------------------------------+--------------------+-------------------+------------------+-------------------+ | Environment | dpdk_meson_compile | dpdk_compile_spdk | dpdk_compile_ovs | dpdk_msvc_compile | +===============================+====================+===================+==================+===================+ | CentOS Stream 9 | PASS | PASS | SKIPPED | SKIPPED | +-------------------------------+--------------------+-------------------+------------------+-------------------+ | CentOS Stream 10 | PASS | SKIPPED | SKIPPED | SKIPPED | +-------------------------------+--------------------+-------------------+------------------+-------------------+ | Fedora Linux 40 | PASS | PASS | SKIPPED | SKIPPED | +-------------------------------+--------------------+-------------------+------------------+-------------------+ | Debian GNU/Linux 12 | PASS | PASS | SKIPPED | SKIPPED | +-------------------------------+--------------------+-------------------+------------------+-------------------+ | Fedora Linux 41 | PASS | PASS | PASS | SKIPPED | +-------------------------------+--------------------+-------------------+------------------+-------------------+ | openSUSE Leap 15.6 | PASS | SKIPPED | SKIPPED | SKIPPED | +-------------------------------+--------------------+-------------------+------------------+-------------------+ | Red Hat Enterprise Linux 8.10 | PASS | SKIPPED | SKIPPED | SKIPPED | +-------------------------------+--------------------+-------------------+------------------+-------------------+ | Ubuntu 20.04 | PASS | SKIPPED | SKIPPED | SKIPPED | +-------------------------------+--------------------+-------------------+------------------+-------------------+ | Ubuntu 24.04 | PEND | PEND | PEND | SKIPPED | +-------------------------------+--------------------+-------------------+------------------+-------------------+ | Ubuntu 22.04 | PASS | PASS | SKIPPED | SKIPPED | +-------------------------------+--------------------+-------------------+------------------+-------------------+ | Red Hat Enterprise Linux 9.5 | PASS | SKIPPED | SKIPPED | SKIPPED | +-------------------------------+--------------------+-------------------+------------------+-------------------+ | Alpine Linux 3.22.0 | PASS | SKIPPED | SKIPPED | SKIPPED | +-------------------------------+--------------------+-------------------+------------------+-------------------+ | FreeBSD 14.2 | PASS | SKIPPED | SKIPPED | SKIPPED | +-------------------------------+--------------------+-------------------+------------------+-------------------+ | Windows Server 2022 | SKIPPED | SKIPPED | SKIPPED | PASS | +-------------------------------+--------------------+-------------------+------------------+-------------------+ CentOS Stream 9 Kernel: 5.15 Compiler: gcc gcc (GCC) 11.5.0 20240719 (Red Hat 11.5.0-7) CentOS Stream 10 Kernel: 5.15 Compiler: gcc gcc (GCC) 14.2.1 20250110 (Red Hat 14.2.1-8) Fedora Linux 40 Kernel: 5.15 Compiler: clang gcc (GCC) 14.2.1 20240912 (Red Hat 14.2.1-3) Debian GNU/Linux 12 Kernel: 5.15 Compiler: gcc gcc (Debian 12.2.0-14+deb12u1) 12.2.0 Fedora Linux 41 Kernel: 5.15 Compiler: clang gcc (GCC) 14.3.1 20250523 (Red Hat 14.3.1-1) openSUSE Leap 15.6 Kernel: 5.15 Compiler: gcc gcc (SUSE Linux) 7.5.0 Red Hat Enterprise Linux 8.10 Kernel: 5.15 Compiler: gcc gcc (GCC) 8.5.0 20210514 (Red Hat 8.5.0-22) Ubuntu 20.04 Kernel: 5.15 Compiler: gcc gcc (Ubuntu 9.4.0-1ubuntu1~20.04.2) 9.4.0 Ubuntu 24.04 Kernel: 5.15 Compiler: gcc gcc (Ubuntu 13.3.0-6ubuntu2~24.04) 13.3.0 Ubuntu 22.04 Kernel: 5.15 Compiler: gcc gcc (Ubuntu 11.4.0-1ubuntu1~22.04) 11.4.0 Red Hat Enterprise Linux 9.5 Kernel: 5.15 Compiler: gcc gcc (GCC) 11.5.0 20240719 (Red Hat 11.5.0-2) Alpine Linux 3.22.0 Kernel: 5.15 Compiler: gcc gcc (Alpine 14.2.0) 14.2.0 FreeBSD 14.2 Kernel: 14.2-RELEASE Compiler: clang 18.1.6 Windows Server 2022 Kernel: 10.0.20348.2031 Compiler: clang 15.0.7, gcc 14.1.0 (MinGW), and MSVC VS 19.39.33521 To view detailed results, visit: https://lab.dpdk.org/results/dashboard/patchsets/33579/ UNH-IOL DPDK Community Lab To manage your email subscriptions, visit: https://lab.dpdk.org/results/dashboard/preferences/subscriptions/