From mboxrd@z Thu Jan 1 00:00:00 1970 Return-Path: Received: from mails.dpdk.org (mails.dpdk.org [217.70.189.124]) by inbox.dpdk.org (Postfix) with ESMTP id 4DA5A46A8F for ; Wed, 9 Jul 2025 02:48:45 +0200 (CEST) Received: from mails.dpdk.org (localhost [127.0.0.1]) by mails.dpdk.org (Postfix) with ESMTP id 2E42B4013F; Wed, 9 Jul 2025 02:48:45 +0200 (CEST) Received: from mail-io1-f100.google.com (mail-io1-f100.google.com [209.85.166.100]) by mails.dpdk.org (Postfix) with ESMTP id 177204013F for ; Wed, 9 Jul 2025 02:48:44 +0200 (CEST) Received: by mail-io1-f100.google.com with SMTP id ca18e2360f4ac-8733548c627so180473239f.3 for ; Tue, 08 Jul 2025 17:48:43 -0700 (PDT) DKIM-Signature: v=1; a=rsa-sha256; c=relaxed/relaxed; d=iol.unh.edu; s=unh-iol; t=1752022123; x=1752626923; darn=dpdk.org; h=references:in-reply-to:cc:to:from:subject:message-id:date:from:to :cc:subject:date:message-id:reply-to; bh=C6ac+e3dwp3JZBX0n5zxW8IWwfk0ZT4+rRBvgUCadBU=; b=gIjEuOH9gycPBxnhUKd8W0leSkE+rpaRpI+GdZrmx5SEzg1VC6Gzlie+ZSPEvbcDzZ uVNLIjcXUvVzM9twXVfFUc2J8VSU2gkX6LaRAlpGc+gJ4NCehxd11Mn3oU2JfP3PcXjp 99nxrRD5jK5Z3w5pFy9b6kQMNt3RINvL73nnA= X-Google-DKIM-Signature: v=1; a=rsa-sha256; c=relaxed/relaxed; d=1e100.net; s=20230601; t=1752022123; x=1752626923; h=references:in-reply-to:cc:to:from:subject:message-id:date :x-gm-message-state:from:to:cc:subject:date:message-id:reply-to; bh=C6ac+e3dwp3JZBX0n5zxW8IWwfk0ZT4+rRBvgUCadBU=; b=lf0MuE7UJOp9MbAIgpzWyPXb7s6kQnDhwkavuauafQjnkiRW3KLQQdjrbQ29Nsighx m/xgHugbALUk3McMe/mLLgmcINfYH15bMSG6h8euYYd0l52tl8U8NhQscKPT4hAvOD4B zT04B2OU+LL/GInPwlMV1uaDlCNxQNe6R/ECIemzbnRV/Hv34p0fNxm+eilm18tQYYa8 95hl/DW6998pC7dvxUl56Aoz7cK1NQjDoB6hhukvKY0Gga4SbqkGhZdoUr/OXbOB/9+2 6sNYKklUvTaR5SBgb3K9YmO+e/Qumpi7C4aSfH8loD1dFDgbAqkd7bneqdEGLCtvdbLX 2g0g== X-Gm-Message-State: AOJu0Yz3DcnpAuecOTOI+fCN4UlrKk4pqogP13jtgawxrLBlGrxu3iJY WiptJEB0NSf7zIk+GXVijC4jjnWzGE8pb0tcth4CY6QRxSzqzLHZVEp4HxO2Oez3bbjYG+A7Bcc zRi7Oj9SoQh6fBtLolTvHXzBVUowjwMVzJvjkSwDBKvH2VyKAhCyfTrjxM+xA X-Gm-Gg: ASbGncthrDvyLXeqdT3hGZjD99TLPNdpuXdaf+o9+gLfKTohYJPETR1ZdzvUMvcRGGc aGF9y0PW9eponI1P5xOQukS6KacpCjno88z1WQ+CbgYKZCi5VMBAUP/ld3jlYm3OLxKiPo3ebCi S7t1tK8XfSpwlpc+JmB4/VbScOaewpR2j/WV8zVvm3Cg69x/iT2ZgQMIbOgRJBBtY5NKNz7PKcY duoNl2mBtc1g00y6os2rZpHOzKzwE3+aLHaIKykqILrEC1meM9V+pRD6TvEzJRPL9Ms2hEdCdEk saoQhPEvfh+bBk0fCdnCWW1tqwRib9h/XS1PNoWDYeosM8E= X-Google-Smtp-Source: AGHT+IGjpxoJYew1XOf1z4gM0z7+lq35i+XOevpWjTKpJIt/u8/7n10ifRRKo1Me1FC8/VVlOSHxpDDDBzx3 X-Received: by 2002:a05:6e02:2284:b0:3dd:f1bb:da0b with SMTP id e9e14a558f8ab-3e167019de7mr9042135ab.7.1752022123240; Tue, 08 Jul 2025 17:48:43 -0700 (PDT) Received: from postal.iol.unh.edu (postal.iol.unh.edu. [2606:4100:3880:1234::84]) by smtp-relay.gmail.com with ESMTPS id e9e14a558f8ab-3e0f9b7f37fsm7246415ab.28.2025.07.08.17.48.43 (version=TLS1_2 cipher=ECDHE-ECDSA-AES128-GCM-SHA256 bits=128/128); Tue, 08 Jul 2025 17:48:43 -0700 (PDT) X-Relaying-Domain: iol.unh.edu Date: Tue, 08 Jul 2025 17:48:43 -0700 (PDT) Message-ID: <686dbc6b.050a0220.329280.5c22SMTPIN_ADDED_MISSING@mx.google.com> Received: from [172.21.0.5] (unknown [172.18.0.240]) by postal.iol.unh.edu (Postfix) with ESMTP id B4D6C6051830; Tue, 8 Jul 2025 20:48:42 -0400 (EDT) Subject: |SUCCESS| pw154996 [PATCH] [v1] net/iavf: fix VLAN strip disabling f From: dpdklab@iol.unh.edu To: Test Report Cc: dpdk-test-reports@iol.unh.edu In-Reply-To: <20250703084234.8037-1-amiyaranjan.mohakud@gmail.com> References: <20250703084234.8037-1-amiyaranjan.mohakud@gmail.com> Content-Type: text/plain X-BeenThere: test-report@dpdk.org X-Mailman-Version: 2.1.29 Precedence: list List-Id: automatic DPDK test reports List-Unsubscribe: , List-Archive: List-Post: List-Help: List-Subscribe: , Errors-To: test-report-bounces@dpdk.org Test-Label: iol-abi-testing Test-Status: SUCCESS http://dpdk.org/patch/154996 _Testing PASS_ Submitter: Amiya Ranjan Mohakud Date: Thursday, July 03 2025 08:42:34 DPDK git baseline: Repo:dpdk Branch: master CommitID:a6b10031d251fcc7dadede461f7e1d005024b139 154996 --> testing pass Upstream job id: Generic-DPDK-Compile-ABI#133580 Test environment and result as below: +-------------------------------+----------+ | Environment | abi_test | +===============================+==========+ | CentOS Stream 9 | PASS | +-------------------------------+----------+ | Debian GNU/Linux 12 | PASS | +-------------------------------+----------+ | CentOS Stream 10 | PASS | +-------------------------------+----------+ | Fedora Linux 40 | PASS | +-------------------------------+----------+ | Fedora Linux 41 | PASS | +-------------------------------+----------+ | openSUSE Leap 15.6 | PASS | +-------------------------------+----------+ | Red Hat Enterprise Linux 8.10 | PASS | +-------------------------------+----------+ | Red Hat Enterprise Linux 9.5 | PASS | +-------------------------------+----------+ | Ubuntu 22.04 | PASS | +-------------------------------+----------+ | Ubuntu 24.04 | PASS | +-------------------------------+----------+ CentOS Stream 9 Kernel: 5.15 Compiler: gcc gcc (GCC) 11.5.0 20240719 (Red Hat 11.5.0-7) Debian GNU/Linux 12 Kernel: 5.15 Compiler: gcc gcc (Debian 12.2.0-14+deb12u1) 12.2.0 CentOS Stream 10 Kernel: 5.15 Compiler: gcc gcc (GCC) 14.2.1 20250110 (Red Hat 14.2.1-8) Fedora Linux 40 Kernel: 5.15 Compiler: gcc gcc (GCC) 14.2.1 20240912 (Red Hat 14.2.1-3) Fedora Linux 41 Kernel: 5.15 Compiler: clang gcc (GCC) 14.3.1 20250523 (Red Hat 14.3.1-1) openSUSE Leap 15.6 Kernel: 5.15 Compiler: gcc gcc (SUSE Linux) 7.5.0 Red Hat Enterprise Linux 8.10 Kernel: 5.15 Compiler: gcc gcc (GCC) 8.5.0 20210514 (Red Hat 8.5.0-22) Red Hat Enterprise Linux 9.5 Kernel: 5.15 Compiler: gcc gcc (GCC) 11.5.0 20240719 (Red Hat 11.5.0-2) Ubuntu 22.04 Kernel: 5.15 Compiler: gcc gcc (Ubuntu 11.4.0-1ubuntu1~22.04) 11.4.0 Ubuntu 24.04 Kernel: 5.15 Compiler: gcc gcc (Ubuntu 13.3.0-6ubuntu2~24.04) 13.3.0 To view detailed results, visit: https://lab.dpdk.org/results/dashboard/patchsets/33579/ UNH-IOL DPDK Community Lab To manage your email subscriptions, visit: https://lab.dpdk.org/results/dashboard/preferences/subscriptions/