From mboxrd@z Thu Jan 1 00:00:00 1970 Return-Path: Received: from mails.dpdk.org (mails.dpdk.org [217.70.189.124]) by inbox.dpdk.org (Postfix) with ESMTP id 5F4AB46A8F for ; Wed, 9 Jul 2025 02:49:59 +0200 (CEST) Received: from mails.dpdk.org (localhost [127.0.0.1]) by mails.dpdk.org (Postfix) with ESMTP id 5750C4013F; Wed, 9 Jul 2025 02:49:59 +0200 (CEST) Received: from mail-qk1-f227.google.com (mail-qk1-f227.google.com [209.85.222.227]) by mails.dpdk.org (Postfix) with ESMTP id A77F14013F for ; Wed, 9 Jul 2025 02:49:58 +0200 (CEST) Received: by mail-qk1-f227.google.com with SMTP id af79cd13be357-7d7f0fcef86so291611385a.1 for ; Tue, 08 Jul 2025 17:49:58 -0700 (PDT) DKIM-Signature: v=1; a=rsa-sha256; c=relaxed/relaxed; d=iol.unh.edu; s=unh-iol; t=1752022198; x=1752626998; darn=dpdk.org; h=references:in-reply-to:cc:to:from:subject:message-id:date:from:to :cc:subject:date:message-id:reply-to; bh=XdfY1qXEwRMN2iBn9nc32WhMRJ3ZyCOgFkOW1WyI7fM=; b=iRbGxvbdv0nd7vrAEjHnxXVgxbi2tdX1y1+hJmc+fPo9qAkpE4kRVO+MZ0BaLgqBaV 6nAls8UjOBHNqfhTMPZvZLBijuQazOOY7jH9dn3w+LnJTSTpHMc0R9m778u8DDMcWsu0 TCxu1r8HSga8hdy7nD3iehC9KPRGlOmbSuaoM= X-Google-DKIM-Signature: v=1; a=rsa-sha256; c=relaxed/relaxed; d=1e100.net; s=20230601; t=1752022198; x=1752626998; h=references:in-reply-to:cc:to:from:subject:message-id:date :x-gm-message-state:from:to:cc:subject:date:message-id:reply-to; bh=XdfY1qXEwRMN2iBn9nc32WhMRJ3ZyCOgFkOW1WyI7fM=; b=CxdM+SGWmSbEObnKZ6CYRcLXgnnpDfwwu5ick8JIFMlq1bY47OBekfU4VHz4FJshKY kqs1mXG0FryToDKXjwFDsi6OX5hkbmKgWkV6pxIKf2wn+EWxe3/pKY0jayKnZLRQOFjX 47CeTdkn8Z0zR4ehN5AtQffRHxM9ESyMd8o0CsemzPWSFGE77x/+zDgzzs9pSyk85Ouw mmTmbgMvKkF1VaeGItGsSxi1+xXJsFGOwSTMz9OveIyVnbghmrtyH3Mr8wq7W5BRWDVb fZ5DoxBguYcC5ahU7H/pbz0I1CuW7atbMBOo1EB4BYdUIf1khFwvsLE6EROO2ZTIMh+8 AoHg== X-Gm-Message-State: AOJu0YxbYIc3bxwx/KufIqJmhMovXqaItOYfC17/RaKhJ2pko3b1ci2m QTJHpGqTGue3i3haLFOGUHLBVqXFkJUJWcgDHvioJcSYQNVsMALn36wcOZW+YYNObPt87xMYxkG 727Z7W6s1ZO2V77qfULeGXuUOtvTeboVyPtrIBPoKoiKfbvlGJQQtleNuUwDw X-Gm-Gg: ASbGncujle2sS4aeN+k+ScnUrvT5lR20Dfjy+mdbD51wzednIlFOHnNm1fXkeqFDOQX YwcxyFtB0HacIKfnPJjuqBklbADT1JgarqCrmpFeprMrOFtUJ3MRws2OSczxIqpN4M9wt3jSSMX Bc7LfJvj8lPMSnRSds2b7lBDVZoBtIILEBc28Bc01Er4Lke4RbjPl2JjVQclo5EMnTwW30m50TD RLIHR26ia3N+cL4aV15yypJf22y81M8AqUC8eYWGJDHVEoDS6ZeshXBqLOtuP1dzpvmzn44gOlL lRIqdCU9gAKDYAYcdHcSuIKG3Nsj2s16kD2dVkb/v6kDMd4= X-Google-Smtp-Source: AGHT+IHvMD+8qMvEyxvA1RW8p/l+Idwt1GUuMdcwsglEetagZ5cB8qZIgC41B+f+Q+fkxENKsYUOqsgJwvsY X-Received: by 2002:a05:620a:3621:b0:7d4:2841:9c with SMTP id af79cd13be357-7db7fad1721mr113030985a.8.1752022198038; Tue, 08 Jul 2025 17:49:58 -0700 (PDT) Received: from postal.iol.unh.edu (postal.iol.unh.edu. [2606:4100:3880:1234::84]) by smtp-relay.gmail.com with ESMTPS id d75a77b69052e-4a9949ec06asm3422681cf.5.2025.07.08.17.49.57 (version=TLS1_2 cipher=ECDHE-ECDSA-AES128-GCM-SHA256 bits=128/128); Tue, 08 Jul 2025 17:49:58 -0700 (PDT) X-Relaying-Domain: iol.unh.edu Date: Tue, 08 Jul 2025 17:49:58 -0700 (PDT) Message-ID: <686dbcb6.050a0220.ee41f.232bSMTPIN_ADDED_MISSING@mx.google.com> Received: from [172.21.0.7] (unknown [172.18.0.240]) by postal.iol.unh.edu (Postfix) with ESMTP id B42146051830; Tue, 8 Jul 2025 20:49:57 -0400 (EDT) Subject: |WARNING| pw154996 [PATCH] [v1] net/iavf: fix VLAN strip disabling f From: dpdklab@iol.unh.edu To: Test Report Cc: dpdk-test-reports@iol.unh.edu In-Reply-To: <20250703084234.8037-1-amiyaranjan.mohakud@gmail.com> References: <20250703084234.8037-1-amiyaranjan.mohakud@gmail.com> Content-Type: text/plain X-BeenThere: test-report@dpdk.org X-Mailman-Version: 2.1.29 Precedence: list List-Id: automatic DPDK test reports List-Unsubscribe: , List-Archive: List-Post: List-Help: List-Subscribe: , Errors-To: test-report-bounces@dpdk.org Test-Label: iol-compile-amd64-testing Test-Status: WARNING http://dpdk.org/patch/154996 _Testing issues_ Submitter: Amiya Ranjan Mohakud Date: Thursday, July 03 2025 08:42:34 DPDK git baseline: Repo:dpdk Branch: master CommitID:a6b10031d251fcc7dadede461f7e1d005024b139 154996 --> testing issues Upstream job id: Generic-DPDK-Compile-Meson#406820 Test environment and result as below: +-------------------------------+--------------------+-------------------+------------------+-------------------+ | Environment | dpdk_meson_compile | dpdk_compile_spdk | dpdk_compile_ovs | dpdk_msvc_compile | +===============================+====================+===================+==================+===================+ | CentOS Stream 9 | PASS | PASS | SKIPPED | SKIPPED | +-------------------------------+--------------------+-------------------+------------------+-------------------+ | CentOS Stream 10 | PASS | SKIPPED | SKIPPED | SKIPPED | +-------------------------------+--------------------+-------------------+------------------+-------------------+ | Fedora Linux 40 | PASS | PASS | SKIPPED | SKIPPED | +-------------------------------+--------------------+-------------------+------------------+-------------------+ | Debian GNU/Linux 12 | PASS | PASS | SKIPPED | SKIPPED | +-------------------------------+--------------------+-------------------+------------------+-------------------+ | Fedora Linux 41 | PASS | PASS | PASS | SKIPPED | +-------------------------------+--------------------+-------------------+------------------+-------------------+ | openSUSE Leap 15.6 | PASS | SKIPPED | SKIPPED | SKIPPED | +-------------------------------+--------------------+-------------------+------------------+-------------------+ | Red Hat Enterprise Linux 8.10 | PASS | SKIPPED | SKIPPED | SKIPPED | +-------------------------------+--------------------+-------------------+------------------+-------------------+ | Ubuntu 20.04 | PASS | SKIPPED | SKIPPED | SKIPPED | +-------------------------------+--------------------+-------------------+------------------+-------------------+ | Ubuntu 24.04 | PASS | PASS | PASS | SKIPPED | +-------------------------------+--------------------+-------------------+------------------+-------------------+ | Ubuntu 22.04 | PASS | PASS | SKIPPED | SKIPPED | +-------------------------------+--------------------+-------------------+------------------+-------------------+ | Red Hat Enterprise Linux 9.5 | PASS | SKIPPED | SKIPPED | SKIPPED | +-------------------------------+--------------------+-------------------+------------------+-------------------+ | Alpine Linux 3.22.0 | PASS | SKIPPED | SKIPPED | SKIPPED | +-------------------------------+--------------------+-------------------+------------------+-------------------+ | FreeBSD 14.2 | PASS | SKIPPED | SKIPPED | SKIPPED | +-------------------------------+--------------------+-------------------+------------------+-------------------+ | Windows Server 2022 | SKIPPED | SKIPPED | SKIPPED | PASS | +-------------------------------+--------------------+-------------------+------------------+-------------------+ CentOS Stream 9 Kernel: 5.15 Compiler: gcc gcc (GCC) 11.5.0 20240719 (Red Hat 11.5.0-7) CentOS Stream 10 Kernel: 5.15 Compiler: gcc gcc (GCC) 14.2.1 20250110 (Red Hat 14.2.1-8) Fedora Linux 40 Kernel: 5.15 Compiler: clang gcc (GCC) 14.2.1 20240912 (Red Hat 14.2.1-3) Debian GNU/Linux 12 Kernel: 5.15 Compiler: gcc gcc (Debian 12.2.0-14+deb12u1) 12.2.0 Fedora Linux 41 Kernel: 5.15 Compiler: clang gcc (GCC) 14.3.1 20250523 (Red Hat 14.3.1-1) openSUSE Leap 15.6 Kernel: 5.15 Compiler: gcc gcc (SUSE Linux) 7.5.0 Red Hat Enterprise Linux 8.10 Kernel: 5.15 Compiler: gcc gcc (GCC) 8.5.0 20210514 (Red Hat 8.5.0-22) Ubuntu 20.04 Kernel: 5.15 Compiler: gcc gcc (Ubuntu 9.4.0-1ubuntu1~20.04.2) 9.4.0 Ubuntu 24.04 Kernel: 5.15 Compiler: gcc gcc (Ubuntu 13.3.0-6ubuntu2~24.04) 13.3.0 Ubuntu 22.04 Kernel: 5.15 Compiler: gcc gcc (Ubuntu 11.4.0-1ubuntu1~22.04) 11.4.0 Red Hat Enterprise Linux 9.5 Kernel: 5.15 Compiler: gcc gcc (GCC) 11.5.0 20240719 (Red Hat 11.5.0-2) Alpine Linux 3.22.0 Kernel: 5.15 Compiler: gcc gcc (Alpine 14.2.0) 14.2.0 FreeBSD 14.2 Kernel: 14.2-RELEASE Compiler: clang 18.1.6 Windows Server 2022 Kernel: 10.0.20348.2031 Compiler: clang 15.0.7, gcc 14.1.0 (MinGW), and MSVC VS 19.39.33521 To view detailed results, visit: https://lab.dpdk.org/results/dashboard/patchsets/33579/ UNH-IOL DPDK Community Lab To manage your email subscriptions, visit: https://lab.dpdk.org/results/dashboard/preferences/subscriptions/