From mboxrd@z Thu Jan 1 00:00:00 1970 Return-Path: Received: from mails.dpdk.org (mails.dpdk.org [217.70.189.124]) by inbox.dpdk.org (Postfix) with ESMTP id 6AFF946A8F for ; Wed, 9 Jul 2025 02:50:32 +0200 (CEST) Received: from mails.dpdk.org (localhost [127.0.0.1]) by mails.dpdk.org (Postfix) with ESMTP id 676DA4013F; Wed, 9 Jul 2025 02:50:32 +0200 (CEST) Received: from mail-io1-f100.google.com (mail-io1-f100.google.com [209.85.166.100]) by mails.dpdk.org (Postfix) with ESMTP id 2DD8E4013F for ; Wed, 9 Jul 2025 02:50:31 +0200 (CEST) Received: by mail-io1-f100.google.com with SMTP id ca18e2360f4ac-875b52a09d1so153203539f.0 for ; Tue, 08 Jul 2025 17:50:31 -0700 (PDT) DKIM-Signature: v=1; a=rsa-sha256; c=relaxed/relaxed; d=iol.unh.edu; s=unh-iol; t=1752022230; x=1752627030; darn=dpdk.org; h=references:in-reply-to:cc:to:from:subject:message-id:date:from:to :cc:subject:date:message-id:reply-to; bh=XW6V/k+Z2pPNfVz8MxVuc1rN/9vrrlyU73iNrCBa+/Y=; b=GIDlVyOVVp0p0IgHgwG63hbXjQr9rKRbV0wCggsqHQlfdAW7ngrFVOhd5L8nanQX0d 67WBhx0Q+h9oo0VfNcjNmpAr1A7InmUb9zVGXdJba7GqHl7D2T53XmVSiDfe6Sv2Tmiq /GiwVZIQlUEeCoNv82O0FTHBmXxyBddzY80Wg= X-Google-DKIM-Signature: v=1; a=rsa-sha256; c=relaxed/relaxed; d=1e100.net; s=20230601; t=1752022230; x=1752627030; h=references:in-reply-to:cc:to:from:subject:message-id:date :x-gm-message-state:from:to:cc:subject:date:message-id:reply-to; bh=XW6V/k+Z2pPNfVz8MxVuc1rN/9vrrlyU73iNrCBa+/Y=; b=D5uBkcdrtGr0WY4aWT7YmkC+i16BkFeXD7koSX9OIBcTAe0pVQXyYTQOcjO35k04gx +9i4elSWL9ynM3Q9wpIFqWLu0DQXR0F4Hme8cgq/gm3pd6/PodiVNOPoNxHCD3MAXv24 nAKDtKEFofo3gA8RlnNjaIAx5/qDsHmkq/61Zh110Er09CpS/6lt52PW7nESjxLCmOkI tJwKUMyRL6p13Jgdei4gBbVCy34ydzp9+5DzeKl8wKOkY2nZ8I0nV0FwoAb1NUyajICf LWbYnRchsBBGwjsbALzZPKBNmYUZUlzEMn3yXrpg3hxzJWXBuZ8nbv4vcQDvIXMPK65O 9t0w== X-Gm-Message-State: AOJu0Yza0VXbfw9zk7GkbrbK3mf5W0nhGkK/EHfQsIuWzb9IvolDOA43 TLj6D+tNl8Cg9QPevVZM4KUZWeIQK3fyytkBjZEH9psjBhu3rDyeoGeGBmLR1d54t8uofhrwxda xv14qZxxNVzjmsHxdopRNLLFat9uNZMKvI6bHF5A0HYUKnM1qBM4NqiNH4yUc X-Gm-Gg: ASbGnctbCZSvV28lOdkIfaaCYt4NNpkjA7sDjzC37kwESw/1SGV79qle3yq+eZzWbCU DYHfo0EELZvQrPOJ3KK6y3w02al9C2/ENZM6A3932apnJU14Idk4Ncr+dQVIUAhQHdrAPmyJcry XFGwT3bmK7JHP+HXpY+SpojOOnWkWJgSWLISRRGhlsQzsSSHdpTEtg0MFRkJUfdtXFRxx2JrBE3 WtqrPMj6SvkbxLFdzLMYuB1pelOXqhdMbU5+8zlvlKiuFKXtPEXV0/21iz9FEHNGz0QeZdzU5lf u8UDv6g6iMNe6k+CoA9zBnPYXCUOOBhreBtrb1twRZuuXw0= X-Google-Smtp-Source: AGHT+IGD2Gc93+kPDFTq9XJRzMP0oW4YY9OXcLo/87h8Pn8tpbS9Vqt+TGmeZZRHrza1Mcl2RHs+Y+olAm+Z X-Received: by 2002:a05:6e02:2167:b0:3df:3154:2e90 with SMTP id e9e14a558f8ab-3e1670fac99mr8132015ab.19.1752022230435; Tue, 08 Jul 2025 17:50:30 -0700 (PDT) Received: from postal.iol.unh.edu (postal.iol.unh.edu. [2606:4100:3880:1234::84]) by smtp-relay.gmail.com with ESMTPS id e9e14a558f8ab-3e0fe22122esm7181025ab.49.2025.07.08.17.50.30 (version=TLS1_2 cipher=ECDHE-ECDSA-AES128-GCM-SHA256 bits=128/128); Tue, 08 Jul 2025 17:50:30 -0700 (PDT) X-Relaying-Domain: iol.unh.edu Date: Tue, 08 Jul 2025 17:50:30 -0700 (PDT) Message-ID: <686dbcd6.050a0220.486e7.6db9SMTPIN_ADDED_MISSING@mx.google.com> Received: from [172.21.0.7] (unknown [172.18.0.240]) by postal.iol.unh.edu (Postfix) with ESMTP id E89C96051830; Tue, 8 Jul 2025 20:50:29 -0400 (EDT) Subject: |WARNING| pw154996 [PATCH] [v1] net/iavf: fix VLAN strip disabling f From: dpdklab@iol.unh.edu To: Test Report Cc: dpdk-test-reports@iol.unh.edu In-Reply-To: <20250703084234.8037-1-amiyaranjan.mohakud@gmail.com> References: <20250703084234.8037-1-amiyaranjan.mohakud@gmail.com> Content-Type: text/plain X-BeenThere: test-report@dpdk.org X-Mailman-Version: 2.1.29 Precedence: list List-Id: automatic DPDK test reports List-Unsubscribe: , List-Archive: List-Post: List-Help: List-Subscribe: , Errors-To: test-report-bounces@dpdk.org Test-Label: iol-compile-amd64-testing Test-Status: WARNING http://dpdk.org/patch/154996 _Testing issues_ Submitter: Amiya Ranjan Mohakud Date: Thursday, July 03 2025 08:42:34 DPDK git baseline: Repo:dpdk Branch: master CommitID:a6b10031d251fcc7dadede461f7e1d005024b139 154996 --> testing issues Upstream job id: Generic-DPDK-Compile-Meson#406818 Test environment and result as below: +-------------------------------+--------------------+-------------------+------------------+-------------------+ | Environment | dpdk_meson_compile | dpdk_compile_spdk | dpdk_compile_ovs | dpdk_msvc_compile | +===============================+====================+===================+==================+===================+ | CentOS Stream 9 | PASS | PASS | SKIPPED | SKIPPED | +-------------------------------+--------------------+-------------------+------------------+-------------------+ | CentOS Stream 10 | PASS | SKIPPED | SKIPPED | SKIPPED | +-------------------------------+--------------------+-------------------+------------------+-------------------+ | Fedora Linux 40 | PASS | PASS | SKIPPED | SKIPPED | +-------------------------------+--------------------+-------------------+------------------+-------------------+ | Debian GNU/Linux 12 | PASS | PASS | SKIPPED | SKIPPED | +-------------------------------+--------------------+-------------------+------------------+-------------------+ | Fedora Linux 41 | PASS | PASS | PASS | SKIPPED | +-------------------------------+--------------------+-------------------+------------------+-------------------+ | openSUSE Leap 15.6 | PASS | SKIPPED | SKIPPED | SKIPPED | +-------------------------------+--------------------+-------------------+------------------+-------------------+ | Red Hat Enterprise Linux 8.10 | PASS | SKIPPED | SKIPPED | SKIPPED | +-------------------------------+--------------------+-------------------+------------------+-------------------+ | Ubuntu 20.04 | PASS | SKIPPED | SKIPPED | SKIPPED | +-------------------------------+--------------------+-------------------+------------------+-------------------+ | Ubuntu 24.04 | PASS | PASS | PASS | SKIPPED | +-------------------------------+--------------------+-------------------+------------------+-------------------+ | Ubuntu 22.04 | PASS | PASS | SKIPPED | SKIPPED | +-------------------------------+--------------------+-------------------+------------------+-------------------+ | Red Hat Enterprise Linux 9.5 | PASS | SKIPPED | SKIPPED | SKIPPED | +-------------------------------+--------------------+-------------------+------------------+-------------------+ | Alpine Linux 3.22.0 | PASS | SKIPPED | SKIPPED | SKIPPED | +-------------------------------+--------------------+-------------------+------------------+-------------------+ | FreeBSD 14.2 | PASS | SKIPPED | SKIPPED | SKIPPED | +-------------------------------+--------------------+-------------------+------------------+-------------------+ | Windows Server 2022 | SKIPPED | SKIPPED | SKIPPED | PASS | +-------------------------------+--------------------+-------------------+------------------+-------------------+ CentOS Stream 9 Kernel: 5.15 Compiler: gcc gcc (GCC) 11.5.0 20240719 (Red Hat 11.5.0-7) CentOS Stream 10 Kernel: 5.15 Compiler: gcc gcc (GCC) 14.2.1 20250110 (Red Hat 14.2.1-8) Fedora Linux 40 Kernel: 5.15 Compiler: clang gcc (GCC) 14.2.1 20240912 (Red Hat 14.2.1-3) Debian GNU/Linux 12 Kernel: 5.15 Compiler: gcc gcc (Debian 12.2.0-14+deb12u1) 12.2.0 Fedora Linux 41 Kernel: 5.15 Compiler: clang gcc (GCC) 14.3.1 20250523 (Red Hat 14.3.1-1) openSUSE Leap 15.6 Kernel: 5.15 Compiler: gcc gcc (SUSE Linux) 7.5.0 Red Hat Enterprise Linux 8.10 Kernel: 5.15 Compiler: gcc gcc (GCC) 8.5.0 20210514 (Red Hat 8.5.0-22) Ubuntu 20.04 Kernel: 5.15 Compiler: gcc gcc (Ubuntu 9.4.0-1ubuntu1~20.04.2) 9.4.0 Ubuntu 24.04 Kernel: 5.15 Compiler: gcc gcc (Ubuntu 13.3.0-6ubuntu2~24.04) 13.3.0 Ubuntu 22.04 Kernel: 5.15 Compiler: gcc gcc (Ubuntu 11.4.0-1ubuntu1~22.04) 11.4.0 Red Hat Enterprise Linux 9.5 Kernel: 5.15 Compiler: gcc gcc (GCC) 11.5.0 20240719 (Red Hat 11.5.0-2) Alpine Linux 3.22.0 Kernel: 5.15 Compiler: gcc gcc (Alpine 14.2.0) 14.2.0 FreeBSD 14.2 Kernel: 14.2-RELEASE Compiler: clang 18.1.6 Windows Server 2022 Kernel: 10.0.20348.2031 Compiler: clang 15.0.7, gcc 14.1.0 (MinGW), and MSVC VS 19.39.33521 To view detailed results, visit: https://lab.dpdk.org/results/dashboard/patchsets/33579/ UNH-IOL DPDK Community Lab To manage your email subscriptions, visit: https://lab.dpdk.org/results/dashboard/preferences/subscriptions/