From mboxrd@z Thu Jan 1 00:00:00 1970 Return-Path: Received: from mails.dpdk.org (mails.dpdk.org [217.70.189.124]) by inbox.dpdk.org (Postfix) with ESMTP id 41D3C46A8F for ; Wed, 9 Jul 2025 03:07:59 +0200 (CEST) Received: from mails.dpdk.org (localhost [127.0.0.1]) by mails.dpdk.org (Postfix) with ESMTP id 39AE74013F; Wed, 9 Jul 2025 03:07:59 +0200 (CEST) Received: from mail-il1-f227.google.com (mail-il1-f227.google.com [209.85.166.227]) by mails.dpdk.org (Postfix) with ESMTP id 8D15B4013F for ; Wed, 9 Jul 2025 03:07:58 +0200 (CEST) Received: by mail-il1-f227.google.com with SMTP id e9e14a558f8ab-3df2d111fefso44415505ab.1 for ; Tue, 08 Jul 2025 18:07:58 -0700 (PDT) DKIM-Signature: v=1; a=rsa-sha256; c=relaxed/relaxed; d=iol.unh.edu; s=unh-iol; t=1752023278; x=1752628078; darn=dpdk.org; h=references:in-reply-to:cc:to:from:subject:message-id:date:from:to :cc:subject:date:message-id:reply-to; bh=Zq0dH+1K1vBXhvWN5Ph7jfBXElxlary5qnWy5Iwup0I=; b=cmWngr1E06F8/YuRPWE5Dy1B216auXzcMC2cDZBoUuqBc8J/4NVnBukJDgOaen7sbc aagB96Xau+mclr93czEWbyoeq59C4lmuXHHJm4GQyA8SLH2sjPj2yUPwXAiK+S328vRA Tw0G46CAICmanF6ZSYYf2jBBPNfE39QAIT2ww= X-Google-DKIM-Signature: v=1; a=rsa-sha256; c=relaxed/relaxed; d=1e100.net; s=20230601; t=1752023278; x=1752628078; h=references:in-reply-to:cc:to:from:subject:message-id:date :x-gm-message-state:from:to:cc:subject:date:message-id:reply-to; bh=Zq0dH+1K1vBXhvWN5Ph7jfBXElxlary5qnWy5Iwup0I=; b=ZuswqIZbkJ2z+aIX93wIB/QHygmvyXKsQ44mJZ/FZ64UGBKwNb0JNrbt/vSJwdBzSG EGvB7lt1gdPC9yFo/Gx7IaRKxy2qIOpYhr2FiS1vAgWnwJXbSPcAofHusuGjM3wZMIlA lWoQ4nwmdN5LD15worvN0hLNC+GzSaF1GATKjREFfY3J0x2ymz9JRxk7A/lEATy8CY41 bOvqiYfv3Z3Y8bywliPBvOdcLRrd5hDIxO8y8i9dhVnluraMVd9gh0Zf9NsvnfsxrMkn 10GrOlfYN1RvTu9dij0iE9lXOE6xQJvvO6aEJW3S1OK1HzkO8W3pDkygggrMCQtSLVsO ZsWw== X-Gm-Message-State: AOJu0Yx7wQoc0cvcLVitnp1x3Wyp28DNvjp9MJkRIBAkIe+S5mqhMsdI AL9ztgwLCt0ugHb0YdzWjy+9/oWNA03/c2zJIt7TxmtEwq81Zw+Sl0HeopA80fgmL/5vXvGcxSD RQZjHpz+pVHpsjqct/LhysW82rVWPDf567Xq9+3anMHpK X-Gm-Gg: ASbGncsdUU62iYZQlOhUjBKpRuwn8CJ4BDKAGBgRyUVg556LBtUIr2lB92dE/R3CZ9N AdMn9k8lOLb1dFC/cJr+WomQ/pt0XHrjlthx6EWJwgpSZR6VhdORlwOoh4iwfPS562GLvu0cssM /pNzXyzSh5P4jo+zkg110MPWgbV+SSPnlaZ0Z/ZiH7oVVAfepmV+i6tXzD0fbt/TF82Ouc4FX8e W51JrVY1pWPrMGf7Nc01AYtoYKHtOZHsYXSHVWoMBeLI6i0kfm3vxJO+Y6MpRmSiW4fevHlC/8m b34ZyYYQHJJ1Lyj/M8CIcTGX98s90g9dWRiSG2iXDGGmiOWM0ugFX+pCFw6LkLeus/OMwQ== X-Google-Smtp-Source: AGHT+IHV2lHKeVUbPHn91LZtBk1fo1P+DES/NF6ci6ndn9sIDVTFioetPl7XILEc3B3UTq7RI9dGbgDpInW4 X-Received: by 2002:a05:6e02:1a24:b0:3df:43d1:6a58 with SMTP id e9e14a558f8ab-3e1670f6912mr8269475ab.20.1752023277845; Tue, 08 Jul 2025 18:07:57 -0700 (PDT) Received: from postal.iol.unh.edu (postal.iol.unh.edu. [132.177.123.84]) by smtp-relay.gmail.com with ESMTPS id e9e14a558f8ab-3e0fe2212d5sm7161235ab.54.2025.07.08.18.07.57 (version=TLS1_2 cipher=ECDHE-ECDSA-AES128-GCM-SHA256 bits=128/128); Tue, 08 Jul 2025 18:07:57 -0700 (PDT) X-Relaying-Domain: iol.unh.edu Date: Tue, 08 Jul 2025 18:07:57 -0700 (PDT) Message-ID: <686dc0ed.050a0220.60e53.7540SMTPIN_ADDED_MISSING@mx.google.com> Received: from [172.21.0.5] (unknown [172.18.0.240]) by postal.iol.unh.edu (Postfix) with ESMTP id 766526051830; Tue, 8 Jul 2025 21:07:57 -0400 (EDT) Subject: |WARNING| pw154979-154986 [PATCH] [v7,8/8] bus/dpaa: optimize qman e From: dpdklab@iol.unh.edu To: Test Report Cc: dpdk-test-reports@iol.unh.edu In-Reply-To: <20250703052558.3700573-9-vanshika.shukla@nxp.com> References: <20250703052558.3700573-9-vanshika.shukla@nxp.com> Content-Type: text/plain X-BeenThere: test-report@dpdk.org X-Mailman-Version: 2.1.29 Precedence: list List-Id: automatic DPDK test reports List-Unsubscribe: , List-Archive: List-Post: List-Help: List-Subscribe: , Errors-To: test-report-bounces@dpdk.org Test-Label: iol-compile-amd64-testing Test-Status: WARNING http://dpdk.org/patch/154986 _Testing issues_ Submitter: Vanshika Shukla Date: Thursday, July 03 2025 05:25:58 DPDK git baseline: Repo:dpdk Branch: master CommitID:ba982f9a1ca9b96ed0394b764f1523d482e963a2 154979-154986 --> testing issues Upstream job id: Generic-DPDK-Compile-Meson#406848 Test environment and result as below: +-------------------------------+--------------------+-------------------+------------------+-------------------+ | Environment | dpdk_meson_compile | dpdk_compile_spdk | dpdk_compile_ovs | dpdk_msvc_compile | +===============================+====================+===================+==================+===================+ | CentOS Stream 9 | PASS | PASS | SKIPPED | SKIPPED | +-------------------------------+--------------------+-------------------+------------------+-------------------+ | Debian GNU/Linux 12 | PASS | PASS | SKIPPED | SKIPPED | +-------------------------------+--------------------+-------------------+------------------+-------------------+ | CentOS Stream 10 | PASS | SKIPPED | SKIPPED | SKIPPED | +-------------------------------+--------------------+-------------------+------------------+-------------------+ | Fedora Linux 40 | PASS | PASS | SKIPPED | SKIPPED | +-------------------------------+--------------------+-------------------+------------------+-------------------+ | Fedora Linux 41 | PASS | PASS | PASS | SKIPPED | +-------------------------------+--------------------+-------------------+------------------+-------------------+ | openSUSE Leap 15.6 | PEND | SKIPPED | SKIPPED | SKIPPED | +-------------------------------+--------------------+-------------------+------------------+-------------------+ | Ubuntu 24.04 | PASS | PASS | PASS | SKIPPED | +-------------------------------+--------------------+-------------------+------------------+-------------------+ | Ubuntu 22.04 | PASS | PASS | SKIPPED | SKIPPED | +-------------------------------+--------------------+-------------------+------------------+-------------------+ | Ubuntu 20.04 | PASS | SKIPPED | SKIPPED | SKIPPED | +-------------------------------+--------------------+-------------------+------------------+-------------------+ | FreeBSD 14.2 | PASS | SKIPPED | SKIPPED | SKIPPED | +-------------------------------+--------------------+-------------------+------------------+-------------------+ | Red Hat Enterprise Linux 9.5 | PASS | SKIPPED | SKIPPED | SKIPPED | +-------------------------------+--------------------+-------------------+------------------+-------------------+ | Alpine Linux 3.22.0 | PASS | SKIPPED | SKIPPED | SKIPPED | +-------------------------------+--------------------+-------------------+------------------+-------------------+ | Red Hat Enterprise Linux 8.10 | PASS | SKIPPED | SKIPPED | SKIPPED | +-------------------------------+--------------------+-------------------+------------------+-------------------+ | Windows Server 2022 | SKIPPED | SKIPPED | SKIPPED | PASS | +-------------------------------+--------------------+-------------------+------------------+-------------------+ CentOS Stream 9 Kernel: 5.15 Compiler: gcc gcc (GCC) 11.5.0 20240719 (Red Hat 11.5.0-7) Debian GNU/Linux 12 Kernel: 5.15 Compiler: gcc gcc (Debian 12.2.0-14+deb12u1) 12.2.0 CentOS Stream 10 Kernel: 5.15 Compiler: gcc gcc (GCC) 14.2.1 20250110 (Red Hat 14.2.1-8) Fedora Linux 40 Kernel: 5.15 Compiler: clang gcc (GCC) 14.2.1 20240912 (Red Hat 14.2.1-3) Fedora Linux 41 Kernel: 5.15 Compiler: clang gcc (GCC) 14.3.1 20250523 (Red Hat 14.3.1-1) openSUSE Leap 15.6 Kernel: 5.15 Compiler: gcc gcc (SUSE Linux) 7.5.0 Ubuntu 24.04 Kernel: 5.15 Compiler: gcc gcc (Ubuntu 13.3.0-6ubuntu2~24.04) 13.3.0 Ubuntu 22.04 Kernel: 5.15 Compiler: gcc gcc (Ubuntu 11.4.0-1ubuntu1~22.04) 11.4.0 Ubuntu 20.04 Kernel: 5.15 Compiler: gcc gcc (Ubuntu 9.4.0-1ubuntu1~20.04.2) 9.4.0 FreeBSD 14.2 Kernel: 14.2-RELEASE Compiler: clang 18.1.6 Red Hat Enterprise Linux 9.5 Kernel: 5.15 Compiler: gcc gcc (GCC) 11.5.0 20240719 (Red Hat 11.5.0-2) Alpine Linux 3.22.0 Kernel: 5.15 Compiler: gcc gcc (Alpine 14.2.0) 14.2.0 Red Hat Enterprise Linux 8.10 Kernel: 5.15 Compiler: gcc gcc (GCC) 8.5.0 20210514 (Red Hat 8.5.0-22) Windows Server 2022 Kernel: 10.0.20348.2031 Compiler: clang 15.0.7, gcc 14.1.0 (MinGW), and MSVC VS 19.39.33521 To view detailed results, visit: https://lab.dpdk.org/results/dashboard/patchsets/33576/ UNH-IOL DPDK Community Lab To manage your email subscriptions, visit: https://lab.dpdk.org/results/dashboard/preferences/subscriptions/