From mboxrd@z Thu Jan 1 00:00:00 1970 Return-Path: Received: from mails.dpdk.org (mails.dpdk.org [217.70.189.124]) by inbox.dpdk.org (Postfix) with ESMTP id 5217E46A8F for ; Wed, 9 Jul 2025 03:08:07 +0200 (CEST) Received: from mails.dpdk.org (localhost [127.0.0.1]) by mails.dpdk.org (Postfix) with ESMTP id 4E1D84013F; Wed, 9 Jul 2025 03:08:07 +0200 (CEST) Received: from mail-pf1-f226.google.com (mail-pf1-f226.google.com [209.85.210.226]) by mails.dpdk.org (Postfix) with ESMTP id E77D04013F for ; Wed, 9 Jul 2025 03:08:05 +0200 (CEST) Received: by mail-pf1-f226.google.com with SMTP id d2e1a72fcca58-7425bd5a83aso4339404b3a.0 for ; Tue, 08 Jul 2025 18:08:05 -0700 (PDT) DKIM-Signature: v=1; a=rsa-sha256; c=relaxed/relaxed; d=iol.unh.edu; s=unh-iol; t=1752023285; x=1752628085; darn=dpdk.org; h=references:in-reply-to:cc:to:from:subject:message-id:date:from:to :cc:subject:date:message-id:reply-to; bh=dN1bapr0MONgZONhR5UoSrFoaYhokUG1V8aG+UV/K6A=; b=NIIaTnMLHvbMhmvTIaD/bAq5LdOqRB1zwrOScA9iY4TZZNPARDI8LuRtP5f2zg5cuz af+aQovTi+EVCU5UUJlFs0s0ox+k90aajD9ss9ga3XZ0bnLiu3PnD3LbUrLQ9AMWYSx6 Exp/EMqkIPHDuAht+sh1oNTVyRWryJI5fBc3o= X-Google-DKIM-Signature: v=1; a=rsa-sha256; c=relaxed/relaxed; d=1e100.net; s=20230601; t=1752023285; x=1752628085; h=references:in-reply-to:cc:to:from:subject:message-id:date :x-gm-message-state:from:to:cc:subject:date:message-id:reply-to; bh=dN1bapr0MONgZONhR5UoSrFoaYhokUG1V8aG+UV/K6A=; b=Ubn2z7y0UtF5oHiefr4z8g2Qx+AdnNAW/aijNwBa0uxGCddxN9lG3N4Qt4MQ/Crc8I ryxtMZyhu5xBoD1GJtXj6+Ryx0z/ET+YYTtP67LjEqXwf+VFwBpudNKLcBGuBCKHdZhA ql+S41LjT5t5EdlSYcTmtDJQyjjmAUKggVnBgrtTFwzqlVVVLsoW/24UYzJT559m2CqX j/FD8yrv5JtMhFIPujK05eQ22ZhQc3XrXJHYqZ79RQCUy+78RBqQHUlRps6zT5DDLeXH EFD9XHKnDtkmS/Wa/vXMxa1K2JheGxwK8hAELCmpZfXls2SzNbyHQ2mlve3HUEQ8oBbM mjww== X-Gm-Message-State: AOJu0YyZ9Q6nP+UWtonNSbRqWh95Wc+f9mQgAaP4wkU4TCgfv4i7kNZL byVm7NDQpVy8/vdWUvnYdmKmDrQPxEwfWVz0MK1FU9CUiu9XcdiXCDAVfKNlwfAJxea1dhKZM2g 5l6Bn2mxF+SdsHSMY0GIz4mL9wT/O9pf4zCd+QfniFiwW7RVC7pnNPcNnbupx X-Gm-Gg: ASbGnctaBNWfzWXWhGGTw6FqlOdRsJVvve/sdZvuKQ0zovs2pbsL+DMG9OszGQaQdjM WHGDjOf6WnMr77v1328RnZ8oBolQ818k8QAw3SUSXcRs0v5bYqhX873ZJB5j4MOS2D76D8CecOD qGEwHcXOjKtpn5o8HeEeELoW8TfwWngnQ1IRI54ddxuA16YBLy4ci3qCpnawJ2ALAFK+xknLJcX abD3nAITcec94ovjx0VkrMIzqj5i4xkHjWzIsH9A6v7aZUxAXF8UDqqT2kpmSF32fOq2XhYdc3X cbKvhWSAHML/is4y67SqNWiLW0nF+CdsZhSgWYUYOpRiqd8= X-Google-Smtp-Source: AGHT+IG4EGgp+UJb2lgiE+en8SEEx81pTfriqMc3chASP/i+PcYqyz1zwJb9A8iOEZpXmnUAO3LCFKek62k3 X-Received: by 2002:a05:6a21:b95:b0:21a:ecf5:ea71 with SMTP id adf61e73a8af0-22cd6cb059bmr801116637.15.1752023284986; Tue, 08 Jul 2025 18:08:04 -0700 (PDT) Received: from postal.iol.unh.edu (postal.iol.unh.edu. [2606:4100:3880:1234::84]) by smtp-relay.gmail.com with ESMTPS id d2e1a72fcca58-74ce39098f8sm606363b3a.13.2025.07.08.18.08.04 (version=TLS1_2 cipher=ECDHE-ECDSA-AES128-GCM-SHA256 bits=128/128); Tue, 08 Jul 2025 18:08:04 -0700 (PDT) X-Relaying-Domain: iol.unh.edu Date: Tue, 08 Jul 2025 18:08:04 -0700 (PDT) Message-ID: <686dc0f4.050a0220.1c6806.f64dSMTPIN_ADDED_MISSING@mx.google.com> Received: from [172.21.0.7] (unknown [172.18.0.240]) by postal.iol.unh.edu (Postfix) with ESMTP id 346386051830; Tue, 8 Jul 2025 21:08:04 -0400 (EDT) Subject: |WARNING| pw154979-154986 [PATCH] [v7,8/8] bus/dpaa: optimize qman e From: dpdklab@iol.unh.edu To: Test Report Cc: dpdk-test-reports@iol.unh.edu In-Reply-To: <20250703052558.3700573-9-vanshika.shukla@nxp.com> References: <20250703052558.3700573-9-vanshika.shukla@nxp.com> Content-Type: text/plain X-BeenThere: test-report@dpdk.org X-Mailman-Version: 2.1.29 Precedence: list List-Id: automatic DPDK test reports List-Unsubscribe: , List-Archive: List-Post: List-Help: List-Subscribe: , Errors-To: test-report-bounces@dpdk.org Test-Label: iol-compile-amd64-testing Test-Status: WARNING http://dpdk.org/patch/154986 _Testing issues_ Submitter: Vanshika Shukla Date: Thursday, July 03 2025 05:25:58 DPDK git baseline: Repo:dpdk Branch: master CommitID:ba982f9a1ca9b96ed0394b764f1523d482e963a2 154979-154986 --> testing issues Upstream job id: Generic-DPDK-Compile-Meson#406850 Test environment and result as below: +-------------------------------+--------------------+-------------------+------------------+-------------------+ | Environment | dpdk_meson_compile | dpdk_compile_spdk | dpdk_compile_ovs | dpdk_msvc_compile | +===============================+====================+===================+==================+===================+ | CentOS Stream 9 | PASS | PASS | SKIPPED | SKIPPED | +-------------------------------+--------------------+-------------------+------------------+-------------------+ | Debian GNU/Linux 12 | PASS | PASS | SKIPPED | SKIPPED | +-------------------------------+--------------------+-------------------+------------------+-------------------+ | CentOS Stream 10 | PASS | SKIPPED | SKIPPED | SKIPPED | +-------------------------------+--------------------+-------------------+------------------+-------------------+ | Fedora Linux 40 | PASS | PASS | SKIPPED | SKIPPED | +-------------------------------+--------------------+-------------------+------------------+-------------------+ | Fedora Linux 41 | PASS | PASS | PASS | SKIPPED | +-------------------------------+--------------------+-------------------+------------------+-------------------+ | openSUSE Leap 15.6 | PEND | SKIPPED | SKIPPED | SKIPPED | +-------------------------------+--------------------+-------------------+------------------+-------------------+ | Ubuntu 24.04 | PASS | PASS | PASS | SKIPPED | +-------------------------------+--------------------+-------------------+------------------+-------------------+ | Ubuntu 22.04 | PASS | PASS | SKIPPED | SKIPPED | +-------------------------------+--------------------+-------------------+------------------+-------------------+ | Ubuntu 20.04 | PASS | SKIPPED | SKIPPED | SKIPPED | +-------------------------------+--------------------+-------------------+------------------+-------------------+ | FreeBSD 14.2 | PASS | SKIPPED | SKIPPED | SKIPPED | +-------------------------------+--------------------+-------------------+------------------+-------------------+ | Red Hat Enterprise Linux 9.5 | PASS | SKIPPED | SKIPPED | SKIPPED | +-------------------------------+--------------------+-------------------+------------------+-------------------+ | Alpine Linux 3.22.0 | PASS | SKIPPED | SKIPPED | SKIPPED | +-------------------------------+--------------------+-------------------+------------------+-------------------+ | Red Hat Enterprise Linux 8.10 | PASS | SKIPPED | SKIPPED | SKIPPED | +-------------------------------+--------------------+-------------------+------------------+-------------------+ | Windows Server 2022 | SKIPPED | SKIPPED | SKIPPED | PASS | +-------------------------------+--------------------+-------------------+------------------+-------------------+ CentOS Stream 9 Kernel: 5.15 Compiler: gcc gcc (GCC) 11.5.0 20240719 (Red Hat 11.5.0-7) Debian GNU/Linux 12 Kernel: 5.15 Compiler: gcc gcc (Debian 12.2.0-14+deb12u1) 12.2.0 CentOS Stream 10 Kernel: 5.15 Compiler: gcc gcc (GCC) 14.2.1 20250110 (Red Hat 14.2.1-8) Fedora Linux 40 Kernel: 5.15 Compiler: clang gcc (GCC) 14.2.1 20240912 (Red Hat 14.2.1-3) Fedora Linux 41 Kernel: 5.15 Compiler: clang gcc (GCC) 14.3.1 20250523 (Red Hat 14.3.1-1) openSUSE Leap 15.6 Kernel: 5.15 Compiler: gcc gcc (SUSE Linux) 7.5.0 Ubuntu 24.04 Kernel: 5.15 Compiler: gcc gcc (Ubuntu 13.3.0-6ubuntu2~24.04) 13.3.0 Ubuntu 22.04 Kernel: 5.15 Compiler: gcc gcc (Ubuntu 11.4.0-1ubuntu1~22.04) 11.4.0 Ubuntu 20.04 Kernel: 5.15 Compiler: gcc gcc (Ubuntu 9.4.0-1ubuntu1~20.04.2) 9.4.0 FreeBSD 14.2 Kernel: 14.2-RELEASE Compiler: clang 18.1.6 Red Hat Enterprise Linux 9.5 Kernel: 5.15 Compiler: gcc gcc (GCC) 11.5.0 20240719 (Red Hat 11.5.0-2) Alpine Linux 3.22.0 Kernel: 5.15 Compiler: gcc gcc (Alpine 14.2.0) 14.2.0 Red Hat Enterprise Linux 8.10 Kernel: 5.15 Compiler: gcc gcc (GCC) 8.5.0 20210514 (Red Hat 8.5.0-22) Windows Server 2022 Kernel: 10.0.20348.2031 Compiler: clang 15.0.7, gcc 14.1.0 (MinGW), and MSVC VS 19.39.33521 To view detailed results, visit: https://lab.dpdk.org/results/dashboard/patchsets/33576/ UNH-IOL DPDK Community Lab To manage your email subscriptions, visit: https://lab.dpdk.org/results/dashboard/preferences/subscriptions/