From mboxrd@z Thu Jan 1 00:00:00 1970 Return-Path: Received: from mails.dpdk.org (mails.dpdk.org [217.70.189.124]) by inbox.dpdk.org (Postfix) with ESMTP id 679A646A8F for ; Wed, 9 Jul 2025 03:08:10 +0200 (CEST) Received: from mails.dpdk.org (localhost [127.0.0.1]) by mails.dpdk.org (Postfix) with ESMTP id 6366F4013F; Wed, 9 Jul 2025 03:08:10 +0200 (CEST) Received: from mail-pl1-f228.google.com (mail-pl1-f228.google.com [209.85.214.228]) by mails.dpdk.org (Postfix) with ESMTP id 633B14013F for ; Wed, 9 Jul 2025 03:08:09 +0200 (CEST) Received: by mail-pl1-f228.google.com with SMTP id d9443c01a7336-235f9ea8d08so45136105ad.1 for ; Tue, 08 Jul 2025 18:08:09 -0700 (PDT) DKIM-Signature: v=1; a=rsa-sha256; c=relaxed/relaxed; d=iol.unh.edu; s=unh-iol; t=1752023288; x=1752628088; darn=dpdk.org; h=references:in-reply-to:cc:to:from:subject:message-id:date:from:to :cc:subject:date:message-id:reply-to; bh=qEinxjZkOmyCJpVYtDchd4zqoyRdpfZYfZI9EU7uE4I=; b=LNU62tc6bwr821urgsPLTqNMh3yGHMBlQDVei7K7mt3jXM5ptQM6Yq0Rf8W6FUvHmB sEq/1t9haFKWqXA2JhJrgETQRozDeU+8BpyxZhQI+lABLSTWTLgnP5Z+mBJ0WYa1IcuX mB50PbuiDHWqnJPYw3Z5vZ1dn9vpjJ+MoLnG0= X-Google-DKIM-Signature: v=1; a=rsa-sha256; c=relaxed/relaxed; d=1e100.net; s=20230601; t=1752023288; x=1752628088; h=references:in-reply-to:cc:to:from:subject:message-id:date :x-gm-message-state:from:to:cc:subject:date:message-id:reply-to; bh=qEinxjZkOmyCJpVYtDchd4zqoyRdpfZYfZI9EU7uE4I=; b=bjDmtOJrgPfhG1VHn3HoDVbZxi7JzQPgmBtrTXocULpNT9Y7N1fvQyzzhYgy+yjR0P RBo70Oo1Eale1HFl1kEqfZQ2wxO3bbEKUbq3GKtF5L9l/P0Wl1tsmIOrcYf5F2m9RRC9 khgFjyut3SYQ5Ebe4wKjeIZRye54HgOMBO0w9iT1skX7oMJWZJORGz+84KQLnSs67w9Q PJJRNFOEl2qslaKxT/I39M2MpnAxNIoJo83iqfP8Hu53BVigGsCfLJNOKXTSsqacaHdL 9D/BFSqzvxjdYfg+eroNqdXfgDOq3ytL5y/F8MiMRuW1dsddGKnyCC7G//qYxy1qHCl3 13IQ== X-Gm-Message-State: AOJu0YywrTb4ezksMCAUSgqX9CkbdGsm8lgCKKtDeXdFYCfK+SU3ElXA mVA2fFOTn0uR9Ag16YI+QXsPYBfvASR89tq5lDgpOtRGjFf68ppGZQZKsAZTJi5YvIubUXznMZs TcM5oVVp1o7dTUAqou0k22w0nTLVlcbXQnqH5UdBkWOR3 X-Gm-Gg: ASbGncv3n3wIoIVoGKQn+Cu9oAwbJwtdobGhTKQWRl+6nfexHScf2msRso6KIoSXlCC X4g3egyb1ueNrHSFdaxEZ1porqIzyiNWjFhp4yRl7VyVaFAxKRpHFnB5Uosete767eBBEDMH893 Al9wp56Pw+e4ZuH2LaSUZvahahbA5UYsMcztvNJPx9ZsJ+qiJktSulqL6m/+267g39Gc0qQSy0I pGT+Ew5PCcwXrTnHkEfV39VH0jHTF5FSeP8qJqJ3DI/wl792fjxifBQ183MoFRRwLa3bnrthTUv ABiBAjOyrGbUbUrdWww8ILZOOjP8gLTcivxLoT/4SKUAtqtRFaaRVD9hYtYbK7SV53NPBA== X-Google-Smtp-Source: AGHT+IH0shHYt/yvJy7ow43wxdkHEESxsSQ1Ibn83GzIRIVEJQOHDme0lZwpRL3PKt3xrBpIW+8EBJVAPpo5 X-Received: by 2002:a17:903:74e:b0:234:ed31:fc94 with SMTP id d9443c01a7336-23ddb312601mr5632975ad.26.1752023288526; Tue, 08 Jul 2025 18:08:08 -0700 (PDT) Received: from postal.iol.unh.edu (postal.iol.unh.edu. [132.177.123.84]) by smtp-relay.gmail.com with ESMTPS id d9443c01a7336-23c935228b9sm4265935ad.112.2025.07.08.18.08.08 (version=TLS1_2 cipher=ECDHE-ECDSA-AES128-GCM-SHA256 bits=128/128); Tue, 08 Jul 2025 18:08:08 -0700 (PDT) X-Relaying-Domain: iol.unh.edu Date: Tue, 08 Jul 2025 18:08:08 -0700 (PDT) Message-ID: <686dc0f8.170a0220.31273f.7460SMTPIN_ADDED_MISSING@mx.google.com> Received: from [172.21.0.8] (unknown [172.18.0.240]) by postal.iol.unh.edu (Postfix) with ESMTP id 03A3F6051830; Tue, 8 Jul 2025 21:08:08 -0400 (EDT) Subject: |WARNING| pw154979-154986 [PATCH] [v7,8/8] bus/dpaa: optimize qman e From: dpdklab@iol.unh.edu To: Test Report Cc: dpdk-test-reports@iol.unh.edu In-Reply-To: <20250703052558.3700573-9-vanshika.shukla@nxp.com> References: <20250703052558.3700573-9-vanshika.shukla@nxp.com> Content-Type: text/plain X-BeenThere: test-report@dpdk.org X-Mailman-Version: 2.1.29 Precedence: list List-Id: automatic DPDK test reports List-Unsubscribe: , List-Archive: List-Post: List-Help: List-Subscribe: , Errors-To: test-report-bounces@dpdk.org Test-Label: iol-compile-amd64-testing Test-Status: WARNING http://dpdk.org/patch/154986 _Testing issues_ Submitter: Vanshika Shukla Date: Thursday, July 03 2025 05:25:58 DPDK git baseline: Repo:dpdk Branch: master CommitID:ba982f9a1ca9b96ed0394b764f1523d482e963a2 154979-154986 --> testing issues Upstream job id: Generic-DPDK-Compile-Meson#406843 Test environment and result as below: +-------------------------------+--------------------+-------------------+------------------+-------------------+ | Environment | dpdk_meson_compile | dpdk_compile_spdk | dpdk_compile_ovs | dpdk_msvc_compile | +===============================+====================+===================+==================+===================+ | CentOS Stream 9 | PASS | PASS | SKIPPED | SKIPPED | +-------------------------------+--------------------+-------------------+------------------+-------------------+ | Debian GNU/Linux 12 | PASS | PASS | SKIPPED | SKIPPED | +-------------------------------+--------------------+-------------------+------------------+-------------------+ | CentOS Stream 10 | PASS | SKIPPED | SKIPPED | SKIPPED | +-------------------------------+--------------------+-------------------+------------------+-------------------+ | Fedora Linux 40 | PASS | PASS | SKIPPED | SKIPPED | +-------------------------------+--------------------+-------------------+------------------+-------------------+ | Fedora Linux 41 | PASS | PASS | PASS | SKIPPED | +-------------------------------+--------------------+-------------------+------------------+-------------------+ | openSUSE Leap 15.6 | PEND | SKIPPED | SKIPPED | SKIPPED | +-------------------------------+--------------------+-------------------+------------------+-------------------+ | Ubuntu 24.04 | PASS | PASS | PASS | SKIPPED | +-------------------------------+--------------------+-------------------+------------------+-------------------+ | Ubuntu 22.04 | PASS | PASS | SKIPPED | SKIPPED | +-------------------------------+--------------------+-------------------+------------------+-------------------+ | Ubuntu 20.04 | PASS | SKIPPED | SKIPPED | SKIPPED | +-------------------------------+--------------------+-------------------+------------------+-------------------+ | FreeBSD 14.2 | PASS | SKIPPED | SKIPPED | SKIPPED | +-------------------------------+--------------------+-------------------+------------------+-------------------+ | Red Hat Enterprise Linux 9.5 | PASS | SKIPPED | SKIPPED | SKIPPED | +-------------------------------+--------------------+-------------------+------------------+-------------------+ | Alpine Linux 3.22.0 | PASS | SKIPPED | SKIPPED | SKIPPED | +-------------------------------+--------------------+-------------------+------------------+-------------------+ | Red Hat Enterprise Linux 8.10 | PASS | SKIPPED | SKIPPED | SKIPPED | +-------------------------------+--------------------+-------------------+------------------+-------------------+ | Windows Server 2022 | SKIPPED | SKIPPED | SKIPPED | PASS | +-------------------------------+--------------------+-------------------+------------------+-------------------+ CentOS Stream 9 Kernel: 5.15 Compiler: gcc gcc (GCC) 11.5.0 20240719 (Red Hat 11.5.0-7) Debian GNU/Linux 12 Kernel: 5.15 Compiler: gcc gcc (Debian 12.2.0-14+deb12u1) 12.2.0 CentOS Stream 10 Kernel: 5.15 Compiler: gcc gcc (GCC) 14.2.1 20250110 (Red Hat 14.2.1-8) Fedora Linux 40 Kernel: 5.15 Compiler: clang gcc (GCC) 14.2.1 20240912 (Red Hat 14.2.1-3) Fedora Linux 41 Kernel: 5.15 Compiler: clang gcc (GCC) 14.3.1 20250523 (Red Hat 14.3.1-1) openSUSE Leap 15.6 Kernel: 5.15 Compiler: gcc gcc (SUSE Linux) 7.5.0 Ubuntu 24.04 Kernel: 5.15 Compiler: gcc gcc (Ubuntu 13.3.0-6ubuntu2~24.04) 13.3.0 Ubuntu 22.04 Kernel: 5.15 Compiler: gcc gcc (Ubuntu 11.4.0-1ubuntu1~22.04) 11.4.0 Ubuntu 20.04 Kernel: 5.15 Compiler: gcc gcc (Ubuntu 9.4.0-1ubuntu1~20.04.2) 9.4.0 FreeBSD 14.2 Kernel: 14.2-RELEASE Compiler: clang 18.1.6 Red Hat Enterprise Linux 9.5 Kernel: 5.15 Compiler: gcc gcc (GCC) 11.5.0 20240719 (Red Hat 11.5.0-2) Alpine Linux 3.22.0 Kernel: 5.15 Compiler: gcc gcc (Alpine 14.2.0) 14.2.0 Red Hat Enterprise Linux 8.10 Kernel: 5.15 Compiler: gcc gcc (GCC) 8.5.0 20210514 (Red Hat 8.5.0-22) Windows Server 2022 Kernel: 10.0.20348.2031 Compiler: clang 15.0.7, gcc 14.1.0 (MinGW), and MSVC VS 19.39.33521 To view detailed results, visit: https://lab.dpdk.org/results/dashboard/patchsets/33576/ UNH-IOL DPDK Community Lab To manage your email subscriptions, visit: https://lab.dpdk.org/results/dashboard/preferences/subscriptions/