From mboxrd@z Thu Jan 1 00:00:00 1970 Return-Path: Received: from mails.dpdk.org (mails.dpdk.org [217.70.189.124]) by inbox.dpdk.org (Postfix) with ESMTP id D38CA46A8F for ; Wed, 9 Jul 2025 03:08:26 +0200 (CEST) Received: from mails.dpdk.org (localhost [127.0.0.1]) by mails.dpdk.org (Postfix) with ESMTP id CBFA84013F; Wed, 9 Jul 2025 03:08:26 +0200 (CEST) Received: from mail-io1-f97.google.com (mail-io1-f97.google.com [209.85.166.97]) by mails.dpdk.org (Postfix) with ESMTP id 2C3754013F for ; Wed, 9 Jul 2025 03:08:25 +0200 (CEST) Received: by mail-io1-f97.google.com with SMTP id ca18e2360f4ac-86d0bd7ebb5so49349339f.0 for ; Tue, 08 Jul 2025 18:08:25 -0700 (PDT) DKIM-Signature: v=1; a=rsa-sha256; c=relaxed/relaxed; d=iol.unh.edu; s=unh-iol; t=1752023304; x=1752628104; darn=dpdk.org; h=references:in-reply-to:cc:to:from:subject:message-id:date:from:to :cc:subject:date:message-id:reply-to; bh=ZCmtamUQhdspUQ6PuB1gOLDr5KefwSAGx7jsFmstYmU=; b=XewiEmZ2hrsCIthc7J92zWNcMR0BCBW8WYfeTPXl5ZoOXOIdQ0zzW8eGgFZOcnmeiZ C/92ZRUqlVroJGQlAsqhWqY9HK999s0HlJknZd7Zg2jpPIcyGtn3mkMlqjmd9f4C0iLh IuFdpEB+0RNXVGLPy5V72Irl2kFHDrya6PnCg= X-Google-DKIM-Signature: v=1; a=rsa-sha256; c=relaxed/relaxed; d=1e100.net; s=20230601; t=1752023304; x=1752628104; h=references:in-reply-to:cc:to:from:subject:message-id:date :x-gm-message-state:from:to:cc:subject:date:message-id:reply-to; bh=ZCmtamUQhdspUQ6PuB1gOLDr5KefwSAGx7jsFmstYmU=; b=QVVxZAuRt3EfdH9kOUcF39YpDXeu8efmMV9itsAcbzJz/OjG/51kKob54ltdlnbvu+ K7w/1TOaVe5AQYWcVZn0WykoxI/bx1EiFOXrHQjaFEomDRQaj5mGQkMuH/hDks394VYs GhGhxzDU8HDhBAF16RM9bpsXQXn3aZhTU/3Ycl9ZJ1Idmw2U9m3rPRX+shT2nMLFAM5W xefI5Mu9YxmgnIZvDcg8fPM9w60boa8oMnuFgGNHijpOY+UdicAqEn0BEQGel8wmj5jG 4jUfxujEl/nB61KplHIlE8rslM90eFSiTuX4LKHKniUzDWcKgwH8MAmUgmMODTHlNzbJ ntAQ== X-Gm-Message-State: AOJu0YxFWgq4bVd+CNrfNkssLulV0rPIKllLQNAgUlC9Bz6uc/GdOYyw vblo9zNq7GMChc60pWNnPOllft08cmshylaossCFiVJptYwIRu5xLlaLsv5gsduDTHOmpqRzm5F 0SoKKy5ynfr9PPNq281cJFoEgu1iNjb5+7k1s5f3V87nZ X-Gm-Gg: ASbGncs+imGSH1P+vcV0CYwifAG4EkzGv+urpEJEjPUO/b0TpjEWjVhcrAc0Mqy9n95 2oYwESUfqlAOWhO00slF75AEoWw5x3a4uMYTsCBaHhStY84rGW06oAYzA9Qgf8mjMvr/AgdfgRK GsbpVTpb0I7NeShNLxBSMz0ZpOVsGxmidlL5moSCN1Rl+tTvc2nXA25G4c2Czv8rePgotMhIYj6 MqCmT7K1ZSKbXiBmAZoDU2XH1RDd/5PuWoVsQsDhIoFHSmeHXeG9/vzKaGg6nTzLbe/s3X/tSY3 5BYURfNXupC1LbbC4PcEAlz8uU5uPhC52U5NB3aKeQ89jBIbVbVcQVKdD124d/0I63XLTw== X-Google-Smtp-Source: AGHT+IFnMhnUuEUO7deByMkIt4sbL7drvMgfR7yJduXJJAUUTn2x4b5f1UGc4kI1fZQ9iwcyxwxDF6yNQLFP X-Received: by 2002:a05:6602:6d03:b0:875:ba1e:4d7e with SMTP id ca18e2360f4ac-8795b0b6e7dmr106387139f.6.1752023304446; Tue, 08 Jul 2025 18:08:24 -0700 (PDT) Received: from postal.iol.unh.edu (postal.iol.unh.edu. [132.177.123.84]) by smtp-relay.gmail.com with ESMTPS id 8926c6da1cb9f-503b5a12552sm411630173.24.2025.07.08.18.08.24 (version=TLS1_2 cipher=ECDHE-ECDSA-AES128-GCM-SHA256 bits=128/128); Tue, 08 Jul 2025 18:08:24 -0700 (PDT) X-Relaying-Domain: iol.unh.edu Date: Tue, 08 Jul 2025 18:08:24 -0700 (PDT) Message-ID: <686dc108.050a0220.16bbd7.54dfSMTPIN_ADDED_MISSING@mx.google.com> Received: from [172.21.0.6] (unknown [172.18.0.240]) by postal.iol.unh.edu (Postfix) with ESMTP id E98856051830; Tue, 8 Jul 2025 21:08:23 -0400 (EDT) Subject: |WARNING| pw154979-154986 [PATCH] [v7,8/8] bus/dpaa: optimize qman e From: dpdklab@iol.unh.edu To: Test Report Cc: dpdk-test-reports@iol.unh.edu In-Reply-To: <20250703052558.3700573-9-vanshika.shukla@nxp.com> References: <20250703052558.3700573-9-vanshika.shukla@nxp.com> Content-Type: text/plain X-BeenThere: test-report@dpdk.org X-Mailman-Version: 2.1.29 Precedence: list List-Id: automatic DPDK test reports List-Unsubscribe: , List-Archive: List-Post: List-Help: List-Subscribe: , Errors-To: test-report-bounces@dpdk.org Test-Label: iol-compile-amd64-testing Test-Status: WARNING http://dpdk.org/patch/154986 _Testing issues_ Submitter: Vanshika Shukla Date: Thursday, July 03 2025 05:25:58 DPDK git baseline: Repo:dpdk Branch: master CommitID:ba982f9a1ca9b96ed0394b764f1523d482e963a2 154979-154986 --> testing issues Upstream job id: Generic-DPDK-Compile-Meson#406846 Test environment and result as below: +-------------------------------+--------------------+-------------------+------------------+-------------------+ | Environment | dpdk_meson_compile | dpdk_compile_spdk | dpdk_compile_ovs | dpdk_msvc_compile | +===============================+====================+===================+==================+===================+ | CentOS Stream 9 | PASS | PASS | SKIPPED | SKIPPED | +-------------------------------+--------------------+-------------------+------------------+-------------------+ | Debian GNU/Linux 12 | PASS | PASS | SKIPPED | SKIPPED | +-------------------------------+--------------------+-------------------+------------------+-------------------+ | CentOS Stream 10 | PASS | SKIPPED | SKIPPED | SKIPPED | +-------------------------------+--------------------+-------------------+------------------+-------------------+ | Fedora Linux 40 | PASS | PASS | SKIPPED | SKIPPED | +-------------------------------+--------------------+-------------------+------------------+-------------------+ | Fedora Linux 41 | PASS | PASS | PASS | SKIPPED | +-------------------------------+--------------------+-------------------+------------------+-------------------+ | openSUSE Leap 15.6 | PEND | SKIPPED | SKIPPED | SKIPPED | +-------------------------------+--------------------+-------------------+------------------+-------------------+ | Ubuntu 24.04 | PASS | PASS | PASS | SKIPPED | +-------------------------------+--------------------+-------------------+------------------+-------------------+ | Ubuntu 22.04 | PASS | PASS | SKIPPED | SKIPPED | +-------------------------------+--------------------+-------------------+------------------+-------------------+ | Ubuntu 20.04 | PASS | SKIPPED | SKIPPED | SKIPPED | +-------------------------------+--------------------+-------------------+------------------+-------------------+ | FreeBSD 14.2 | PASS | SKIPPED | SKIPPED | SKIPPED | +-------------------------------+--------------------+-------------------+------------------+-------------------+ | Red Hat Enterprise Linux 9.5 | PASS | SKIPPED | SKIPPED | SKIPPED | +-------------------------------+--------------------+-------------------+------------------+-------------------+ | Alpine Linux 3.22.0 | PASS | SKIPPED | SKIPPED | SKIPPED | +-------------------------------+--------------------+-------------------+------------------+-------------------+ | Red Hat Enterprise Linux 8.10 | PASS | SKIPPED | SKIPPED | SKIPPED | +-------------------------------+--------------------+-------------------+------------------+-------------------+ | Windows Server 2022 | SKIPPED | SKIPPED | SKIPPED | PASS | +-------------------------------+--------------------+-------------------+------------------+-------------------+ CentOS Stream 9 Kernel: 5.15 Compiler: gcc gcc (GCC) 11.5.0 20240719 (Red Hat 11.5.0-7) Debian GNU/Linux 12 Kernel: 5.15 Compiler: gcc gcc (Debian 12.2.0-14+deb12u1) 12.2.0 CentOS Stream 10 Kernel: 5.15 Compiler: gcc gcc (GCC) 14.2.1 20250110 (Red Hat 14.2.1-8) Fedora Linux 40 Kernel: 5.15 Compiler: clang gcc (GCC) 14.2.1 20240912 (Red Hat 14.2.1-3) Fedora Linux 41 Kernel: 5.15 Compiler: clang gcc (GCC) 14.3.1 20250523 (Red Hat 14.3.1-1) openSUSE Leap 15.6 Kernel: 5.15 Compiler: gcc gcc (SUSE Linux) 7.5.0 Ubuntu 24.04 Kernel: 5.15 Compiler: gcc gcc (Ubuntu 13.3.0-6ubuntu2~24.04) 13.3.0 Ubuntu 22.04 Kernel: 5.15 Compiler: gcc gcc (Ubuntu 11.4.0-1ubuntu1~22.04) 11.4.0 Ubuntu 20.04 Kernel: 5.15 Compiler: gcc gcc (Ubuntu 9.4.0-1ubuntu1~20.04.2) 9.4.0 FreeBSD 14.2 Kernel: 14.2-RELEASE Compiler: clang 18.1.6 Red Hat Enterprise Linux 9.5 Kernel: 5.15 Compiler: gcc gcc (GCC) 11.5.0 20240719 (Red Hat 11.5.0-2) Alpine Linux 3.22.0 Kernel: 5.15 Compiler: gcc gcc (Alpine 14.2.0) 14.2.0 Red Hat Enterprise Linux 8.10 Kernel: 5.15 Compiler: gcc gcc (GCC) 8.5.0 20210514 (Red Hat 8.5.0-22) Windows Server 2022 Kernel: 10.0.20348.2031 Compiler: clang 15.0.7, gcc 14.1.0 (MinGW), and MSVC VS 19.39.33521 To view detailed results, visit: https://lab.dpdk.org/results/dashboard/patchsets/33576/ UNH-IOL DPDK Community Lab To manage your email subscriptions, visit: https://lab.dpdk.org/results/dashboard/preferences/subscriptions/