From mboxrd@z Thu Jan 1 00:00:00 1970 Return-Path: Received: from mails.dpdk.org (mails.dpdk.org [217.70.189.124]) by inbox.dpdk.org (Postfix) with ESMTP id E2CF246A8F for ; Wed, 9 Jul 2025 03:08:38 +0200 (CEST) Received: from mails.dpdk.org (localhost [127.0.0.1]) by mails.dpdk.org (Postfix) with ESMTP id DE5024013F; Wed, 9 Jul 2025 03:08:38 +0200 (CEST) Received: from mail-pf1-f227.google.com (mail-pf1-f227.google.com [209.85.210.227]) by mails.dpdk.org (Postfix) with ESMTP id 2FCE54013F for ; Wed, 9 Jul 2025 03:08:37 +0200 (CEST) Received: by mail-pf1-f227.google.com with SMTP id d2e1a72fcca58-74b54af901bso3142261b3a.2 for ; Tue, 08 Jul 2025 18:08:37 -0700 (PDT) DKIM-Signature: v=1; a=rsa-sha256; c=relaxed/relaxed; d=iol.unh.edu; s=unh-iol; t=1752023316; x=1752628116; darn=dpdk.org; h=references:in-reply-to:cc:to:from:subject:message-id:date:from:to :cc:subject:date:message-id:reply-to; bh=IB2LrHsxgdUVU2XapbzUdE/b7sXPbffP+BQ7SJVyZ/4=; b=NLYrarvcYHSj/FJklJOjf9j3xH6hXRvzfoHxmp89uh5jQdJBG4g0KbCWBu9TekAeX1 PNQCLSkTjG5jqTYYS2mux6fyM8uyM5Mn1q+dwaerrXDHsYuDfnaE+UiViQmdEAvPzPKk MLyl1qZBUuX0euFCvDzlZftSGnWVyfs/cD7OM= X-Google-DKIM-Signature: v=1; a=rsa-sha256; c=relaxed/relaxed; d=1e100.net; s=20230601; t=1752023316; x=1752628116; h=references:in-reply-to:cc:to:from:subject:message-id:date :x-gm-message-state:from:to:cc:subject:date:message-id:reply-to; bh=IB2LrHsxgdUVU2XapbzUdE/b7sXPbffP+BQ7SJVyZ/4=; b=KQBaeJNoOYWE64FYL0qdHDiUMJG9vMtifCPTDJ5tRanpywxBAuRqDKndB0FAjKQ2Yq 6fx7z/dj0dnPPqt5o5wTB8rifLJC6bIigqCE/4XvlDpi5JFUkl5zhHpPWgUMqeALEeKM v2Cn/Z+K0gpDq1SlSks27l9kgVOoZpWH0TQoi83C5OzzD1dogwSdCGJnSEbLT3yxtUya orsRhoWww0z7T/lxmLsGGLxjFm/6Q5MEG/DjbYfbqjcHNc6XufZKOlDox7VAl5UEm4Hq BpoO1PG+LYyUexXA1XKnJ1R/fk1ZcXps7JprtfA3ohIIjRUaoirMfT+/S38Xcnd3MBig nNUA== X-Gm-Message-State: AOJu0YziHq/iV5gaEUFr7R6LJel8idCEWqgolrIteU5xGZ8MmzMRXAU7 9/M46fWeTnA1gByCsft7apQa4a/Q1HnJrP3qi45mXcWFnnNZULYZMKPXmxhSCc+V9TAMiNd0Hak OXO6LYDnGl7jSAcfLVCzt+UFkPZ90lqZ4jLW/WgYRSTvPeqwRoUlMGZX7DSAn X-Gm-Gg: ASbGncseItxS+H+Dd/6w7dfvIoVxxY/phcv9ryy4p6oVlBU5+lavsRoRqQkwoGXUKw2 UR3L0ksF9XPf4HnfF3gZ0dEmbv2S/8HyqhgK+GZ/cWElMCCDgOG3DXYNOIgjoXrpslZzq6xwR/4 a3w6Lr/5ZzhzK2A6LX3YeswF7BYcVhLAtoRCFOxpDUqgdHuFSZFpVtDl0dsxqtRVHrjiWTeku4z Xo/fwwsHP1PXayYAwHLWY1KDwEt50jYFp2kOVYbr9vDNjNpG1JT0+E+NfKy0QXyTcByx2HaJ21L y6yVlEEghaz0WRaA2f+u85mRwDplRqqPrHeD29jzHplWLhE= X-Google-Smtp-Source: AGHT+IHDpdEQoybSq3Pc/ChUVGiQbQY/xxdoRvHYdrhpAyAlHQR/JwnWLYZQamI8NGmF73E2eFiM62jxnMB+ X-Received: by 2002:a05:6a20:3d0a:b0:21a:e751:e048 with SMTP id adf61e73a8af0-22cd827b5e3mr832950637.35.1752023316433; Tue, 08 Jul 2025 18:08:36 -0700 (PDT) Received: from postal.iol.unh.edu (postal.iol.unh.edu. [2606:4100:3880:1234::84]) by smtp-relay.gmail.com with ESMTPS id d2e1a72fcca58-74ce3d1aef6sm631318b3a.21.2025.07.08.18.08.36 (version=TLS1_2 cipher=ECDHE-ECDSA-AES128-GCM-SHA256 bits=128/128); Tue, 08 Jul 2025 18:08:36 -0700 (PDT) X-Relaying-Domain: iol.unh.edu Date: Tue, 08 Jul 2025 18:08:36 -0700 (PDT) Message-ID: <686dc114.050a0220.3158dc.1989SMTPIN_ADDED_MISSING@mx.google.com> Received: from [172.21.0.5] (unknown [172.18.0.240]) by postal.iol.unh.edu (Postfix) with ESMTP id 9F1786051830; Tue, 8 Jul 2025 21:08:35 -0400 (EDT) Subject: |WARNING| pw154979-154986 [PATCH] [v7,8/8] bus/dpaa: optimize qman e From: dpdklab@iol.unh.edu To: Test Report Cc: dpdk-test-reports@iol.unh.edu In-Reply-To: <20250703052558.3700573-9-vanshika.shukla@nxp.com> References: <20250703052558.3700573-9-vanshika.shukla@nxp.com> Content-Type: text/plain X-BeenThere: test-report@dpdk.org X-Mailman-Version: 2.1.29 Precedence: list List-Id: automatic DPDK test reports List-Unsubscribe: , List-Archive: List-Post: List-Help: List-Subscribe: , Errors-To: test-report-bounces@dpdk.org Test-Label: iol-compile-amd64-testing Test-Status: WARNING http://dpdk.org/patch/154986 _Testing issues_ Submitter: Vanshika Shukla Date: Thursday, July 03 2025 05:25:58 DPDK git baseline: Repo:dpdk Branch: master CommitID:ba982f9a1ca9b96ed0394b764f1523d482e963a2 154979-154986 --> testing issues Upstream job id: Generic-DPDK-Compile-Meson#406845 Test environment and result as below: +-------------------------------+--------------------+-------------------+------------------+-------------------+ | Environment | dpdk_meson_compile | dpdk_compile_spdk | dpdk_compile_ovs | dpdk_msvc_compile | +===============================+====================+===================+==================+===================+ | CentOS Stream 9 | PASS | PASS | SKIPPED | SKIPPED | +-------------------------------+--------------------+-------------------+------------------+-------------------+ | Debian GNU/Linux 12 | PASS | PASS | SKIPPED | SKIPPED | +-------------------------------+--------------------+-------------------+------------------+-------------------+ | CentOS Stream 10 | PASS | SKIPPED | SKIPPED | SKIPPED | +-------------------------------+--------------------+-------------------+------------------+-------------------+ | Fedora Linux 40 | PASS | PASS | SKIPPED | SKIPPED | +-------------------------------+--------------------+-------------------+------------------+-------------------+ | Fedora Linux 41 | PASS | PASS | PASS | SKIPPED | +-------------------------------+--------------------+-------------------+------------------+-------------------+ | openSUSE Leap 15.6 | PEND | SKIPPED | SKIPPED | SKIPPED | +-------------------------------+--------------------+-------------------+------------------+-------------------+ | Ubuntu 24.04 | PASS | PASS | PASS | SKIPPED | +-------------------------------+--------------------+-------------------+------------------+-------------------+ | Ubuntu 22.04 | PASS | PASS | SKIPPED | SKIPPED | +-------------------------------+--------------------+-------------------+------------------+-------------------+ | Ubuntu 20.04 | PASS | SKIPPED | SKIPPED | SKIPPED | +-------------------------------+--------------------+-------------------+------------------+-------------------+ | FreeBSD 14.2 | PASS | SKIPPED | SKIPPED | SKIPPED | +-------------------------------+--------------------+-------------------+------------------+-------------------+ | Red Hat Enterprise Linux 9.5 | PASS | SKIPPED | SKIPPED | SKIPPED | +-------------------------------+--------------------+-------------------+------------------+-------------------+ | Alpine Linux 3.22.0 | PASS | SKIPPED | SKIPPED | SKIPPED | +-------------------------------+--------------------+-------------------+------------------+-------------------+ | Red Hat Enterprise Linux 8.10 | PASS | SKIPPED | SKIPPED | SKIPPED | +-------------------------------+--------------------+-------------------+------------------+-------------------+ | Windows Server 2022 | SKIPPED | SKIPPED | SKIPPED | PASS | +-------------------------------+--------------------+-------------------+------------------+-------------------+ CentOS Stream 9 Kernel: 5.15 Compiler: gcc gcc (GCC) 11.5.0 20240719 (Red Hat 11.5.0-7) Debian GNU/Linux 12 Kernel: 5.15 Compiler: gcc gcc (Debian 12.2.0-14+deb12u1) 12.2.0 CentOS Stream 10 Kernel: 5.15 Compiler: gcc gcc (GCC) 14.2.1 20250110 (Red Hat 14.2.1-8) Fedora Linux 40 Kernel: 5.15 Compiler: clang gcc (GCC) 14.2.1 20240912 (Red Hat 14.2.1-3) Fedora Linux 41 Kernel: 5.15 Compiler: clang gcc (GCC) 14.3.1 20250523 (Red Hat 14.3.1-1) openSUSE Leap 15.6 Kernel: 5.15 Compiler: gcc gcc (SUSE Linux) 7.5.0 Ubuntu 24.04 Kernel: 5.15 Compiler: gcc gcc (Ubuntu 13.3.0-6ubuntu2~24.04) 13.3.0 Ubuntu 22.04 Kernel: 5.15 Compiler: gcc gcc (Ubuntu 11.4.0-1ubuntu1~22.04) 11.4.0 Ubuntu 20.04 Kernel: 5.15 Compiler: gcc gcc (Ubuntu 9.4.0-1ubuntu1~20.04.2) 9.4.0 FreeBSD 14.2 Kernel: 14.2-RELEASE Compiler: clang 18.1.6 Red Hat Enterprise Linux 9.5 Kernel: 5.15 Compiler: gcc gcc (GCC) 11.5.0 20240719 (Red Hat 11.5.0-2) Alpine Linux 3.22.0 Kernel: 5.15 Compiler: gcc gcc (Alpine 14.2.0) 14.2.0 Red Hat Enterprise Linux 8.10 Kernel: 5.15 Compiler: gcc gcc (GCC) 8.5.0 20210514 (Red Hat 8.5.0-22) Windows Server 2022 Kernel: 10.0.20348.2031 Compiler: clang 15.0.7, gcc 14.1.0 (MinGW), and MSVC VS 19.39.33521 To view detailed results, visit: https://lab.dpdk.org/results/dashboard/patchsets/33576/ UNH-IOL DPDK Community Lab To manage your email subscriptions, visit: https://lab.dpdk.org/results/dashboard/preferences/subscriptions/